Workbook

Sheet Inicio
B16: Secciones de Violencia sobre la Mujer del T.I.
B18: Denuncias
B19: Renuncias
B20: Víctimas
B21: Órdenes y Medidas
B22: Personas Enjuiciadas
B24: Secciones de lo Penal del T.I./Procesos de Violencia de Género/Personas Enjuiciadas
B25: Secciones de lo Penal del T.I./Procesos de Violencia de Género/Sentencias
B26: Secciones de Menores del T.I./Procesos de Violencia de Género/Personas Enjuiciadas
B27: Secciones de Menores del T.I./Procesos de Violencia de Género/Sentencias
B28: Secciones de Instrucción en funciones de Guardia/Procesos de Violencia de Género
B29: Secciones de Instrucción en funciones de Guardia/Procesos de Violencia de Género/Órdenes de Protección
... B34: Audiencia Provincial/Procesos de Violencia de Género/Sentencias

Sheet Evolución Denuncias
C8: 2º trimestre 2025 | K8: 2º trimestre 2026
C9: Denuncias recibidas | D9: Presentada directamente por victima en el juzgado | E9: Presentada directamente por familiares | F9: Atestados policiales | I9: Parte de lesiones recibido directamente en el juzgado | J9: Servicios asistencia-Terceros en general | K9: Denuncias recibidas | L9: Presentada directamente por victima en el juzgado | M9: Presentada directamente por familiares | N9: Atestados policiales | Q9: Parte de lesiones recibido directamente en el juzgado | R9: Servicios asistencia-Terceros en general
F10: con denuncia victima | G10: con denuncia familiar | H10: por intervención directa policial | N10: con denuncia victima | O10: con denuncia familiar | P10: por intervención directa policial
B11: Andalucía | C11: 10811 | D11: 91 | E11: 5 | F11: 7788 | G11: 184 | H11: 1285 | I11: 982 | J11: 476 | K11: 11607 | L11: 79 | M11: 6 | N11: 8802 | O11: 139 | P11: 1266 | Q11: 699 | R11: 616
B12: Aragón | C12: 1200 | D12: 20 | E12: 6 | F12: 721 | G12: 12 | H12: 305 | I12: 110 | J12: 26 | K12: 1254 | L12: 10 | M12: 0 | N12: 855 | O12: 10 | P12: 271 | Q12: 67 | R12: 41
B13: Asturias | C13: 885 | D13: 20 | E13: 1 | F13: 457 | G13: 7 | H13: 205 | I13: 152 | J13: 43 | K13: 1194 | L13: 19 | M13: 0 | N13: 696 | O13: 37 | P13: 287 | Q13: 116 | R13: 39
B14: Illes Balears | C14: 1878 | D14: 112 | E14: 9 | F14: 1023 | G14: 55 | H14: 437 | I14: 198 | J14: 44 | K14: 2098 | L14: 29 | M14: 8 | N14: 1358 | O14: 83 | P14: 258 | Q14: 310 | R14: 52
B15: Canarias | C15: 2841 | D15: 23 | E15: 1 | F15: 1747 | G15: 74 | H15: 558 | I15: 406 | J15: 32 | K15: 2995 | L15: 7 | M15: 7 | N15: 1908 | O15: 133 | P15: 420 | Q15: 434 | R15: 86
B16: Cantabria | C16: 545 | D16: 0 | E16: 0 | F16: 344 | G16: 6 | H16: 140 | I16: 30 | J16: 25 | K16: 487 | L16: 0 | M16: 0 | N16: 357 | O16: 0 | P16: 54 | Q16: 47 | R16: 29
B17: Castilla y León | C17: 1542 | D17: 4 | E17: 0 | F17: 1120 | G17: 44 | H17: 337 | I17: 32 | J17: 5 | K17: 1660 | L17: 7 | M17: 0 | N17: 1390 | O17: 22 | P17: 228 | Q17: 12 | R17: 1
B18: Castilla-La Mancha | C18: 1799 | D18: 17 | E18: 11 | F18: 1335 | G18: 31 | H18: 267 | I18: 90 | J18: 48 | K18: 2169 | L18: 10 | M18: 0 | N18: 1748 | O18: 54 | P18: 231 | Q18: 46 | R18: 80
B19: Cataluña | C19: 6382 | D19: 20 | E19: 2 | F19: 4839 | G19: 73 | H19: 965 | I19: 422 | J19: 61 | K19: 6765 | L19: 14 | M19: 0 | N19: 5366 | O19: 28 | P19: 874 | Q19: 441 | R19: 42
B20: Comunitat Valenciana | C20: 6982 | D20: 51 | E20: 27 | F20: 4617 | G20: 251 | H20: 917 | I20: 627 | J20: 492 | K20: 7284 | L20: 18 | M20: 5 | N20: 5319 | O20: 80 | P20: 1128 | Q20: 583 | R20: 151
B21: Extremadura | C21: 797 | D21: 0 | E21: 0 | F21: 582 | G21: 14 | H21: 145 | I21: 48 | J21: 8 | K21: 1019 | L21: 12 | M21: 0 | N21: 743 | O21: 5 | P21: 221 | Q21: 38 | R21: 0
B22: Galicia | C22: 2051 | D22: 17 | E22: 0 | F22: 1684 | G22: 21 | H22: 231 | I22: 62 | J22: 36 | K22: 2222 | L22: 22 | M22: 0 | N22: 1699 | O22: 31 | P22: 320 | Q22: 90 | R22: 60
... B27: La Rioja | C27: 282 | D27: 0 | E27: 0 | F27: 224 | G27: 0 | H27: 58 | I27: 0 | J27: 0 | K27: 243 | L27: 0 | M27: 0 | N27: 174 | O27: 0 | P27: 69 | Q27: 0 | R27: 0
B28: España | C28: =SUM(C11:C27) -> 50737 | D28: =SUM(D11:D27) -> 501 | E28: =SUM(E11:E27) -> 106 | F28: =SUM(F11:F27) -> 35511 | G28: =SUM(G11:G27) -> 908 | H28: =SUM(H11:H27) -> 8449 | I28: =SUM(I11:I27) -> 3676 | J28: =SUM(J11:J27) -> 1586 | ... R28: =SUM(R11:R27) -> 1465
C32: Evolución de las Denuncias Recibidas
C33: 2º trimestre 2026/2º trimestre 2025
C34: Denuncias recibidas | D34: Presentada directamente por victima en el juzgado | E34: Presentada directamente por familiares | F34: Atestados policiales | I34: Parte de lesiones recibido directamente en el juzgado | J34: Servicios asistencia-Terceros en general
F35: con denuncia victima | G35: con denuncia familiar | H35: por intervención directa policial
B36: Andalucía | C36: =IF(C11>0,(K11-C11)/C11,"-") -> 0.073628711 | D36: =IF(D11>0,(L11-D11)/D11,"-") -> -0.13186813 | E36: =IF(E11>0,(M11-E11)/E11,"-") -> 0.2 | F36: =IF(F11>0,(N11-F11)/F11,"-") -> 0.13020031 | G36: =IF(G11>0,(O11-G11)/G11,"-") -> -0.24456522 | H36: =IF(H11>0,(P11-H11)/H11,"-") -> -0.014785992 | I36: =IF(I11>0,(Q11-I11)/I11,"-") -> -0.28818737 | J36: =IF(J11>0,(R11-J11)/J11,"-") -> 0.29411765
B37: Aragón | C37: =IF(C12>0,(K12-C12)/C12,"-") -> 0.045 | D37: =IF(D12>0,(L12-D12)/D12,"-") -> -0.5 | E37: =IF(E12>0,(M12-E12)/E12,"-") -> -1 | F37: =IF(F12>0,(N12-F12)/F12,"-") -> 0.18585298 | G37: =IF(G12>0,(O12-G12)/G12,"-") -> -0.16666667 | H37: =IF(H12>0,(P12-H12)/H12,"-") -> -0.11147541 | I37: =IF(I12>0,(Q12-I12)/I12,"-") -> -0.39090909 | J37: =IF(J12>0,(R12-J12)/J12,"-") -> 0.57692308
B38: Asturias | C38: =IF(C13>0,(K13-C13)/C13,"-") -> 0.34915254 | D38: =IF(D13>0,(L13-D13)/D13,"-") -> -0.05 | E38: =IF(E13>0,(M13-E13)/E13,"-") -> -1 | F38: =IF(F13>0,(N13-F13)/F13,"-") -> 0.52297593 | G38: =IF(G13>0,(O13-G13)/G13,"-") -> 4.2857143 | H38: =IF(H13>0,(P13-H13)/H13,"-") -> 0.4 | I38: =IF(I13>0,(Q13-I13)/I13,"-") -> -0.23684211 | J38: =IF(J13>0,(R13-J13)/J13,"-") -> -0.093023256
B39: Illes Balears | C39: =IF(C14>0,(K14-C14)/C14,"-") -> 0.1171459 | D39: =IF(D14>0,(L14-D14)/D14,"-") -> -0.74107143 | E39: =IF(E14>0,(M14-E14)/E14,"-") -> -0.11111111 | F39: =IF(F14>0,(N14-F14)/F14,"-") -> 0.32746823 | G39: =IF(G14>0,(O14-G14)/G14,"-") -> 0.50909091 | H39: =IF(H14>0,(P14-H14)/H14,"-") -> -0.40961098 | I39: =IF(I14>0,(Q14-I14)/I14,"-") -> 0.56565657 | J39: =IF(J14>0,(R14-J14)/J14,"-") -> 0.18181818
B40: Canarias | C40: =IF(C15>0,(K15-C15)/C15,"-") -> 0.054206265 | D40: =IF(D15>0,(L15-D15)/D15,"-") -> -0.69565217 | E40: =IF(E15>0,(M15-E15)/E15,"-") -> 6 | F40: =IF(F15>0,(N15-F15)/F15,"-") -> 0.092157985 | G40: =IF(G15>0,(O15-G15)/G15,"-") -> 0.7972973 | H40: =IF(H15>0,(P15-H15)/H15,"-") -> -0.24731183 | I40: =IF(I15>0,(Q15-I15)/I15,"-") -> 0.068965517 | J40: =IF(J15>0,(R15-J15)/J15,"-") -> 1.6875
B41: Cantabria | C41: =IF(C16>0,(K16-C16)/C16,"-") -> -0.10642202 | D41: =IF(D16>0,(L16-D16)/D16,"-") -> - | E41: =IF(E16>0,(M16-E16)/E16,"-") -> - | F41: =IF(F16>0,(N16-F16)/F16,"-") -> 0.037790698 | G41: =IF(G16>0,(O16-G16)/G16,"-") -> -1 | H41: =IF(H16>0,(P16-H16)/H16,"-") -> -0.61428571 | I41: =IF(I16>0,(Q16-I16)/I16,"-") -> 0.56666667 | J41: =IF(J16>0,(R16-J16)/J16,"-") -> 0.16
B42: Castilla y León | C42: =IF(C17>0,(K17-C17)/C17,"-") -> 0.076523995 | D42: =IF(D17>0,(L17-D17)/D17,"-") -> 0.75 | E42: =IF(E17>0,(M17-E17)/E17,"-") -> - | F42: =IF(F17>0,(N17-F17)/F17,"-") -> 0.24107143 | G42: =IF(G17>0,(O17-G17)/G17,"-") -> -0.5 | H42: =IF(H17>0,(P17-H17)/H17,"-") -> -0.32344214 | I42: =IF(I17>0,(Q17-I17)/I17,"-") -> -0.625 | J42: =IF(J17>0,(R17-J17)/J17,"-") -> -0.8
B43: Castilla-La Mancha | C43: =IF(C18>0,(K18-C18)/C18,"-") -> 0.20566982 | D43: =IF(D18>0,(L18-D18)/D18,"-") -> -0.41176471 | E43: =IF(E18>0,(M18-E18)/E18,"-") -> -1 | F43: =IF(F18>0,(N18-F18)/F18,"-") -> 0.3093633 | G43: =IF(G18>0,(O18-G18)/G18,"-") -> 0.74193548 | H43: =IF(H18>0,(P18-H18)/H18,"-") -> -0.13483146 | I43: =IF(I18>0,(Q18-I18)/I18,"-") -> -0.48888889 | J43: =IF(J18>0,(R18-J18)/J18,"-") -> 0.66666667
B44: Cataluña | C44: =IF(C19>0,(K19-C19)/C19,"-") -> 0.060012535 | D44: =IF(D19>0,(L19-D19)/D19,"-") -> -0.3 | E44: =IF(E19>0,(M19-E19)/E19,"-") -> -1 | F44: =IF(F19>0,(N19-F19)/F19,"-") -> 0.1089068 | G44: =IF(G19>0,(O19-G19)/G19,"-") -> -0.61643836 | H44: =IF(H19>0,(P19-H19)/H19,"-") -> -0.094300518 | I44: =IF(I19>0,(Q19-I19)/I19,"-") -> 0.045023697 | J44: =IF(J19>0,(R19-J19)/J19,"-") -> -0.31147541
B45: Comunitat Valenciana | C45: =IF(C20>0,(K20-C20)/C20,"-") -> 0.043254082 | D45: =IF(D20>0,(L20-D20)/D20,"-") -> -0.64705882 | E45: =IF(E20>0,(M20-E20)/E20,"-") -> -0.81481481 | F45: =IF(F20>0,(N20-F20)/F20,"-") -> 0.15204678 | G45: =IF(G20>0,(O20-G20)/G20,"-") -> -0.6812749 | H45: =IF(H20>0,(P20-H20)/H20,"-") -> 0.23009815 | I45: =IF(I20>0,(Q20-I20)/I20,"-") -> -0.070175439 | J45: =IF(J20>0,(R20-J20)/J20,"-") -> -0.69308943
B46: Extremadura | C46: =IF(C21>0,(K21-C21)/C21,"-") -> 0.27854454 | D46: =IF(D21>0,(L21-D21)/D21,"-") -> - | E46: =IF(E21>0,(M21-E21)/E21,"-") -> - | F46: =IF(F21>0,(N21-F21)/F21,"-") -> 0.2766323 | G46: =IF(G21>0,(O21-G21)/G21,"-") -> -0.64285714 | H46: =IF(H21>0,(P21-H21)/H21,"-") -> 0.52413793 | I46: =IF(I21>0,(Q21-I21)/I21,"-") -> -0.20833333 | J46: =IF(J21>0,(R21-J21)/J21,"-") -> -1
B47: Galicia | C47: =IF(C22>0,(K22-C22)/C22,"-") -> 0.083373964 | D47: =IF(D22>0,(L22-D22)/D22,"-") -> 0.29411765 | E47: =IF(E22>0,(M22-E22)/E22,"-") -> - | F47: =IF(F22>0,(N22-F22)/F22,"-") -> 0.0089073634 | G47: =IF(G22>0,(O22-G22)/G22,"-") -> 0.47619048 | H47: =IF(H22>0,(P22-H22)/H22,"-") -> 0.38528139 | I47: =IF(I22>0,(Q22-I22)/I22,"-") -> 0.4516129 | J47: =IF(J22>0,(R22-J22)/J22,"-") -> 0.66666667
... B53: España | C53: =IF(C28>0,(K28-C28)/C28,"-") -> 0.098054674 | D53: =IF(D28>0,(L28-D28)/D28,"-") -> -0.23153693 | E53: =IF(E28>0,(M28-E28)/E28,"-") -> -0.66037736 | F53: =IF(F28>0,(N28-F28)/F28,"-") -> 0.16620202 | G53: =IF(G28>0,(O28-G28)/G28,"-") -> -0.10462555 | H53: =IF(H28>0,(P28-H28)/H28,"-") -> -0.048763167 | I53: =IF(I28>0,(Q28-I28)/I28,"-") -> -0.030739935 | J53: =IF(J28>0,(R28-J28)/J28,"-") -> -0.07629256

Sheet Evolución Renuncias
C8: 2º trimestre 2025 | G8: 2º trimestre 2026 | K8: Evolución 2º trimestre 2026/2º trimestre 2025
C9: Casos en los que la victima se acoge a la dispensa a la obligación de declarar como testigo | F9: Ratio Casos en los que la victima se acoge a la dispensa a la obligación de declarar como testigo sobre denuncias | G9: Casos en los que la victima se acoge a la dispensa a la obligación de declarar como testigo | H9: Renuncias por españolas | I9: Renuncias por extranjeras | J9: Ratio Casos en los que la victima se acoge a la dispensa a la obligación de declarar como testigo sobre denuncias | K9: Casos en los que la victima se acoge a la dispensa a la obligación de declarar como testigo | L9: Renuncias por españolas | M9: Renuncias por extranjeras | N9: Ratio Casos en los que la victima se acoge a la dispensa a la obligación de declarar como testigo sobre denuncias
C10: Total | D10: Por españolas | E10: Por extranjeras | G10: Total | H10: Por españolas | I10: Por extranjeras | K10: Total | L10: Por españolas | M10: Por extranjeras
B11: Andalucía | C11: 820 | D11: 541 | E11: 279 | F11: =C11/'Evolución Denuncias'!C11 -> 0.075848673 | G11: 829 | H11: 586 | I11: 243 | J11: =+G11/'Evolución Denuncias'!K11 -> 0.071422418 | K11: =IF(C11>0,(G11-C11)/C11,"-") -> 0.01097561 | L11: =IF(D11>0,(H11-D11)/D11,"-") -> 0.083179298 | M11: =IF(E11>0,(I11-E11)/E11,"-") -> -0.12903226 | N11: =+(J11-F11)/F11 -> -0.058356396
B12: Aragón | C12: 170 | D12: 93 | E12: 77 | F12: =C12/'Evolución Denuncias'!C12 -> 0.14166667 | G12: 254 | H12: 100 | I12: 154 | J12: =+G12/'Evolución Denuncias'!K12 -> 0.20255183 | K12: =IF(C12>0,(G12-C12)/C12,"-") -> 0.49411765 | L12: =IF(D12>0,(H12-D12)/D12,"-") -> 0.075268817 | M12: =IF(E12>0,(I12-E12)/E12,"-") -> 1 | N12: =+(J12-F12)/F12 -> 0.42977765
B13: Asturias | C13: 112 | D13: 76 | E13: 36 | F13: =C13/'Evolución Denuncias'!C13 -> 0.12655367 | G13: 203 | H13: 95 | I13: 108 | J13: =+G13/'Evolución Denuncias'!K13 -> 0.17001675 | K13: =IF(C13>0,(G13-C13)/C13,"-") -> 0.8125 | L13: =IF(D13>0,(H13-D13)/D13,"-") -> 0.25 | M13: =IF(E13>0,(I13-E13)/E13,"-") -> 2 | N13: =+(J13-F13)/F13 -> 0.34343593
B14: Illes Balears | C14: 333 | D14: 154 | E14: 179 | F14: =C14/'Evolución Denuncias'!C14 -> 0.17731629 | G14: 273 | H14: 161 | I14: 112 | J14: =+G14/'Evolución Denuncias'!K14 -> 0.13012393 | K14: =IF(C14>0,(G14-C14)/C14,"-") -> -0.18018018 | L14: =IF(D14>0,(H14-D14)/D14,"-") -> 0.045454545 | M14: =IF(E14>0,(I14-E14)/E14,"-") -> -0.37430168 | N14: =+(J14-F14)/F14 -> -0.26614794
B15: Canarias | C15: 412 | D15: 203 | E15: 209 | F15: =C15/'Evolución Denuncias'!C15 -> 0.14501936 | G15: 311 | H15: 181 | I15: 130 | J15: =+G15/'Evolución Denuncias'!K15 -> 0.10383973 | K15: =IF(C15>0,(G15-C15)/C15,"-") -> -0.24514563 | L15: =IF(D15>0,(H15-D15)/D15,"-") -> -0.10837438 | M15: =IF(E15>0,(I15-E15)/E15,"-") -> -0.37799043 | N15: =+(J15-F15)/F15 -> -0.28395951
B16: Cantabria | C16: 73 | D16: 44 | E16: 29 | F16: =C16/'Evolución Denuncias'!C16 -> 0.13394495 | G16: 118 | H16: 69 | I16: 49 | J16: =+G16/'Evolución Denuncias'!K16 -> 0.24229979 | K16: =IF(C16>0,(G16-C16)/C16,"-") -> 0.61643836 | L16: =IF(D16>0,(H16-D16)/D16,"-") -> 0.56818182 | M16: =IF(E16>0,(I16-E16)/E16,"-") -> 0.68965517 | N16: =+(J16-F16)/F16 -> 0.80895052
B17: Castilla y León | C17: 147 | D17: 74 | E17: 73 | F17: =C17/'Evolución Denuncias'!C17 -> 0.095330739 | G17: 183 | H17: 80 | I17: 103 | J17: =+G17/'Evolución Denuncias'!K17 -> 0.11024096 | K17: =IF(C17>0,(G17-C17)/C17,"-") -> 0.24489796 | L17: =IF(D17>0,(H17-D17)/D17,"-") -> 0.081081081 | M17: =IF(E17>0,(I17-E17)/E17,"-") -> 0.4109589 | N17: =+(J17-F17)/F17 -> 0.15640521
B18: Castilla-La Mancha | C18: 238 | D18: 145 | E18: 93 | F18: =C18/'Evolución Denuncias'!C18 -> 0.13229572 | G18: 185 | H18: 106 | I18: 79 | J18: =+G18/'Evolución Denuncias'!K18 -> 0.085292762 | K18: =IF(C18>0,(G18-C18)/C18,"-") -> -0.22268908 | L18: =IF(D18>0,(H18-D18)/D18,"-") -> -0.26896552 | M18: =IF(E18>0,(I18-E18)/E18,"-") -> -0.15053763 | N18: =+(J18-F18)/F18 -> -0.35528707
B19: Cataluña | C19: 753 | D19: 381 | E19: 372 | F19: =C19/'Evolución Denuncias'!C19 -> 0.11798809 | G19: 707 | H19: 370 | I19: 337 | J19: =+G19/'Evolución Denuncias'!K19 -> 0.1045085 | K19: =IF(C19>0,(G19-C19)/C19,"-") -> -0.061088977 | L19: =IF(D19>0,(H19-D19)/D19,"-") -> -0.028871391 | M19: =IF(E19>0,(I19-E19)/E19,"-") -> -0.094086022 | N19: =+(J19-F19)/F19 -> -0.11424536
B20: Comunitat Valenciana | C20: 1035 | D20: 543 | E20: 492 | F20: =C20/'Evolución Denuncias'!C20 -> 0.14823833 | G20: 888 | H20: 456 | I20: 432 | J20: =+G20/'Evolución Denuncias'!K20 -> 0.12191104 | K20: =IF(C20>0,(G20-C20)/C20,"-") -> -0.14202899 | L20: =IF(D20>0,(H20-D20)/D20,"-") -> -0.16022099 | M20: =IF(E20>0,(I20-E20)/E20,"-") -> -0.12195122 | N20: =+(J20-F20)/F20 -> -0.1776011
B21: Extremadura | C21: 21 | D21: 21 | E21: 0 | F21: =C21/'Evolución Denuncias'!C21 -> 0.026348808 | G21: 67 | H21: 58 | I21: 9 | J21: =+G21/'Evolución Denuncias'!K21 -> 0.065750736 | K21: =IF(C21>0,(G21-C21)/C21,"-") -> 2.1904762 | L21: =IF(D21>0,(H21-D21)/D21,"-") -> 1.7619048 | M21: =IF(E21>0,(I21-E21)/E21,"-") -> - | N21: =+(J21-F21)/F21 -> 1.495397
B22: Galicia | C22: 121 | D22: 94 | E22: 27 | F22: =C22/'Evolución Denuncias'!C22 -> 0.058995612 | G22: 117 | H22: 86 | I22: 31 | J22: =+G22/'Evolución Denuncias'!K22 -> 0.052655266 | K22: =IF(C22>0,(G22-C22)/C22,"-") -> -0.033057851 | L22: =IF(D22>0,(H22-D22)/D22,"-") -> -0.085106383 | M22: =IF(E22>0,(I22-E22)/E22,"-") -> 0.14814815 | N22: =+(J22-F22)/F22 -> -0.10747149
... B27: La Rioja | C27: 16 | D27: 6 | E27: 10 | F27: =C27/'Evolución Denuncias'!C27 -> 0.056737589 | G27: 38 | H27: 19 | I27: 19 | J27: =+G27/'Evolución Denuncias'!K27 -> 0.1563786 | K27: =IF(C27>0,(G27-C27)/C27,"-") -> 1.375 | L27: =IF(D27>0,(H27-D27)/D27,"-") -> 2.1666667 | M27: =IF(E27>0,(I27-E27)/E27,"-") -> 0.9 | N27: =+(J27-F27)/F27 -> 1.7561728
B28: España | C28: =SUM(C11:C27) -> 5549 | D28: =SUM(D11:D27) -> 3007 | E28: =SUM(E11:E27) -> 2542 | F28: =C28/'Evolución Denuncias'!C28 -> 0.10936792 | G28: =SUM(G11:G27) -> 5732 | H28: =SUM(H11:H27) -> 3173 | I28: =SUM(I11:I27) -> 2559 | J28: =+G28/'Evolución Denuncias'!K28 -> 0.10288627 | K28: =IF(C28>0,(G28-C28)/C28,"-") -> 0.032978915 | L28: =IF(D28>0,(H28-D28)/D28,"-") -> 0.055204523 | M28: =IF(E28>0,(I28-E28)/E28,"-") -> 0.0066876475 | N28: =+(J28-F28)/F28 -> -0.059264589

Sheet Evolución Víctimas
C9: 2º trimestre 2025 | I9: 2º trimestre 2026
C10: Mujeres víctimas de violencia de género | D10: Víctimas Españolas | E10: Víctimas Extranjeras | F10: Total* Menores Tutelados víctimas de violencia | G10: Total* Víctimas Menores Tuteladas Españolas | H10: Total* Víctimas Menores Tuteladas Extranjeras | I10: Mujeres víctimas de violencia de género | J10: Víctimas Españolas | K10: Víctimas Extranjeras | L10: Total* Menores Tutelados víctimas de violencia | M10: Total* Víctimas Menores Tuteladas Españolas | N10: Total* Víctimas Menores Tuteladas Extranjeras
B11: Andalucía | C11: 9753 | D11: 7071 | E11: 2682 | F11: 16 | G11: 16 | H11: 0 | I11: 10170 | J11: 7809 | K11: 2361 | L11: 10 | M11: 10 | N11: 0
B12: Aragón | C12: 1180 | D12: 599 | E12: 581 | F12: 3 | G12: 3 | H12: 0 | I12: 1146 | J12: 602 | K12: 544 | L12: 4 | M12: 2 | N12: 2
B13: Asturias | C13: 769 | D13: 525 | E13: 244 | F13: 16 | G13: 14 | H13: 2 | I13: 1066 | J13: 608 | K13: 458 | L13: 14 | M13: 10 | N13: 4
B14: Illes Balears | C14: 1707 | D14: 910 | E14: 797 | F14: 0 | G14: 0 | H14: 0 | I14: 1846 | J14: 951 | K14: 895 | L14: 4 | M14: 3 | N14: 1
B15: Canarias | C15: 2657 | D15: 1842 | E15: 815 | F15: 0 | G15: 0 | H15: 0 | I15: 2714 | J15: 2035 | K15: 679 | L15: 4 | M15: 4 | N15: 0
B16: Cantabria | C16: 488 | D16: 315 | E16: 173 | F16: 0 | G16: 0 | H16: 0 | I16: 449 | J16: 283 | K16: 166 | L16: 1 | M16: 0 | N16: 1
B17: Castilla y León | C17: 1444 | D17: 914 | E17: 530 | F17: 11 | G17: 11 | H17: 0 | I17: 1489 | J17: 913 | K17: 576 | L17: 6 | M17: 4 | N17: 2
B18: Castilla-La Mancha | C18: 1562 | D18: 974 | E18: 588 | F18: 9 | G18: 7 | H18: 2 | I18: 1922 | J18: 1207 | K18: 715 | L18: 4 | M18: 1 | N18: 3
B19: Cataluña | C19: 6245 | D19: 3396 | E19: 2849 | F19: 3 | G19: 3 | H19: 0 | I19: 6603 | J19: 3503 | K19: 3100 | L19: 13 | M19: 10 | N19: 3
B20: Comunitat Valenciana | C20: 6497 | D20: 3793 | E20: 2704 | F20: 11 | G20: 6 | H20: 5 | I20: 6576 | J20: 3632 | K20: 2944 | L20: 10 | M20: 9 | N20: 1
B21: Extremadura | C21: 749 | D21: 672 | E21: 77 | F21: 9 | G21: 9 | H21: 0 | I21: 834 | J21: 748 | K21: 86 | L21: 0 | M21: 0 | N21: 0
B22: Galicia | C22: 1862 | D22: 1493 | E22: 369 | F22: 3 | G22: 3 | H22: 0 | I22: 1946 | J22: 1425 | K22: 521 | L22: 9 | M22: 5 | N22: 4
... B27: La Rioja | C27: 229 | D27: 68 | E27: 161 | F27: 0 | G27: 0 | H27: 0 | I27: 185 | J27: 89 | K27: 96 | L27: 6 | M27: 5 | N27: 1
B28: España | C28: =SUM(C11:C27) -> 46550 | D28: =SUM(D11:D27) -> 28958 | E28: =SUM(E11:E27) -> 17592 | F28: =SUM(F11:F27) -> 105 | G28: =SUM(G11:G27) -> 91 | H28: =SUM(H11:H27) -> 14 | I28: =SUM(I11:I27) -> 50106 | J28: =SUM(J11:J27) -> 31110 | ... N28: =SUM(N11:N27) -> 35
C31: Evolución 2º trimestre 2026/2º trimestre 2025 | F31: Evolución 2º trimestre 2026/2º trimestre 2025
C32: Mujeres víctimas de violencia de género | D32: Víctimas Españolas | E32: Víctimas Extranjeras | F32: Víctimas menores de violencia de género | G32: Víctimas menores Españolas | H32: Víctimas menores Extranjeras
B33: Andalucía | C33: =IF(C11>0,(I11-C11)/C11,"-") -> 0.042756075 | D33: =IF(D11>0,(J11-D11)/D11,"-") -> 0.10436996 | E33: =IF(E11>0,(K11-E11)/E11,"-") -> -0.1196868 | F33: =IF(F11>0,(L11-F11)/F11,"-") -> -0.375 | G33: =IF(G11>0,(M11-G11)/G11,"-") -> -0.375 | H33: =IF(H11>0,(N11-H11)/H11,"-") -> -
B34: Aragón | C34: =IF(C12>0,(I12-C12)/C12,"-") -> -0.028813559 | D34: =IF(D12>0,(J12-D12)/D12,"-") -> 0.0050083472 | E34: =IF(E12>0,(K12-E12)/E12,"-") -> -0.063683305 | F34: =IF(F12>0,(L12-F12)/F12,"-") -> 0.33333333 | G34: =IF(G12>0,(M12-G12)/G12,"-") -> -0.33333333 | H34: =IF(H12>0,(N12-H12)/H12,"-") -> -
B35: Asturias | C35: =IF(C13>0,(I13-C13)/C13,"-") -> 0.38621586 | D35: =IF(D13>0,(J13-D13)/D13,"-") -> 0.15809524 | E35: =IF(E13>0,(K13-E13)/E13,"-") -> 0.87704918 | F35: =IF(F13>0,(L13-F13)/F13,"-") -> -0.125 | G35: =IF(G13>0,(M13-G13)/G13,"-") -> -0.28571429 | H35: =IF(H13>0,(N13-H13)/H13,"-") -> 1
B36: Illes Balears | C36: =IF(C14>0,(I14-C14)/C14,"-") -> 0.081429408 | D36: =IF(D14>0,(J14-D14)/D14,"-") -> 0.045054945 | E36: =IF(E14>0,(K14-E14)/E14,"-") -> 0.1229611 | F36: =IF(F14>0,(L14-F14)/F14,"-") -> - | G36: =IF(G14>0,(M14-G14)/G14,"-") -> - | H36: =IF(H14>0,(N14-H14)/H14,"-") -> -
B37: Canarias | C37: =IF(C15>0,(I15-C15)/C15,"-") -> 0.021452766 | D37: =IF(D15>0,(J15-D15)/D15,"-") -> 0.10477742 | E37: =IF(E15>0,(K15-E15)/E15,"-") -> -0.16687117 | F37: =IF(F15>0,(L15-F15)/F15,"-") -> - | G37: =IF(G15>0,(M15-G15)/G15,"-") -> - | H37: =IF(H15>0,(N15-H15)/H15,"-") -> -
B38: Cantabria | C38: =IF(C16>0,(I16-C16)/C16,"-") -> -0.079918033 | D38: =IF(D16>0,(J16-D16)/D16,"-") -> -0.1015873 | E38: =IF(E16>0,(K16-E16)/E16,"-") -> -0.040462428 | F38: =IF(F16>0,(L16-F16)/F16,"-") -> - | G38: =IF(G16>0,(M16-G16)/G16,"-") -> - | H38: =IF(H16>0,(N16-H16)/H16,"-") -> -
B39: Castilla y León | C39: =IF(C17>0,(I17-C17)/C17,"-") -> 0.031163435 | D39: =IF(D17>0,(J17-D17)/D17,"-") -> -0.0010940919 | E39: =IF(E17>0,(K17-E17)/E17,"-") -> 0.086792453 | F39: =IF(F17>0,(L17-F17)/F17,"-") -> -0.45454545 | G39: =IF(G17>0,(M17-G17)/G17,"-") -> -0.63636364 | H39: =IF(H17>0,(N17-H17)/H17,"-") -> -
B40: Castilla-La Mancha | C40: =IF(C18>0,(I18-C18)/C18,"-") -> 0.23047375 | D40: =IF(D18>0,(J18-D18)/D18,"-") -> 0.23921971 | E40: =IF(E18>0,(K18-E18)/E18,"-") -> 0.21598639 | F40: =IF(F18>0,(L18-F18)/F18,"-") -> -0.55555556 | G40: =IF(G18>0,(M18-G18)/G18,"-") -> -0.85714286 | H40: =IF(H18>0,(N18-H18)/H18,"-") -> 0.5
B41: Cataluña | C41: =IF(C19>0,(I19-C19)/C19,"-") -> 0.057325861 | D41: =IF(D19>0,(J19-D19)/D19,"-") -> 0.031507656 | E41: =IF(E19>0,(K19-E19)/E19,"-") -> 0.088101088 | F41: =IF(F19>0,(L19-F19)/F19,"-") -> 3.3333333 | G41: =IF(G19>0,(M19-G19)/G19,"-") -> 2.3333333 | H41: =IF(H19>0,(N19-H19)/H19,"-") -> -
B42: Comunitat Valenciana | C42: =IF(C20>0,(I20-C20)/C20,"-") -> 0.012159458 | D42: =IF(D20>0,(J20-D20)/D20,"-") -> -0.042446612 | E42: =IF(E20>0,(K20-E20)/E20,"-") -> 0.088757396 | F42: =IF(F20>0,(L20-F20)/F20,"-") -> -0.090909091 | G42: =IF(G20>0,(M20-G20)/G20,"-") -> 0.5 | H42: =IF(H20>0,(N20-H20)/H20,"-") -> -0.8
B43: Extremadura | C43: =IF(C21>0,(I21-C21)/C21,"-") -> 0.11348465 | D43: =IF(D21>0,(J21-D21)/D21,"-") -> 0.11309524 | E43: =IF(E21>0,(K21-E21)/E21,"-") -> 0.11688312 | F43: =IF(F21>0,(L21-F21)/F21,"-") -> -1 | G43: =IF(G21>0,(M21-G21)/G21,"-") -> -1 | H43: =IF(H21>0,(N21-H21)/H21,"-") -> -
B44: Galicia | C44: =IF(C22>0,(I22-C22)/C22,"-") -> 0.045112782 | D44: =IF(D22>0,(J22-D22)/D22,"-") -> -0.045545881 | E44: =IF(E22>0,(K22-E22)/E22,"-") -> 0.41192412 | F44: =IF(F22>0,(L22-F22)/F22,"-") -> 2 | G44: =IF(G22>0,(M22-G22)/G22,"-") -> 0.66666667 | H44: =IF(H22>0,(N22-H22)/H22,"-") -> -
... B50: España | C50: =IF(C28>0,(I28-C28)/C28,"-") -> 0.076390977 | D50: =IF(D28>0,(J28-D28)/D28,"-") -> 0.074314524 | E50: =IF(E28>0,(K28-E28)/E28,"-") -> 0.079809004 | F50: =IF(F28>0,(L28-F28)/F28,"-") -> 0.076190476 | G50: =IF(G28>0,(M28-G28)/G28,"-") -> -0.14285714 | H50: =IF(H28>0,(N28-H28)/H28,"-") -> 1.5
B53: * El nº Total de víctimas menores Tuteladas incluye tanto mujeres como hombres menores

Sheet Evolución Órdenes y Medidas
C9: 2º trimestre 2025 | G9: 2º trimestre 2026 | K9: Evolución 2º trimestre 2026/2º trimestre 2025
C10: Incoadas | D10: Inadmitidas | E10: Adoptadas | F10: Denegadas | G10: Incoadas | H10: Inadmitidas | I10: Adoptadas | J10: Denegadas | K10: Incoadas | L10: Inadmitidas | M10: Adoptadas | N10: Denegadas
B11: Andalucía | C11: 2298 | D11: 22 | E11: 1714 | F11: 562 | G11: 2218 | H11: 15 | I11: 1725 | J11: 478 | K11: =IF(C11=0,"-",(G11-C11)/C11) -> -0.034812881 | L11: =IF(D11=0,"-",(H11-D11)/D11) -> -0.31818182 | M11: =IF(E11=0,"-",(I11-E11)/E11) -> 0.0064177363 | N11: =IF(F11=0,"-",(J11-F11)/F11) -> -0.14946619
B12: Aragón | C12: 222 | D12: 0 | E12: 173 | F12: 49 | G12: 320 | H12: 1 | I12: 231 | J12: 88 | K12: =IF(C12=0,"-",(G12-C12)/C12) -> 0.44144144 | L12: =IF(D12=0,"-",(H12-D12)/D12) -> - | M12: =IF(E12=0,"-",(I12-E12)/E12) -> 0.33526012 | N12: =IF(F12=0,"-",(J12-F12)/F12) -> 0.79591837
B13: Asturias | C13: 214 | D13: 0 | E13: 179 | F13: 35 | G13: 142 | H13: 2 | I13: 91 | J13: 49 | K13: =IF(C13=0,"-",(G13-C13)/C13) -> -0.3364486 | L13: =IF(D13=0,"-",(H13-D13)/D13) -> - | M13: =IF(E13=0,"-",(I13-E13)/E13) -> -0.49162011 | N13: =IF(F13=0,"-",(J13-F13)/F13) -> 0.4
B14: Illes Balears | C14: 420 | D14: 1 | E14: 335 | F14: 84 | G14: 408 | H14: 0 | I14: 318 | J14: 90 | K14: =IF(C14=0,"-",(G14-C14)/C14) -> -0.028571429 | L14: =IF(D14=0,"-",(H14-D14)/D14) -> -1 | M14: =IF(E14=0,"-",(I14-E14)/E14) -> -0.050746269 | N14: =IF(F14=0,"-",(J14-F14)/F14) -> 0.071428571
B15: Canarias | C15: 567 | D15: 10 | E15: 408 | F15: 149 | G15: 440 | H15: 5 | I15: 297 | J15: 138 | K15: =IF(C15=0,"-",(G15-C15)/C15) -> -0.22398589 | L15: =IF(D15=0,"-",(H15-D15)/D15) -> -0.5 | M15: =IF(E15=0,"-",(I15-E15)/E15) -> -0.27205882 | N15: =IF(F15=0,"-",(J15-F15)/F15) -> -0.073825503
B16: Cantabria | C16: 114 | D16: 0 | E16: 76 | F16: 38 | G16: 120 | H16: 0 | I16: 71 | J16: 49 | K16: =IF(C16=0,"-",(G16-C16)/C16) -> 0.052631579 | L16: =IF(D16=0,"-",(H16-D16)/D16) -> - | M16: =IF(E16=0,"-",(I16-E16)/E16) -> -0.065789474 | N16: =IF(F16=0,"-",(J16-F16)/F16) -> 0.28947368
B17: Castilla y León | C17: 476 | D17: 1 | E17: 334 | F17: 141 | G17: 499 | H17: 1 | I17: 369 | J17: 129 | K17: =IF(C17=0,"-",(G17-C17)/C17) -> 0.048319328 | L17: =IF(D17=0,"-",(H17-D17)/D17) -> 0 | M17: =IF(E17=0,"-",(I17-E17)/E17) -> 0.10479042 | N17: =IF(F17=0,"-",(J17-F17)/F17) -> -0.085106383
B18: Castilla-La Mancha | C18: 445 | D18: 0 | E18: 303 | F18: 142 | G18: 493 | H18: 6 | I18: 361 | J18: 126 | K18: =IF(C18=0,"-",(G18-C18)/C18) -> 0.10786517 | L18: =IF(D18=0,"-",(H18-D18)/D18) -> - | M18: =IF(E18=0,"-",(I18-E18)/E18) -> 0.19141914 | N18: =IF(F18=0,"-",(J18-F18)/F18) -> -0.11267606
B19: Cataluña | C19: 1441 | D19: 43 | E19: 706 | F19: 692 | G19: 1165 | H19: 17 | I19: 595 | J19: 553 | K19: =IF(C19=0,"-",(G19-C19)/C19) -> -0.19153366 | L19: =IF(D19=0,"-",(H19-D19)/D19) -> -0.60465116 | M19: =IF(E19=0,"-",(I19-E19)/E19) -> -0.1572238 | N19: =IF(F19=0,"-",(J19-F19)/F19) -> -0.20086705
B20: Comunitat Valenciana | C20: 1250 | D20: 2 | E20: 928 | F20: 320 | G20: 1347 | H20: 8 | I20: 1072 | J20: 267 | K20: =IF(C20=0,"-",(G20-C20)/C20) -> 0.0776 | L20: =IF(D20=0,"-",(H20-D20)/D20) -> 3 | M20: =IF(E20=0,"-",(I20-E20)/E20) -> 0.15517241 | N20: =IF(F20=0,"-",(J20-F20)/F20) -> -0.165625
B21: Extremadura | C21: 222 | D21: 2 | E21: 154 | F21: 66 | G21: 164 | H21: 0 | I21: 106 | J21: 58 | K21: =IF(C21=0,"-",(G21-C21)/C21) -> -0.26126126 | L21: =IF(D21=0,"-",(H21-D21)/D21) -> -1 | M21: =IF(E21=0,"-",(I21-E21)/E21) -> -0.31168831 | N21: =IF(F21=0,"-",(J21-F21)/F21) -> -0.12121212
B22: Galicia | C22: 457 | D22: 3 | E22: 312 | F22: 142 | G22: 413 | H22: 0 | I22: 274 | J22: 139 | K22: =IF(C22=0,"-",(G22-C22)/C22) -> -0.096280088 | L22: =IF(D22=0,"-",(H22-D22)/D22) -> -1 | M22: =IF(E22=0,"-",(I22-E22)/E22) -> -0.12179487 | N22: =IF(F22=0,"-",(J22-F22)/F22) -> -0.021126761
... B27: La Rioja | C27: 65 | D27: 0 | E27: 58 | F27: 7 | G27: 112 | H27: 0 | I27: 89 | J27: 23 | K27: =IF(C27=0,"-",(G27-C27)/C27) -> 0.72307692 | L27: =IF(D27=0,"-",(H27-D27)/D27) -> - | M27: =IF(E27=0,"-",(I27-E27)/E27) -> 0.53448276 | N27: =IF(F27=0,"-",(J27-F27)/F27) -> 2.2857143
B28: España | C28: =SUM(C11:C27) -> 10588 | D28: =SUM(D11:D27) -> 98 | E28: =SUM(E11:E27) -> 7028 | F28: =SUM(F11:F27) -> 3462 | G28: =SUM(G11:G27) -> 10380 | H28: =SUM(H11:H27) -> 60 | I28: =SUM(I11:I27) -> 7041 | J28: =SUM(J11:J27) -> 3279 | K28: =IF(C28=0,"-",(G28-C28)/C28) -> -0.019644881 | L28: =IF(D28=0,"-",(H28-D28)/D28) -> -0.3877551 | M28: =IF(E28=0,"-",(I28-E28)/E28) -> 0.0018497439 | N28: =IF(F28=0,"-",(J28-F28)/F28) -> -0.052859619

Sheet Personas Enjuiciadas
C9: 2º trimestre 2025 | H9: 2º trimestre 2026 | M9: Evolución 2º trimestre 2026/2º trimestre 2025
C10: Número | D10: Condenado Español | E10: Condenado Extranjero | F10: Absuelto Español | G10: Absuelto Extranjero | H10: Numero | I10: Condenado Español | J10: Condenado Extranjero | K10: Absuelto Español | L10: Absuelto Extranjero | M10: Número | N10: Condenado Español | O10: Condenado Extranjero | P10: Absuelto Español | Q10: Absuelto Extranjero
B11: Andalucía | C11: 1750 | D11: 1193 | E11: 423 | F11: 107 | G11: 27 | H11: 1929 | I11: 1325 | J11: 440 | K11: 145 | L11: 19 | M11: =IF(C11=0,"-",(H11-C11)/C11) -> 0.10228571 | N11: =IF(D11=0,"-",(I11-D11)/D11) -> 0.11064543 | O11: =IF(E11=0,"-",(J11-E11)/E11) -> 0.040189125 | P11: =IF(F11=0,"-",(K11-F11)/F11) -> 0.35514019 | Q11: =IF(G11=0,"-",(L11-G11)/G11) -> -0.2962963
B12: Aragón | C12: 188 | D12: 91 | E12: 92 | F12: 2 | G12: 3 | H12: 217 | I12: 101 | J12: 109 | K12: 5 | L12: 2 | M12: =IF(C12=0,"-",(H12-C12)/C12) -> 0.15425532 | N12: =IF(D12=0,"-",(I12-D12)/D12) -> 0.10989011 | O12: =IF(E12=0,"-",(J12-E12)/E12) -> 0.18478261 | P12: =IF(F12=0,"-",(K12-F12)/F12) -> 1.5 | Q12: =IF(G12=0,"-",(L12-G12)/G12) -> -0.33333333
B13: Asturias | C13: 146 | D13: 104 | E13: 39 | F13: 3 | G13: 0 | H13: 182 | I13: 137 | J13: 37 | K13: 6 | L13: 2 | M13: =IF(C13=0,"-",(H13-C13)/C13) -> 0.24657534 | N13: =IF(D13=0,"-",(I13-D13)/D13) -> 0.31730769 | O13: =IF(E13=0,"-",(J13-E13)/E13) -> -0.051282051 | P13: =IF(F13=0,"-",(K13-F13)/F13) -> 1 | Q13: =IF(G13=0,"-",(L13-G13)/G13) -> -
B14: Illes Balears | C14: 299 | D14: 130 | E14: 151 | F14: 8 | G14: 10 | H14: 394 | I14: 216 | J14: 165 | K14: 9 | L14: 4 | M14: =IF(C14=0,"-",(H14-C14)/C14) -> 0.31772575 | N14: =IF(D14=0,"-",(I14-D14)/D14) -> 0.66153846 | O14: =IF(E14=0,"-",(J14-E14)/E14) -> 0.092715232 | P14: =IF(F14=0,"-",(K14-F14)/F14) -> 0.125 | Q14: =IF(G14=0,"-",(L14-G14)/G14) -> -0.6
B15: Canarias | C15: 754 | D15: 521 | E15: 195 | F15: 31 | G15: 7 | H15: 660 | I15: 469 | J15: 180 | K15: 10 | L15: 1 | M15: =IF(C15=0,"-",(H15-C15)/C15) -> -0.12466844 | N15: =IF(D15=0,"-",(I15-D15)/D15) -> -0.099808061 | O15: =IF(E15=0,"-",(J15-E15)/E15) -> -0.076923077 | P15: =IF(F15=0,"-",(K15-F15)/F15) -> -0.67741935 | Q15: =IF(G15=0,"-",(L15-G15)/G15) -> -0.85714286
B16: Cantabria | C16: 102 | D16: 64 | E16: 34 | F16: 3 | G16: 1 | H16: 96 | I16: 58 | J16: 30 | K16: 6 | L16: 2 | M16: =IF(C16=0,"-",(H16-C16)/C16) -> -0.058823529 | N16: =IF(D16=0,"-",(I16-D16)/D16) -> -0.09375 | O16: =IF(E16=0,"-",(J16-E16)/E16) -> -0.11764706 | P16: =IF(F16=0,"-",(K16-F16)/F16) -> 1 | Q16: =IF(G16=0,"-",(L16-G16)/G16) -> 1
B17: Castilla y León | C17: 289 | D17: 181 | E17: 86 | F17: 13 | G17: 9 | H17: 236 | I17: 129 | J17: 81 | K17: 23 | L17: 3 | M17: =IF(C17=0,"-",(H17-C17)/C17) -> -0.183391 | N17: =IF(D17=0,"-",(I17-D17)/D17) -> -0.28729282 | O17: =IF(E17=0,"-",(J17-E17)/E17) -> -0.058139535 | P17: =IF(F17=0,"-",(K17-F17)/F17) -> 0.76923077 | Q17: =IF(G17=0,"-",(L17-G17)/G17) -> -0.66666667
B18: Castilla-La Mancha | C18: 305 | D18: 193 | E18: 92 | F18: 14 | G18: 6 | H18: 309 | I18: 183 | J18: 100 | K18: 19 | L18: 7 | M18: =IF(C18=0,"-",(H18-C18)/C18) -> 0.013114754 | N18: =IF(D18=0,"-",(I18-D18)/D18) -> -0.051813472 | O18: =IF(E18=0,"-",(J18-E18)/E18) -> 0.086956522 | P18: =IF(F18=0,"-",(K18-F18)/F18) -> 0.35714286 | Q18: =IF(G18=0,"-",(L18-G18)/G18) -> 0.16666667
B19: Cataluña | C19: 694 | D19: 317 | E19: 313 | F19: 28 | G19: 36 | H19: 795 | I19: 360 | J19: 384 | K19: 30 | L19: 21 | M19: =IF(C19=0,"-",(H19-C19)/C19) -> 0.14553314 | N19: =IF(D19=0,"-",(I19-D19)/D19) -> 0.13564669 | O19: =IF(E19=0,"-",(J19-E19)/E19) -> 0.22683706 | P19: =IF(F19=0,"-",(K19-F19)/F19) -> 0.071428571 | Q19: =IF(G19=0,"-",(L19-G19)/G19) -> -0.41666667
B20: Comunitat Valenciana | C20: 1297 | D20: 728 | E20: 481 | F20: 50 | G20: 38 | H20: 1325 | I20: 683 | J20: 568 | K20: 51 | L20: 23 | M20: =IF(C20=0,"-",(H20-C20)/C20) -> 0.021588281 | N20: =IF(D20=0,"-",(I20-D20)/D20) -> -0.061813187 | O20: =IF(E20=0,"-",(J20-E20)/E20) -> 0.18087318 | P20: =IF(F20=0,"-",(K20-F20)/F20) -> 0.02 | Q20: =IF(G20=0,"-",(L20-G20)/G20) -> -0.39473684
B21: Extremadura | C21: 180 | D21: 150 | E21: 24 | F21: 6 | G21: 0 | H21: 231 | I21: 200 | J21: 20 | K21: 11 | L21: 0 | M21: =IF(C21=0,"-",(H21-C21)/C21) -> 0.28333333 | N21: =IF(D21=0,"-",(I21-D21)/D21) -> 0.33333333 | O21: =IF(E21=0,"-",(J21-E21)/E21) -> -0.16666667 | P21: =IF(F21=0,"-",(K21-F21)/F21) -> 0.83333333 | Q21: =IF(G21=0,"-",(L21-G21)/G21) -> -
B22: Galicia | C22: 356 | D22: 257 | E22: 77 | F22: 21 | G22: 1 | H22: 392 | I22: 273 | J22: 93 | K22: 24 | L22: 2 | M22: =IF(C22=0,"-",(H22-C22)/C22) -> 0.1011236 | N22: =IF(D22=0,"-",(I22-D22)/D22) -> 0.062256809 | O22: =IF(E22=0,"-",(J22-E22)/E22) -> 0.20779221 | P22: =IF(F22=0,"-",(K22-F22)/F22) -> 0.14285714 | Q22: =IF(G22=0,"-",(L22-G22)/G22) -> 1
... B27: La Rioja | C27: 65 | D27: 38 | E27: 27 | F27: 0 | G27: 0 | H27: 52 | I27: 27 | J27: 25 | K27: 0 | L27: 0 | M27: =IF(C27=0,"-",(H27-C27)/C27) -> -0.2 | N27: =IF(D27=0,"-",(I27-D27)/D27) -> -0.28947368 | O27: =IF(E27=0,"-",(J27-E27)/E27) -> -0.074074074 | P27: =IF(F27=0,"-",(K27-F27)/F27) -> - | Q27: =IF(G27=0,"-",(L27-G27)/G27) -> -
B28: España | C28: =SUM(C11:C27) -> 7851 | D28: =SUM(D11:D27) -> 4711 | E28: =SUM(E11:E27) -> 2616 | F28: =SUM(F11:F27) -> 354 | G28: =SUM(G11:G27) -> 170 | H28: =SUM(H11:H27) -> 8184 | I28: =SUM(I11:I27) -> 4860 | J28: =SUM(J11:J27) -> 2819 | ... L28: =SUM(L11:L27) -> 117 | M28: =IF(C28=0,"-",(H28-C28)/C28) -> 0.042414979 | N28: =IF(D28=0,"-",(I28-D28)/D28) -> 0.031628104 | O28: =IF(E28=0,"-",(J28-E28)/E28) -> 0.077599388 | P28: =IF(F28=0,"-",(K28-F28)/F28) -> 0.096045198 | Q28: =IF(G28=0,"-",(L28-G28)/G28) -> -0.31176471

Sheet Jdos Penal_Personas Enjuiciadas
C9: 2º trimestre 2025 | H9: 2º trimestre 2026 | M9: Evolución 2º trimestre 2026/2º trimestre 2025
C10: Total | D10: Condenado Español | E10: Condenado Extranjero | F10: Absuelto Español | G10: Absuelto Extranjero | H10: Total | I10: Condenado Español | J10: Condenado Extranjero | K10: Absuelto Español | L10: Absuelto Extranjero | M10: Total | N10: Condenado Español | O10: Condenado Extranjero | P10: Absuelto Español | Q10: Absuelto Extranjero
B11: Andalucía | C11: 1699 | D11: 904 | E11: 270 | F11: 427 | G11: 98 | H11: 1630 | I11: 775 | J11: 257 | K11: 495 | L11: 103 | M11: =IF(C11=0,"-",(H11-C11)/C11) -> -0.040612125 | N11: =IF(D11=0,"-",(I11-D11)/D11) -> -0.14269912 | O11: =IF(E11=0,"-",(J11-E11)/E11) -> -0.048148148 | P11: =IF(F11=0,"-",(K11-F11)/F11) -> 0.15925059 | Q11: =IF(G11=0,"-",(L11-G11)/G11) -> 0.051020408
B12: Aragón | C12: 239 | D12: 111 | E12: 78 | F12: 31 | G12: 19 | H12: 240 | I12: 112 | J12: 79 | K12: 36 | L12: 13 | M12: =IF(C12=0,"-",(H12-C12)/C12) -> 0.0041841004 | N12: =IF(D12=0,"-",(I12-D12)/D12) -> 0.009009009 | O12: =IF(E12=0,"-",(J12-E12)/E12) -> 0.012820513 | P12: =IF(F12=0,"-",(K12-F12)/F12) -> 0.16129032 | Q12: =IF(G12=0,"-",(L12-G12)/G12) -> -0.31578947
B13: Asturias | C13: 196 | D13: 126 | E13: 21 | F13: 38 | G13: 11 | H13: 225 | I13: 152 | J13: 27 | K13: 40 | L13: 6 | M13: =IF(C13=0,"-",(H13-C13)/C13) -> 0.14795918 | N13: =IF(D13=0,"-",(I13-D13)/D13) -> 0.20634921 | O13: =IF(E13=0,"-",(J13-E13)/E13) -> 0.28571429 | P13: =IF(F13=0,"-",(K13-F13)/F13) -> 0.052631579 | Q13: =IF(G13=0,"-",(L13-G13)/G13) -> -0.45454545
B14: Illes Balears | C14: 280 | D14: 125 | E14: 97 | F14: 39 | G14: 19 | H14: 215 | I14: 98 | J14: 70 | K14: 20 | L14: 27 | M14: =IF(C14=0,"-",(H14-C14)/C14) -> -0.23214286 | N14: =IF(D14=0,"-",(I14-D14)/D14) -> -0.216 | O14: =IF(E14=0,"-",(J14-E14)/E14) -> -0.27835052 | P14: =IF(F14=0,"-",(K14-F14)/F14) -> -0.48717949 | Q14: =IF(G14=0,"-",(L14-G14)/G14) -> 0.42105263
B15: Canarias | C15: 227 | D15: 106 | E15: 39 | F15: 65 | G15: 17 | H15: 220 | I15: 108 | J15: 45 | K15: 63 | L15: 4 | M15: =IF(C15=0,"-",(H15-C15)/C15) -> -0.030837004 | N15: =IF(D15=0,"-",(I15-D15)/D15) -> 0.018867925 | O15: =IF(E15=0,"-",(J15-E15)/E15) -> 0.15384615 | P15: =IF(F15=0,"-",(K15-F15)/F15) -> -0.030769231 | Q15: =IF(G15=0,"-",(L15-G15)/G15) -> -0.76470588
B16: Cantabria | C16: 107 | D16: 69 | E16: 17 | F16: 13 | G16: 8 | H16: 97 | I16: 56 | J16: 18 | K16: 23 | L16: 0 | M16: =IF(C16=0,"-",(H16-C16)/C16) -> -0.093457944 | N16: =IF(D16=0,"-",(I16-D16)/D16) -> -0.1884058 | O16: =IF(E16=0,"-",(J16-E16)/E16) -> 0.058823529 | P16: =IF(F16=0,"-",(K16-F16)/F16) -> 0.76923077 | Q16: =IF(G16=0,"-",(L16-G16)/G16) -> -1
B17: Castilla y León | C17: 324 | D17: 178 | E17: 66 | F17: 64 | G17: 16 | H17: 339 | I17: 172 | J17: 80 | K17: 60 | L17: 27 | M17: =IF(C17=0,"-",(H17-C17)/C17) -> 0.046296296 | N17: =IF(D17=0,"-",(I17-D17)/D17) -> -0.033707865 | O17: =IF(E17=0,"-",(J17-E17)/E17) -> 0.21212121 | P17: =IF(F17=0,"-",(K17-F17)/F17) -> -0.0625 | Q17: =IF(G17=0,"-",(L17-G17)/G17) -> 0.6875
B18: Castilla-La Mancha | C18: 328 | D18: 148 | E18: 64 | F18: 83 | G18: 33 | H18: 252 | I18: 109 | J18: 62 | K18: 57 | L18: 24 | M18: =IF(C18=0,"-",(H18-C18)/C18) -> -0.23170732 | N18: =IF(D18=0,"-",(I18-D18)/D18) -> -0.26351351 | O18: =IF(E18=0,"-",(J18-E18)/E18) -> -0.03125 | P18: =IF(F18=0,"-",(K18-F18)/F18) -> -0.31325301 | Q18: =IF(G18=0,"-",(L18-G18)/G18) -> -0.27272727
B19: Cataluña | C19: 1561 | D19: 507 | E19: 440 | F19: 405 | G19: 209 | H19: 1464 | I19: 482 | J19: 448 | K19: 285 | L19: 249 | M19: =IF(C19=0,"-",(H19-C19)/C19) -> -0.062139654 | N19: =IF(D19=0,"-",(I19-D19)/D19) -> -0.049309665 | O19: =IF(E19=0,"-",(J19-E19)/E19) -> 0.018181818 | P19: =IF(F19=0,"-",(K19-F19)/F19) -> -0.2962963 | Q19: =IF(G19=0,"-",(L19-G19)/G19) -> 0.19138756
B20: Comunitat Valenciana | C20: 1010 | D20: 485 | E20: 262 | F20: 180 | G20: 83 | H20: 1028 | I20: 486 | J20: 275 | K20: 167 | L20: 100 | M20: =IF(C20=0,"-",(H20-C20)/C20) -> 0.017821782 | N20: =IF(D20=0,"-",(I20-D20)/D20) -> 0.0020618557 | O20: =IF(E20=0,"-",(J20-E20)/E20) -> 0.049618321 | P20: =IF(F20=0,"-",(K20-F20)/F20) -> -0.072222222 | Q20: =IF(G20=0,"-",(L20-G20)/G20) -> 0.20481928
B21: Extremadura | C21: 117 | D21: 86 | E21: 19 | F21: 11 | G21: 1 | H21: 158 | I21: 107 | J21: 36 | K21: 15 | L21: 0 | M21: =IF(C21=0,"-",(H21-C21)/C21) -> 0.35042735 | N21: =IF(D21=0,"-",(I21-D21)/D21) -> 0.24418605 | O21: =IF(E21=0,"-",(J21-E21)/E21) -> 0.89473684 | P21: =IF(F21=0,"-",(K21-F21)/F21) -> 0.36363636 | Q21: =IF(G21=0,"-",(L21-G21)/G21) -> -1
B22: Galicia | C22: 360 | D22: 228 | E22: 43 | F22: 70 | G22: 19 | H22: 342 | I22: 223 | J22: 53 | K22: 58 | L22: 8 | M22: =IF(C22=0,"-",(H22-C22)/C22) -> -0.05 | N22: =IF(D22=0,"-",(I22-D22)/D22) -> -0.021929825 | O22: =IF(E22=0,"-",(J22-E22)/E22) -> 0.23255814 | P22: =IF(F22=0,"-",(K22-F22)/F22) -> -0.17142857 | Q22: =IF(G22=0,"-",(L22-G22)/G22) -> -0.57894737
... B27: La Rioja | C27: 76 | D27: 33 | E27: 20 | F27: 15 | G27: 8 | H27: 75 | I27: 48 | J27: 6 | K27: 16 | L27: 5 | M27: =IF(C27=0,"-",(H27-C27)/C27) -> -0.013157895 | N27: =IF(D27=0,"-",(I27-D27)/D27) -> 0.45454545 | O27: =IF(E27=0,"-",(J27-E27)/E27) -> -0.7 | P27: =IF(F27=0,"-",(K27-F27)/F27) -> 0.066666667 | Q27: =IF(G27=0,"-",(L27-G27)/G27) -> -0.375
B28: España | C28: =SUM(C11:C27) -> 8490 | D28: =SUM(D11:D27) -> 3888 | E28: =SUM(E11:E27) -> 2148 | F28: =SUM(F11:F27) -> 1706 | G28: =SUM(G11:G27) -> 748 | H28: =SUM(H11:H27) -> 8363 | I28: =SUM(I11:I27) -> 3730 | J28: =SUM(J11:J27) -> 2248 | ... L28: =SUM(L11:L27) -> 811 | M28: =IF(C28=0,"-",(H28-C28)/C28) -> -0.014958775 | N28: =IF(D28=0,"-",(I28-D28)/D28) -> -0.04063786 | O28: =IF(E28=0,"-",(J28-E28)/E28) -> 0.046554935 | P28: =IF(F28=0,"-",(K28-F28)/F28) -> -0.077373974 | Q28: =IF(G28=0,"-",(L28-G28)/G28) -> 0.084224599

Sheet Jdos Penal_Sentencias
C9: 2º trimestre 2025 | G9: 2º trimestre 2026 | K9: Evolución 2º trimestre 2026/2º trimestre 2025
C10: Total Condenatorias | D10: Previa Conformidad | E10: Restantes Condenatorias | F10: Absolutorias | G10: Total Condenatorias | H10: Previa Conformidad | I10: Restantes Condenatorias | J10: Absolutorias | K10: Total Condenatorias | L10: Previa Conformidad | M10: Restantes Condenatorias | N10: Absolutorias
B11: Andalucía | C11: =SUM(D11:E11) -> 1174 | D11: 809 | E11: 365 | F11: 524 | G11: =SUM(H11:I11) -> 1032 | H11: 685 | I11: 347 | J11: 596 | K11: =IF(C11=0,"-",(G11-C11)/C11) -> -0.120954 | L11: =IF(D11=0,"-",(H11-D11)/D11) -> -0.15327565 | M11: =IF(E11=0,"-",(I11-E11)/E11) -> -0.049315068 | N11: =IF(F11=0,"-",(J11-F11)/F11) -> 0.13740458
B12: Aragón | C12: =SUM(D12:E12) -> 189 | D12: 123 | E12: 66 | F12: 50 | G12: =SUM(H12:I12) -> 191 | H12: 143 | I12: 48 | J12: 49 | K12: =IF(C12=0,"-",(G12-C12)/C12) -> 0.010582011 | L12: =IF(D12=0,"-",(H12-D12)/D12) -> 0.16260163 | M12: =IF(E12=0,"-",(I12-E12)/E12) -> -0.27272727 | N12: =IF(F12=0,"-",(J12-F12)/F12) -> -0.02
B13: Asturias | C13: =SUM(D13:E13) -> 147 | D13: 89 | E13: 58 | F13: 48 | G13: =SUM(H13:I13) -> 178 | H13: 109 | I13: 69 | J13: 46 | K13: =IF(C13=0,"-",(G13-C13)/C13) -> 0.21088435 | L13: =IF(D13=0,"-",(H13-D13)/D13) -> 0.2247191 | M13: =IF(E13=0,"-",(I13-E13)/E13) -> 0.18965517 | N13: =IF(F13=0,"-",(J13-F13)/F13) -> -0.041666667
B14: Illes Balears | C14: =SUM(D14:E14) -> 222 | D14: 178 | E14: 44 | F14: 57 | G14: =SUM(H14:I14) -> 167 | H14: 127 | I14: 40 | J14: 47 | K14: =IF(C14=0,"-",(G14-C14)/C14) -> -0.24774775 | L14: =IF(D14=0,"-",(H14-D14)/D14) -> -0.28651685 | M14: =IF(E14=0,"-",(I14-E14)/E14) -> -0.090909091 | N14: =IF(F14=0,"-",(J14-F14)/F14) -> -0.1754386
B15: Canarias | C15: =SUM(D15:E15) -> 145 | D15: 87 | E15: 58 | F15: 82 | G15: =SUM(H15:I15) -> 153 | H15: 71 | I15: 82 | J15: 67 | K15: =IF(C15=0,"-",(G15-C15)/C15) -> 0.055172414 | L15: =IF(D15=0,"-",(H15-D15)/D15) -> -0.18390805 | M15: =IF(E15=0,"-",(I15-E15)/E15) -> 0.4137931 | N15: =IF(F15=0,"-",(J15-F15)/F15) -> -0.18292683
B16: Cantabria | C16: =SUM(D16:E16) -> 86 | D16: 64 | E16: 22 | F16: 21 | G16: =SUM(H16:I16) -> 74 | H16: 61 | I16: 13 | J16: 23 | K16: =IF(C16=0,"-",(G16-C16)/C16) -> -0.13953488 | L16: =IF(D16=0,"-",(H16-D16)/D16) -> -0.046875 | M16: =IF(E16=0,"-",(I16-E16)/E16) -> -0.40909091 | N16: =IF(F16=0,"-",(J16-F16)/F16) -> 0.095238095
B17: Castilla y León | C17: =SUM(D17:E17) -> 243 | D17: 177 | E17: 66 | F17: 80 | G17: =SUM(H17:I17) -> 252 | H17: 192 | I17: 60 | J17: 83 | K17: =IF(C17=0,"-",(G17-C17)/C17) -> 0.037037037 | L17: =IF(D17=0,"-",(H17-D17)/D17) -> 0.084745763 | M17: =IF(E17=0,"-",(I17-E17)/E17) -> -0.090909091 | N17: =IF(F17=0,"-",(J17-F17)/F17) -> 0.0375
B18: Castilla-La Mancha | C18: =SUM(D18:E18) -> 212 | D18: 143 | E18: 69 | F18: 112 | G18: =SUM(H18:I18) -> 165 | H18: 95 | I18: 70 | J18: 81 | K18: =IF(C18=0,"-",(G18-C18)/C18) -> -0.22169811 | L18: =IF(D18=0,"-",(H18-D18)/D18) -> -0.33566434 | M18: =IF(E18=0,"-",(I18-E18)/E18) -> 0.014492754 | N18: =IF(F18=0,"-",(J18-F18)/F18) -> -0.27678571
B19: Cataluña | C19: =SUM(D19:E19) -> 943 | D19: 614 | E19: 329 | F19: 477 | G19: =SUM(H19:I19) -> 927 | H19: 506 | I19: 421 | J19: 526 | K19: =IF(C19=0,"-",(G19-C19)/C19) -> -0.016967126 | L19: =IF(D19=0,"-",(H19-D19)/D19) -> -0.17589577 | M19: =IF(E19=0,"-",(I19-E19)/E19) -> 0.27963526 | N19: =IF(F19=0,"-",(J19-F19)/F19) -> 0.10272537
B20: Comunitat Valenciana | C20: =SUM(D20:E20) -> 747 | D20: 486 | E20: 261 | F20: 263 | G20: =SUM(H20:I20) -> 761 | H20: 462 | I20: 299 | J20: 263 | K20: =IF(C20=0,"-",(G20-C20)/C20) -> 0.018741633 | L20: =IF(D20=0,"-",(H20-D20)/D20) -> -0.049382716 | M20: =IF(E20=0,"-",(I20-E20)/E20) -> 0.14559387 | N20: =IF(F20=0,"-",(J20-F20)/F20) -> 0
B21: Extremadura | C21: =SUM(D21:E21) -> 103 | D21: 78 | E21: 25 | F21: 12 | G21: =SUM(H21:I21) -> 143 | H21: 117 | I21: 26 | J21: 15 | K21: =IF(C21=0,"-",(G21-C21)/C21) -> 0.38834951 | L21: =IF(D21=0,"-",(H21-D21)/D21) -> 0.5 | M21: =IF(E21=0,"-",(I21-E21)/E21) -> 0.04 | N21: =IF(F21=0,"-",(J21-F21)/F21) -> 0.25
B22: Galicia | C22: =SUM(D22:E22) -> 271 | D22: 153 | E22: 118 | F22: 89 | G22: =SUM(H22:I22) -> 274 | H22: 200 | I22: 74 | J22: 61 | K22: =IF(C22=0,"-",(G22-C22)/C22) -> 0.011070111 | L22: =IF(D22=0,"-",(H22-D22)/D22) -> 0.30718954 | M22: =IF(E22=0,"-",(I22-E22)/E22) -> -0.37288136 | N22: =IF(F22=0,"-",(J22-F22)/F22) -> -0.31460674
... B27: La Rioja | C27: =SUM(D27:E27) -> 53 | D27: 51 | E27: 2 | F27: 23 | G27: =SUM(H27:I27) -> 54 | H27: 52 | I27: 2 | J27: 21 | K27: =IF(C27=0,"-",(G27-C27)/C27) -> 0.018867925 | L27: =IF(D27=0,"-",(H27-D27)/D27) -> 0.019607843 | M27: =IF(E27=0,"-",(I27-E27)/E27) -> 0 | N27: =IF(F27=0,"-",(J27-F27)/F27) -> -0.086956522
B28: España | C28: =SUM(C11:C27) -> 5971 | D28: =SUM(D11:D27) -> 4060 | E28: =SUM(E11:E27) -> 1911 | F28: =SUM(F11:F27) -> 2277 | G28: =SUM(G11:G27) -> 5931 | H28: =SUM(H11:H27) -> 3948 | I28: =SUM(I11:I27) -> 1983 | J28: =SUM(J11:J27) -> 2328 | K28: =IF(C28=0,"-",(G28-C28)/C28) -> -0.0066990454 | L28: =IF(D28=0,"-",(H28-D28)/D28) -> -0.027586207 | M28: =IF(E28=0,"-",(I28-E28)/E28) -> 0.037676609 | N28: =IF(F28=0,"-",(J28-F28)/F28) -> 0.022397892

Sheet Jdos Menores_Personas Enjuiciad
C9: 2º trimestre 2025 Con Imposición de medidas | F9: 2º trimestre 2025 Sin Imposicion de Medidas | I9: 2º trimestre 2026 Con Imposición de medidas | L9: 2º trimestre 2026 Sin Imposicion de Medidas
C10: Total Menores Enjuiciados | D10: Españoles | E10: Extranjeros | F10: Total Menores Enjuiciados | G10: Españoles | H10: Extranjeros | I10: Total Menores Enjuiciados | J10: Españoles | K10: Extranjeros | L10: Total Menores Enjuiciados | M10: Españoles | N10: Extranjeros
B11: Andalucía | C11: 30 | D11: 28 | E11: 2 | F11: 6 | G11: 5 | H11: 1 | I11: 31 | J11: 26 | K11: 5 | L11: 1 | M11: 0 | N11: 1
B12: Aragón | C12: 2 | D12: 2 | E12: 0 | F12: 0 | G12: 0 | H12: 0 | I12: 4 | J12: 3 | K12: 1 | L12: 0 | M12: 0 | N12: 0
B13: Asturias | C13: 0 | D13: 0 | E13: 0 | F13: 0 | G13: 0 | H13: 0 | I13: 2 | J13: 1 | K13: 1 | L13: 0 | M13: 0 | N13: 0
B14: Illes Balears | C14: 3 | D14: 3 | E14: 0 | F14: 0 | G14: 0 | H14: 0 | I14: 7 | J14: 4 | K14: 3 | L14: 0 | M14: 0 | N14: 0
B15: Canarias | C15: 11 | D15: 8 | E15: 3 | F15: 0 | G15: 0 | H15: 0 | I15: 10 | J15: 10 | K15: 0 | L15: 0 | M15: 0 | N15: 0
B16: Cantabria | C16: 0 | D16: 0 | E16: 0 | F16: 0 | G16: 0 | H16: 0 | I16: 1 | J16: 1 | K16: 0 | L16: 1 | M16: 1 | N16: 0
B17: Castilla y León | C17: 3 | D17: 3 | E17: 0 | F17: 1 | G17: 1 | H17: 0 | I17: 7 | J17: 6 | K17: 1 | L17: 0 | M17: 0 | N17: 0
B18: Castilla-La Mancha | C18: 3 | D18: 2 | E18: 1 | F18: 0 | G18: 0 | H18: 0 | I18: 7 | J18: 7 | K18: 0 | L18: 1 | M18: 1 | N18: 0
B19: Cataluña | C19: 10 | D19: 8 | E19: 2 | F19: 0 | G19: 0 | H19: 0 | I19: 8 | J19: 4 | K19: 4 | L19: 1 | M19: 1 | N19: 0
B20: Comunitat Valenciana | C20: 20 | D20: 20 | E20: 0 | F20: 0 | G20: 0 | H20: 0 | I20: 15 | J20: 13 | K20: 2 | L20: 1 | M20: 1 | N20: 0
B21: Extremadura | C21: 8 | D21: 8 | E21: 0 | F21: 0 | G21: 0 | H21: 0 | I21: 1 | J21: 0 | K21: 1 | L21: 0 | M21: 0 | N21: 0
B22: Galicia | C22: 6 | D22: 4 | E22: 2 | F22: 1 | G22: 1 | H22: 0 | I22: 4 | J22: 4 | K22: 0 | L22: 2 | M22: 2 | N22: 0
... B27: La Rioja | C27: 0 | D27: 0 | E27: 0 | F27: 0 | G27: 0 | H27: 0 | I27: 2 | J27: 2 | K27: 0 | L27: 0 | M27: 0 | N27: 0
B28: España | C28: =SUM(C11:C27) -> 117 | D28: =SUM(D11:D27) -> 103 | E28: =SUM(E11:E27) -> 14 | F28: =SUM(F11:F27) -> 10 | G28: =SUM(G11:G27) -> 8 | H28: =SUM(H11:H27) -> 2 | I28: =SUM(I11:I27) -> 114 | J28: =SUM(J11:J27) -> 93 | ... N28: =SUM(N11:N27) -> 2
C32: Evolución 2º trimestre 2026/2º trimestre 2025 Con Imposición de medidas | F32: Evolución 2º trimestre 2026/2º trimestre 2025 Sin Imposición de medidas
C33: Total Menores Enjuiciados | D33: Españoles | E33: Extranjeros | F33: Total Menores Enjuiciados | G33: Españoles | H33: Extranjeros
B34: Andalucía | C34: =IF(C11=0,"-",IF(I11=0,"-",(I11-C11)/C11)) -> 0.033333333 | D34: =IF(D11=0,"-",IF(J11=0,"-",(J11-D11)/D11)) -> -0.071428571 | E34: =IF(E11=0,"-",IF(K11=0,"-",(K11-E11)/E11)) -> 1.5 | F34: =IF(F11=0,"-",IF(L11=0,"-",(L11-F11)/F11)) -> -0.83333333 | G34: =IF(G11=0,"-",IF(M11=0,"-",(M11-G11)/G11)) -> - | H34: =IF(H11=0,"-",IF(N11=0,"-",(N11-H11)/H11)) -> 0
B35: Aragón | C35: =IF(C12=0,"-",IF(I12=0,"-",(I12-C12)/C12)) -> 1 | D35: =IF(D12=0,"-",IF(J12=0,"-",(J12-D12)/D12)) -> 0.5 | E35: =IF(E12=0,"-",IF(K12=0,"-",(K12-E12)/E12)) -> - | F35: =IF(F12=0,"-",IF(L12=0,"-",(L12-F12)/F12)) -> - | G35: =IF(G12=0,"-",IF(M12=0,"-",(M12-G12)/G12)) -> - | H35: =IF(H12=0,"-",IF(N12=0,"-",(N12-H12)/H12)) -> -
B36: Asturias | C36: =IF(C13=0,"-",IF(I13=0,"-",(I13-C13)/C13)) -> - | D36: =IF(D13=0,"-",IF(J13=0,"-",(J13-D13)/D13)) -> - | E36: =IF(E13=0,"-",IF(K13=0,"-",(K13-E13)/E13)) -> - | F36: =IF(F13=0,"-",IF(L13=0,"-",(L13-F13)/F13)) -> - | G36: =IF(G13=0,"-",IF(M13=0,"-",(M13-G13)/G13)) -> - | H36: =IF(H13=0,"-",IF(N13=0,"-",(N13-H13)/H13)) -> -
B37: Illes Balears | C37: =IF(C14=0,"-",IF(I14=0,"-",(I14-C14)/C14)) -> 1.3333333 | D37: =IF(D14=0,"-",IF(J14=0,"-",(J14-D14)/D14)) -> 0.33333333 | E37: =IF(E14=0,"-",IF(K14=0,"-",(K14-E14)/E14)) -> - | F37: =IF(F14=0,"-",IF(L14=0,"-",(L14-F14)/F14)) -> - | G37: =IF(G14=0,"-",IF(M14=0,"-",(M14-G14)/G14)) -> - | H37: =IF(H14=0,"-",IF(N14=0,"-",(N14-H14)/H14)) -> -
B38: Canarias | C38: =IF(C15=0,"-",IF(I15=0,"-",(I15-C15)/C15)) -> -0.090909091 | D38: =IF(D15=0,"-",IF(J15=0,"-",(J15-D15)/D15)) -> 0.25 | E38: =IF(E15=0,"-",IF(K15=0,"-",(K15-E15)/E15)) -> - | F38: =IF(F15=0,"-",IF(L15=0,"-",(L15-F15)/F15)) -> - | G38: =IF(G15=0,"-",IF(M15=0,"-",(M15-G15)/G15)) -> - | H38: =IF(H15=0,"-",IF(N15=0,"-",(N15-H15)/H15)) -> -
B39: Cantabria | C39: =IF(C16=0,"-",IF(I16=0,"-",(I16-C16)/C16)) -> - | D39: =IF(D16=0,"-",IF(J16=0,"-",(J16-D16)/D16)) -> - | E39: =IF(E16=0,"-",IF(K16=0,"-",(K16-E16)/E16)) -> - | F39: =IF(F16=0,"-",IF(L16=0,"-",(L16-F16)/F16)) -> - | G39: =IF(G16=0,"-",IF(M16=0,"-",(M16-G16)/G16)) -> - | H39: =IF(H16=0,"-",IF(N16=0,"-",(N16-H16)/H16)) -> -
B40: Castilla y León | C40: =IF(C17=0,"-",IF(I17=0,"-",(I17-C17)/C17)) -> 1.3333333 | D40: =IF(D17=0,"-",IF(J17=0,"-",(J17-D17)/D17)) -> 1 | E40: =IF(E17=0,"-",IF(K17=0,"-",(K17-E17)/E17)) -> - | F40: =IF(F17=0,"-",IF(L17=0,"-",(L17-F17)/F17)) -> - | G40: =IF(G17=0,"-",IF(M17=0,"-",(M17-G17)/G17)) -> - | H40: =IF(H17=0,"-",IF(N17=0,"-",(N17-H17)/H17)) -> -
B41: Castilla-La Mancha | C41: =IF(C18=0,"-",IF(I18=0,"-",(I18-C18)/C18)) -> 1.3333333 | D41: =IF(D18=0,"-",IF(J18=0,"-",(J18-D18)/D18)) -> 2.5 | E41: =IF(E18=0,"-",IF(K18=0,"-",(K18-E18)/E18)) -> - | F41: =IF(F18=0,"-",IF(L18=0,"-",(L18-F18)/F18)) -> - | G41: =IF(G18=0,"-",IF(M18=0,"-",(M18-G18)/G18)) -> - | H41: =IF(H18=0,"-",IF(N18=0,"-",(N18-H18)/H18)) -> -
B42: Cataluña | C42: =IF(C19=0,"-",IF(I19=0,"-",(I19-C19)/C19)) -> -0.2 | D42: =IF(D19=0,"-",IF(J19=0,"-",(J19-D19)/D19)) -> -0.5 | E42: =IF(E19=0,"-",IF(K19=0,"-",(K19-E19)/E19)) -> 1 | F42: =IF(F19=0,"-",IF(L19=0,"-",(L19-F19)/F19)) -> - | G42: =IF(G19=0,"-",IF(M19=0,"-",(M19-G19)/G19)) -> - | H42: =IF(H19=0,"-",IF(N19=0,"-",(N19-H19)/H19)) -> -
B43: Comunitat Valenciana | C43: =IF(C20=0,"-",IF(I20=0,"-",(I20-C20)/C20)) -> -0.25 | D43: =IF(D20=0,"-",IF(J20=0,"-",(J20-D20)/D20)) -> -0.35 | E43: =IF(E20=0,"-",IF(K20=0,"-",(K20-E20)/E20)) -> - | F43: =IF(F20=0,"-",IF(L20=0,"-",(L20-F20)/F20)) -> - | G43: =IF(G20=0,"-",IF(M20=0,"-",(M20-G20)/G20)) -> - | H43: =IF(H20=0,"-",IF(N20=0,"-",(N20-H20)/H20)) -> -
B44: Extremadura | C44: =IF(C21=0,"-",IF(I21=0,"-",(I21-C21)/C21)) -> -0.875 | D44: =IF(D21=0,"-",IF(J21=0,"-",(J21-D21)/D21)) -> - | E44: =IF(E21=0,"-",IF(K21=0,"-",(K21-E21)/E21)) -> - | F44: =IF(F21=0,"-",IF(L21=0,"-",(L21-F21)/F21)) -> - | G44: =IF(G21=0,"-",IF(M21=0,"-",(M21-G21)/G21)) -> - | H44: =IF(H21=0,"-",IF(N21=0,"-",(N21-H21)/H21)) -> -
B45: Galicia | C45: =IF(C22=0,"-",IF(I22=0,"-",(I22-C22)/C22)) -> -0.33333333 | D45: =IF(D22=0,"-",IF(J22=0,"-",(J22-D22)/D22)) -> 0 | E45: =IF(E22=0,"-",IF(K22=0,"-",(K22-E22)/E22)) -> - | F45: =IF(F22=0,"-",IF(L22=0,"-",(L22-F22)/F22)) -> 1 | G45: =IF(G22=0,"-",IF(M22=0,"-",(M22-G22)/G22)) -> 1 | H45: =IF(H22=0,"-",IF(N22=0,"-",(N22-H22)/H22)) -> -
... B51: España | C51: =IF(C28=0,"-",IF(I28=0,"-",(I28-C28)/C28)) -> -0.025641026 | D51: =IF(D28=0,"-",IF(J28=0,"-",(J28-D28)/D28)) -> -0.097087379 | E51: =IF(E28=0,"-",IF(K28=0,"-",(K28-E28)/E28)) -> 0.5 | F51: =IF(F28=0,"-",IF(L28=0,"-",(L28-F28)/F28)) -> 0.1 | G51: =IF(G28=0,"-",IF(M28=0,"-",(M28-G28)/G28)) -> 0.125 | H51: =IF(H28=0,"-",IF(N28=0,"-",(N28-H28)/H28)) -> 0

Sheet Jdos Menores_Sentencias
C9: 2º trimestre 2025 | G9: 2º trimestre 2026
C10: TOTAL Sentencias Por delitos | D10: Sentencias Con imposicion de medidas | E10: Sentencias Sin imposicion de medidas | F10: Sentencias previa conformidad | G10: TOTAL Sentencias Por delitos | H10: Sentencias Con imposicion de medidas | I10: Sentencias Sin imposicion de medidas | J10: Sentencias previa conformidad
B11: Andalucía | C11: =SUM(D11:E11) -> 36 | D11: 29 | E11: 7 | F11: 20 | G11: =SUM(H11:I11) -> 31 | H11: 31 | I11: 0 | J11: 21
B12: Aragón | C12: =SUM(D12:E12) -> 2 | D12: 2 | E12: 0 | F12: 2 | G12: =SUM(H12:I12) -> 4 | H12: 4 | I12: 0 | J12: 1
B13: Asturias | C13: =SUM(D13:E13) -> 0 | D13: 0 | E13: 0 | F13: 0 | G13: =SUM(H13:I13) -> 1 | H13: 1 | I13: 0 | J13: 0
B14: Illes Balears | C14: =SUM(D14:E14) -> 3 | D14: 3 | E14: 0 | F14: 1 | G14: =SUM(H14:I14) -> 7 | H14: 6 | I14: 1 | J14: 4
B15: Canarias | C15: =SUM(D15:E15) -> 11 | D15: 11 | E15: 0 | F15: 11 | G15: =SUM(H15:I15) -> 9 | H15: 9 | I15: 0 | J15: 8
B16: Cantabria | C16: =SUM(D16:E16) -> 0 | D16: 0 | E16: 0 | F16: 0 | G16: =SUM(H16:I16) -> 2 | H16: 1 | I16: 1 | J16: 1
B17: Castilla y León | C17: =SUM(D17:E17) -> 4 | D17: 3 | E17: 1 | F17: 1 | G17: =SUM(H17:I17) -> 7 | H17: 7 | I17: 0 | J17: 3
B18: Castilla-La Mancha | C18: =SUM(D18:E18) -> 3 | D18: 3 | E18: 0 | F18: 3 | G18: =SUM(H18:I18) -> 8 | H18: 7 | I18: 1 | J18: 7
B19: Cataluña | C19: =SUM(D19:E19) -> 10 | D19: 10 | E19: 0 | F19: 8 | G19: =SUM(H19:I19) -> 9 | H19: 8 | I19: 1 | J19: 8
B20: Comunitat Valenciana | C20: =SUM(D20:E20) -> 20 | D20: 20 | E20: 0 | F20: 16 | G20: =SUM(H20:I20) -> 16 | H20: 15 | I20: 1 | J20: 13
B21: Extremadura | C21: =SUM(D21:E21) -> 8 | D21: 7 | E21: 1 | F21: 5 | G21: =SUM(H21:I21) -> 1 | H21: 1 | I21: 0 | J21: 1
B22: Galicia | C22: =SUM(D22:E22) -> 7 | D22: 6 | E22: 1 | F22: 5 | G22: =SUM(H22:I22) -> 6 | H22: 4 | I22: 2 | J22: 3
... B27: La Rioja | C27: =SUM(D27:E27) -> 0 | D27: 0 | E27: 0 | F27: 0 | G27: =SUM(H27:I27) -> 2 | H27: 1 | I27: 1 | J27: 1
B28: España | C28: =SUM(C11:C27) -> 127 | D28: =SUM(D11:D27) -> 115 | E28: =SUM(E11:E27) -> 12 | F28: =SUM(F11:F27) -> 92 | G28: =SUM(G11:G27) -> 122 | H28: =SUM(H11:H27) -> 110 | I28: =SUM(I11:I27) -> 12 | J28: =SUM(J11:J27) -> 83
C32: Evolución 2º trimestre 2026/2º trimestre 2025
C33: Total Sentencias por Delitos | D33: Sentencias con Imposición de Medidas | E33: Sentencias sin Imposición de Medidas | F33: Sentencias previa conformidad
B34: Andalucía | C34: =IF(C11=0,"-",IF(G11=0,"-",(G11-C11)/C11)) -> -0.13888889 | D34: =IF(D11=0,"-",IF(H11=0,"-",(H11-D11)/D11)) -> 0.068965517 | E34: =IF(E11=0,"-",IF(I11=0,"-",(I11-E11)/E11)) -> - | F34: =IF(F11=0,"-",IF(J11=0,"-",(J11-F11)/F11)) -> 0.05
B35: Aragón | C35: =IF(C12=0,"-",IF(G12=0,"-",(G12-C12)/C12)) -> 1 | D35: =IF(D12=0,"-",IF(H12=0,"-",(H12-D12)/D12)) -> 1 | E35: =IF(E12=0,"-",IF(I12=0,"-",(I12-E12)/E12)) -> - | F35: =IF(F12=0,"-",IF(J12=0,"-",(J12-F12)/F12)) -> -0.5
B36: Asturias | C36: =IF(C13=0,"-",IF(G13=0,"-",(G13-C13)/C13)) -> - | D36: =IF(D13=0,"-",IF(H13=0,"-",(H13-D13)/D13)) -> - | E36: =IF(E13=0,"-",IF(I13=0,"-",(I13-E13)/E13)) -> - | F36: =IF(F13=0,"-",IF(J13=0,"-",(J13-F13)/F13)) -> -
B37: Illes Balears | C37: =IF(C14=0,"-",IF(G14=0,"-",(G14-C14)/C14)) -> 1.3333333 | D37: =IF(D14=0,"-",IF(H14=0,"-",(H14-D14)/D14)) -> 1 | E37: =IF(E14=0,"-",IF(I14=0,"-",(I14-E14)/E14)) -> - | F37: =IF(F14=0,"-",IF(J14=0,"-",(J14-F14)/F14)) -> 3
B38: Canarias | C38: =IF(C15=0,"-",IF(G15=0,"-",(G15-C15)/C15)) -> -0.18181818 | D38: =IF(D15=0,"-",IF(H15=0,"-",(H15-D15)/D15)) -> -0.18181818 | E38: =IF(E15=0,"-",IF(I15=0,"-",(I15-E15)/E15)) -> - | F38: =IF(F15=0,"-",IF(J15=0,"-",(J15-F15)/F15)) -> -0.27272727
B39: Cantabria | C39: =IF(C16=0,"-",IF(G16=0,"-",(G16-C16)/C16)) -> - | D39: =IF(D16=0,"-",IF(H16=0,"-",(H16-D16)/D16)) -> - | E39: =IF(E16=0,"-",IF(I16=0,"-",(I16-E16)/E16)) -> - | F39: =IF(F16=0,"-",IF(J16=0,"-",(J16-F16)/F16)) -> -
B40: Castilla y León | C40: =IF(C17=0,"-",IF(G17=0,"-",(G17-C17)/C17)) -> 0.75 | D40: =IF(D17=0,"-",IF(H17=0,"-",(H17-D17)/D17)) -> 1.3333333 | E40: =IF(E17=0,"-",IF(I17=0,"-",(I17-E17)/E17)) -> - | F40: =IF(F17=0,"-",IF(J17=0,"-",(J17-F17)/F17)) -> 2
B41: Castilla-La Mancha | C41: =IF(C18=0,"-",IF(G18=0,"-",(G18-C18)/C18)) -> 1.6666667 | D41: =IF(D18=0,"-",IF(H18=0,"-",(H18-D18)/D18)) -> 1.3333333 | E41: =IF(E18=0,"-",IF(I18=0,"-",(I18-E18)/E18)) -> - | F41: =IF(F18=0,"-",IF(J18=0,"-",(J18-F18)/F18)) -> 1.3333333
B42: Cataluña | C42: =IF(C19=0,"-",IF(G19=0,"-",(G19-C19)/C19)) -> -0.1 | D42: =IF(D19=0,"-",IF(H19=0,"-",(H19-D19)/D19)) -> -0.2 | E42: =IF(E19=0,"-",IF(I19=0,"-",(I19-E19)/E19)) -> - | F42: =IF(F19=0,"-",IF(J19=0,"-",(J19-F19)/F19)) -> 0
B43: Comunitat Valenciana | C43: =IF(C20=0,"-",IF(G20=0,"-",(G20-C20)/C20)) -> -0.2 | D43: =IF(D20=0,"-",IF(H20=0,"-",(H20-D20)/D20)) -> -0.25 | E43: =IF(E20=0,"-",IF(I20=0,"-",(I20-E20)/E20)) -> - | F43: =IF(F20=0,"-",IF(J20=0,"-",(J20-F20)/F20)) -> -0.1875
B44: Extremadura | C44: =IF(C21=0,"-",IF(G21=0,"-",(G21-C21)/C21)) -> -0.875 | D44: =IF(D21=0,"-",IF(H21=0,"-",(H21-D21)/D21)) -> -0.85714286 | E44: =IF(E21=0,"-",IF(I21=0,"-",(I21-E21)/E21)) -> - | F44: =IF(F21=0,"-",IF(J21=0,"-",(J21-F21)/F21)) -> -0.8
B45: Galicia | C45: =IF(C22=0,"-",IF(G22=0,"-",(G22-C22)/C22)) -> -0.14285714 | D45: =IF(D22=0,"-",IF(H22=0,"-",(H22-D22)/D22)) -> -0.33333333 | E45: =IF(E22=0,"-",IF(I22=0,"-",(I22-E22)/E22)) -> 1 | F45: =IF(F22=0,"-",IF(J22=0,"-",(J22-F22)/F22)) -> -0.4
... B51: España | C51: =IF(C28=0,"-",IF(G28=0,"-",(G28-C28)/C28)) -> -0.039370079 | D51: =IF(D28=0,"-",IF(H28=0,"-",(H28-D28)/D28)) -> -0.043478261 | E51: =IF(E28=0,"-",IF(I28=0,"-",(I28-E28)/E28)) -> 0 | F51: =IF(F28=0,"-",IF(J28=0,"-",(J28-F28)/F28)) -> -0.097826087

Sheet Jdos Guardia_Asuntos
C13: 2º trimestre 2025 | I13: 2º trimestre 2026 | O13: Evolución 2º trimestre 2026/2º trimestre 2025
C14: Asuntos ingresados | D14: Con medidas | F14: Sin medidas | G14: Remitidas al J.V.S.M | H14: Pendientes final trimestre | I14: Asuntos ingresados | J14: Con medidas | L14: Sin medidas | M14: Remitidas al J.V.S.M | N14: Pendientes final trimestre | O14: Asuntos ingresados | P14: Con medidas | R14: Sin medidas | S14: Remitidas al J.V.S.M | T14: Pendientes final trimestre
D15: De O.P. | E15: De Resto | J15: De O.P. | K15: De Resto | P15: De O.P. | Q15: De Resto
B16: Andalucía | C16: 607 | D16: 267 | E16: 110 | F16: 230 | G16: 606 | H16: 1 | I16: 663 | J16: 234 | K16: 156 | L16: 273 | M16: 663 | N16: 0 | O16: =IF(C16=0,"-",(I16-C16)/C16) -> 0.092257002 | P16: =IF(D16=0,"-",(J16-D16)/D16) -> -0.12359551 | Q16: =IF(E16=0,"-",(K16-E16)/E16) -> 0.41818182 | R16: =IF(F16=0,"-",(L16-F16)/F16) -> 0.18695652 | S16: =IF(G16=0,"-",(M16-G16)/G16) -> 0.094059406 | T16: =IF(H16=0,"-",(N16-H16)/H16) -> -1
B17: Aragón | C17: 304 | D17: 92 | E17: 31 | F17: 181 | G17: 304 | H17: 0 | I17: 86 | J17: 4 | K17: 18 | L17: 64 | M17: 86 | N17: 0 | O17: =IF(C17=0,"-",(I17-C17)/C17) -> -0.71710526 | P17: =IF(D17=0,"-",(J17-D17)/D17) -> -0.95652174 | Q17: =IF(E17=0,"-",(K17-E17)/E17) -> -0.41935484 | R17: =IF(F17=0,"-",(L17-F17)/F17) -> -0.64640884 | S17: =IF(G17=0,"-",(M17-G17)/G17) -> -0.71710526 | T17: =IF(H17=0,"-",(N17-H17)/H17) -> -
B18: Asturias | C18: 137 | D18: 45 | E18: 49 | F18: 43 | G18: 137 | H18: 0 | I18: 202 | J18: 55 | K18: 12 | L18: 135 | M18: 202 | N18: 0 | O18: =IF(C18=0,"-",(I18-C18)/C18) -> 0.47445255 | P18: =IF(D18=0,"-",(J18-D18)/D18) -> 0.22222222 | Q18: =IF(E18=0,"-",(K18-E18)/E18) -> -0.75510204 | R18: =IF(F18=0,"-",(L18-F18)/F18) -> 2.1395349 | S18: =IF(G18=0,"-",(M18-G18)/G18) -> 0.47445255 | T18: =IF(H18=0,"-",(N18-H18)/H18) -> -
B19: Illes Balears | C19: 590 | D19: 158 | E19: 47 | F19: 385 | G19: 585 | H19: 5 | I19: 193 | J19: 34 | K19: 15 | L19: 144 | M19: 193 | N19: 0 | O19: =IF(C19=0,"-",(I19-C19)/C19) -> -0.67288136 | P19: =IF(D19=0,"-",(J19-D19)/D19) -> -0.78481013 | Q19: =IF(E19=0,"-",(K19-E19)/E19) -> -0.68085106 | R19: =IF(F19=0,"-",(L19-F19)/F19) -> -0.62597403 | S19: =IF(G19=0,"-",(M19-G19)/G19) -> -0.67008547 | T19: =IF(H19=0,"-",(N19-H19)/H19) -> -1
B20: Canarias | C20: 300 | D20: 122 | E20: 49 | F20: 129 | G20: 300 | H20: 0 | I20: 219 | J20: 71 | K20: 34 | L20: 114 | M20: 219 | N20: 0 | O20: =IF(C20=0,"-",(I20-C20)/C20) -> -0.27 | P20: =IF(D20=0,"-",(J20-D20)/D20) -> -0.41803279 | Q20: =IF(E20=0,"-",(K20-E20)/E20) -> -0.30612245 | R20: =IF(F20=0,"-",(L20-F20)/F20) -> -0.11627907 | S20: =IF(G20=0,"-",(M20-G20)/G20) -> -0.27 | T20: =IF(H20=0,"-",(N20-H20)/H20) -> -
B21: Cantabria | C21: 79 | D21: 43 | E21: 6 | F21: 30 | G21: 79 | H21: 0 | I21: 61 | J21: 17 | K21: 4 | L21: 40 | M21: 61 | N21: 0 | O21: =IF(C21=0,"-",(I21-C21)/C21) -> -0.2278481 | P21: =IF(D21=0,"-",(J21-D21)/D21) -> -0.60465116 | Q21: =IF(E21=0,"-",(K21-E21)/E21) -> -0.33333333 | R21: =IF(F21=0,"-",(L21-F21)/F21) -> 0.33333333 | S21: =IF(G21=0,"-",(M21-G21)/G21) -> -0.2278481 | T21: =IF(H21=0,"-",(N21-H21)/H21) -> -
B22: Castilla y León | C22: 233 | D22: 99 | E22: 20 | F22: 114 | G22: 231 | H22: 2 | I22: 312 | J22: 103 | K22: 26 | L22: 183 | M22: 312 | N22: 0 | O22: =IF(C22=0,"-",(I22-C22)/C22) -> 0.33905579 | P22: =IF(D22=0,"-",(J22-D22)/D22) -> 0.04040404 | Q22: =IF(E22=0,"-",(K22-E22)/E22) -> 0.3 | R22: =IF(F22=0,"-",(L22-F22)/F22) -> 0.60526316 | S22: =IF(G22=0,"-",(M22-G22)/G22) -> 0.35064935 | T22: =IF(H22=0,"-",(N22-H22)/H22) -> -1
B23: Castilla-La Mancha | C23: 185 | D23: 94 | E23: 25 | F23: 66 | G23: 183 | H23: 2 | I23: 284 | J23: 144 | K23: 30 | L23: 110 | M23: 281 | N23: 3 | O23: =IF(C23=0,"-",(I23-C23)/C23) -> 0.53513514 | P23: =IF(D23=0,"-",(J23-D23)/D23) -> 0.53191489 | Q23: =IF(E23=0,"-",(K23-E23)/E23) -> 0.2 | R23: =IF(F23=0,"-",(L23-F23)/F23) -> 0.66666667 | S23: =IF(G23=0,"-",(M23-G23)/G23) -> 0.53551913 | T23: =IF(H23=0,"-",(N23-H23)/H23) -> 0.5
B24: Cataluña | C24: 446 | D24: 247 | E24: 44 | F24: 155 | G24: 442 | H24: 4 | I24: 449 | J24: 250 | K24: 16 | L24: 183 | M24: 449 | N24: 0 | O24: =IF(C24=0,"-",(I24-C24)/C24) -> 0.0067264574 | P24: =IF(D24=0,"-",(J24-D24)/D24) -> 0.012145749 | Q24: =IF(E24=0,"-",(K24-E24)/E24) -> -0.63636364 | R24: =IF(F24=0,"-",(L24-F24)/F24) -> 0.18064516 | S24: =IF(G24=0,"-",(M24-G24)/G24) -> 0.015837104 | T24: =IF(H24=0,"-",(N24-H24)/H24) -> -1
B25: Comunitat Valenciana | C25: 563 | D25: 238 | E25: 118 | F25: 207 | G25: 561 | H25: 2 | I25: 477 | J25: 169 | K25: 106 | L25: 202 | M25: 477 | N25: 0 | O25: =IF(C25=0,"-",(I25-C25)/C25) -> -0.15275311 | P25: =IF(D25=0,"-",(J25-D25)/D25) -> -0.28991597 | Q25: =IF(E25=0,"-",(K25-E25)/E25) -> -0.10169492 | R25: =IF(F25=0,"-",(L25-F25)/F25) -> -0.024154589 | S25: =IF(G25=0,"-",(M25-G25)/G25) -> -0.14973262 | T25: =IF(H25=0,"-",(N25-H25)/H25) -> -1
B26: Extremadura | C26: 91 | D26: 39 | E26: 15 | F26: 37 | G26: 90 | H26: 1 | I26: 201 | J26: 78 | K26: 33 | L26: 90 | M26: 201 | N26: 0 | O26: =IF(C26=0,"-",(I26-C26)/C26) -> 1.2087912 | P26: =IF(D26=0,"-",(J26-D26)/D26) -> 1 | Q26: =IF(E26=0,"-",(K26-E26)/E26) -> 1.2 | R26: =IF(F26=0,"-",(L26-F26)/F26) -> 1.4324324 | S26: =IF(G26=0,"-",(M26-G26)/G26) -> 1.2333333 | T26: =IF(H26=0,"-",(N26-H26)/H26) -> -1
B27: Galicia | C27: 272 | D27: 140 | E27: 28 | F27: 104 | G27: 270 | H27: 2 | I27: 333 | J27: 138 | K27: 16 | L27: 179 | M27: 324 | N27: 9 | O27: =IF(C27=0,"-",(I27-C27)/C27) -> 0.22426471 | P27: =IF(D27=0,"-",(J27-D27)/D27) -> -0.014285714 | Q27: =IF(E27=0,"-",(K27-E27)/E27) -> -0.42857143 | R27: =IF(F27=0,"-",(L27-F27)/F27) -> 0.72115385 | S27: =IF(G27=0,"-",(M27-G27)/G27) -> 0.2 | T27: =IF(H27=0,"-",(N27-H27)/H27) -> 3.5
... B32: La Rioja | C32: 40 | D32: 7 | E32: 3 | F32: 30 | G32: 40 | H32: 0 | I32: 22 | J32: 8 | K32: 3 | L32: 11 | M32: 22 | N32: 0 | O32: =IF(C32=0,"-",(I32-C32)/C32) -> -0.45 | P32: =IF(D32=0,"-",(J32-D32)/D32) -> 0.14285714 | Q32: =IF(E32=0,"-",(K32-E32)/E32) -> 0 | R32: =IF(F32=0,"-",(L32-F32)/F32) -> -0.63333333 | S32: =IF(G32=0,"-",(M32-G32)/G32) -> -0.45 | T32: =IF(H32=0,"-",(N32-H32)/H32) -> -
B33: España | C33: =SUM(C16:C32) -> 4863 | D33: =SUM(D16:D32) -> 2073 | E33: =SUM(E16:E32) -> 660 | F33: =SUM(F16:F32) -> 2130 | G33: =SUM(G16:G32) -> 4835 | H33: =SUM(H16:H32) -> 28 | I33: =SUM(I16:I32) -> 4632 | J33: =SUM(J16:J32) -> 1763 | ... N33: =SUM(N16:N32) -> 13 | O33: =IF(C33=0,"-",(I33-C33)/C33) -> -0.047501542 | P33: =IF(D33=0,"-",(J33-D33)/D33) -> -0.14954173 | Q33: =IF(E33=0,"-",(K33-E33)/E33) -> -0.14848485 | R33: =IF(F33=0,"-",(L33-F33)/F33) -> 0.083098592 | S33: =IF(G33=0,"-",(M33-G33)/G33) -> -0.04467425 | T33: =IF(H33=0,"-",(N33-H33)/H33) -> -0.53571429

Sheet Jdos Guardia_Órdenes Protección
C14: 2º trimestre 2025 | F14: 2º trimestre 2026 | I14: Evolución 2º trimestre 2026/2º trimestre 2025
C15: Total Órdenes Protección | D15: Acordadas | E15: Denegadas | F15: Total Órdenes Protección | G15: Acordadas | H15: Denegadas | I15: Total Órdenes Protección | J15: Acordadas | K15: Denegadas
B16: Andalucía | C16: 267 | D16: 224 | E16: 43 | F16: 234 | G16: 219 | H16: 15 | I16: =IF(C16=0,"-",(F16-C16)/C16) -> -0.12359551 | J16: =IF(D16=0,"-",(G16-D16)/D16) -> -0.022321429 | K16: =IF(E16=0,"-",(H16-E16)/E16) -> -0.65116279
B17: Aragón | C17: 92 | D17: 61 | E17: 31 | F17: 4 | G17: 4 | H17: 0 | I17: =IF(C17=0,"-",(F17-C17)/C17) -> -0.95652174 | J17: =IF(D17=0,"-",(G17-D17)/D17) -> -0.93442623 | K17: =IF(E17=0,"-",(H17-E17)/E17) -> -1
B18: Asturias | C18: 45 | D18: 36 | E18: 9 | F18: 55 | G18: 39 | H18: 16 | I18: =IF(C18=0,"-",(F18-C18)/C18) -> 0.22222222 | J18: =IF(D18=0,"-",(G18-D18)/D18) -> 0.083333333 | K18: =IF(E18=0,"-",(H18-E18)/E18) -> 0.77777778
B19: Illes Balears | C19: 158 | D19: 130 | E19: 28 | F19: 34 | G19: 24 | H19: 10 | I19: =IF(C19=0,"-",(F19-C19)/C19) -> -0.78481013 | J19: =IF(D19=0,"-",(G19-D19)/D19) -> -0.81538462 | K19: =IF(E19=0,"-",(H19-E19)/E19) -> -0.64285714
B20: Canarias | C20: 122 | D20: 109 | E20: 13 | F20: 71 | G20: 59 | H20: 12 | I20: =IF(C20=0,"-",(F20-C20)/C20) -> -0.41803279 | J20: =IF(D20=0,"-",(G20-D20)/D20) -> -0.4587156 | K20: =IF(E20=0,"-",(H20-E20)/E20) -> -0.076923077
B21: Cantabria | C21: 43 | D21: 39 | E21: 4 | F21: 17 | G21: 16 | H21: 1 | I21: =IF(C21=0,"-",(F21-C21)/C21) -> -0.60465116 | J21: =IF(D21=0,"-",(G21-D21)/D21) -> -0.58974359 | K21: =IF(E21=0,"-",(H21-E21)/E21) -> -0.75
B22: Castilla y León | C22: 99 | D22: 74 | E22: 25 | F22: 103 | G22: 77 | H22: 26 | I22: =IF(C22=0,"-",(F22-C22)/C22) -> 0.04040404 | J22: =IF(D22=0,"-",(G22-D22)/D22) -> 0.040540541 | K22: =IF(E22=0,"-",(H22-E22)/E22) -> 0.04
B23: Castilla-La Mancha | C23: 94 | D23: 79 | E23: 15 | F23: 144 | G23: 113 | H23: 31 | I23: =IF(C23=0,"-",(F23-C23)/C23) -> 0.53191489 | J23: =IF(D23=0,"-",(G23-D23)/D23) -> 0.43037975 | K23: =IF(E23=0,"-",(H23-E23)/E23) -> 1.0666667
B24: Cataluña | C24: 247 | D24: 135 | E24: 112 | F24: 250 | G24: 146 | H24: 104 | I24: =IF(C24=0,"-",(F24-C24)/C24) -> 0.012145749 | J24: =IF(D24=0,"-",(G24-D24)/D24) -> 0.081481481 | K24: =IF(E24=0,"-",(H24-E24)/E24) -> -0.071428571
B25: Comunitat Valenciana | C25: 238 | D25: 186 | E25: 52 | F25: 169 | G25: 139 | H25: 30 | I25: =IF(C25=0,"-",(F25-C25)/C25) -> -0.28991597 | J25: =IF(D25=0,"-",(G25-D25)/D25) -> -0.25268817 | K25: =IF(E25=0,"-",(H25-E25)/E25) -> -0.42307692
B26: Extremadura | C26: 39 | D26: 35 | E26: 4 | F26: 78 | G26: 68 | H26: 10 | I26: =IF(C26=0,"-",(F26-C26)/C26) -> 1 | J26: =IF(D26=0,"-",(G26-D26)/D26) -> 0.94285714 | K26: =IF(E26=0,"-",(H26-E26)/E26) -> 1.5
B27: Galicia | C27: 140 | D27: 84 | E27: 56 | F27: 138 | G27: 97 | H27: 41 | I27: =IF(C27=0,"-",(F27-C27)/C27) -> -0.014285714 | J27: =IF(D27=0,"-",(G27-D27)/D27) -> 0.1547619 | K27: =IF(E27=0,"-",(H27-E27)/E27) -> -0.26785714
... B32: La Rioja | C32: 7 | D32: 7 | E32: 0 | F32: 8 | G32: 8 | H32: 0 | I32: =IF(C32=0,"-",(F32-C32)/C32) -> 0.14285714 | J32: =IF(D32=0,"-",(G32-D32)/D32) -> 0.14285714 | K32: =IF(E32=0,"-",(H32-E32)/E32) -> -
B33: España | C33: =SUM(C16:C32) -> 2073 | D33: =SUM(D16:D32) -> 1543 | E33: =SUM(E16:E32) -> 530 | F33: =SUM(F16:F32) -> 1763 | G33: =SUM(G16:G32) -> 1348 | H33: =SUM(H16:H32) -> 415 | I33: =IF(C33=0,"-",(F33-C33)/C33) -> -0.14954173 | J33: =IF(D33=0,"-",(G33-D33)/D33) -> -0.12637719 | K33: =IF(E33=0,"-",(H33-E33)/E33) -> -0.21698113

Sheet Audiencias_Pers Enjuiciadas
C9: 2º trimestre 2025 | H9: 2º trimestre 2026 | M9: Evolución 2º trimestre 2026/2º trimestre 2025
C10: Total | D10: Condenado Español | E10: Condenado Extranjero | F10: Absuelto Español | G10: Absuelto Extranjero | H10: Total | I10: Condenado Español | J10: Condenado Extranjero | K10: Absuelto Español | L10: Absuelto Extranjero | M10: Total | N10: Condenado Español | O10: Condenado Extranjero | P10: Absuelto Español | Q10: Absuelto Extranjero
B11: Andalucía | C11: 27 | D11: 16 | E11: 8 | F11: 2 | G11: 1 | H11: 33 | I11: 27 | J11: 2 | K11: 4 | L11: 0 | M11: =IF(C11=0,"-",IF(H11=0,"-",(H11-C11)/C11)) -> 0.22222222 | N11: =IF(D11=0,"-",IF(I11=0,"-",(I11-D11)/D11)) -> 0.6875 | O11: =IF(E11=0,"-",IF(J11=0,"-",(J11-E11)/E11)) -> -0.75 | P11: =IF(F11=0,"-",IF(K11=0,"-",(K11-F11)/F11)) -> 1 | Q11: =IF(G11=0,"-",IF(L11=0,"-",(L11-G11)/G11)) -> -
B12: Aragón | C12: 7 | D12: 4 | E12: 2 | F12: 1 | G12: 0 | H12: 11 | I12: 3 | J12: 6 | K12: 2 | L12: 0 | M12: =IF(C12=0,"-",IF(H12=0,"-",(H12-C12)/C12)) -> 0.57142857 | N12: =IF(D12=0,"-",IF(I12=0,"-",(I12-D12)/D12)) -> -0.25 | O12: =IF(E12=0,"-",IF(J12=0,"-",(J12-E12)/E12)) -> 2 | P12: =IF(F12=0,"-",IF(K12=0,"-",(K12-F12)/F12)) -> 1 | Q12: =IF(G12=0,"-",IF(L12=0,"-",(L12-G12)/G12)) -> -
B13: Asturias | C13: 4 | D13: 2 | E13: 1 | F13: 1 | G13: 0 | H13: 7 | I13: 3 | J13: 3 | K13: 0 | L13: 1 | M13: =IF(C13=0,"-",IF(H13=0,"-",(H13-C13)/C13)) -> 0.75 | N13: =IF(D13=0,"-",IF(I13=0,"-",(I13-D13)/D13)) -> 0.5 | O13: =IF(E13=0,"-",IF(J13=0,"-",(J13-E13)/E13)) -> 2 | P13: =IF(F13=0,"-",IF(K13=0,"-",(K13-F13)/F13)) -> - | Q13: =IF(G13=0,"-",IF(L13=0,"-",(L13-G13)/G13)) -> -
B14: Illes Balears | C14: 1 | D14: 1 | E14: 0 | F14: 0 | G14: 0 | H14: 4 | I14: 2 | J14: 2 | K14: 0 | L14: 0 | M14: =IF(C14=0,"-",IF(H14=0,"-",(H14-C14)/C14)) -> 3 | N14: =IF(D14=0,"-",IF(I14=0,"-",(I14-D14)/D14)) -> 1 | O14: =IF(E14=0,"-",IF(J14=0,"-",(J14-E14)/E14)) -> - | P14: =IF(F14=0,"-",IF(K14=0,"-",(K14-F14)/F14)) -> - | Q14: =IF(G14=0,"-",IF(L14=0,"-",(L14-G14)/G14)) -> -
B15: Canarias | C15: 6 | D15: 1 | E15: 2 | F15: 2 | G15: 1 | H15: 3 | I15: 2 | J15: 0 | K15: 0 | L15: 1 | M15: =IF(C15=0,"-",IF(H15=0,"-",(H15-C15)/C15)) -> -0.5 | N15: =IF(D15=0,"-",IF(I15=0,"-",(I15-D15)/D15)) -> 1 | O15: =IF(E15=0,"-",IF(J15=0,"-",(J15-E15)/E15)) -> - | P15: =IF(F15=0,"-",IF(K15=0,"-",(K15-F15)/F15)) -> - | Q15: =IF(G15=0,"-",IF(L15=0,"-",(L15-G15)/G15)) -> 0
B16: Cantabria | C16: 0 | D16: 0 | E16: 0 | F16: 0 | G16: 0 | H16: 1 | I16: 0 | J16: 0 | K16: 1 | L16: 0 | M16: =IF(C16=0,"-",IF(H16=0,"-",(H16-C16)/C16)) -> - | N16: =IF(D16=0,"-",IF(I16=0,"-",(I16-D16)/D16)) -> - | O16: =IF(E16=0,"-",IF(J16=0,"-",(J16-E16)/E16)) -> - | P16: =IF(F16=0,"-",IF(K16=0,"-",(K16-F16)/F16)) -> - | Q16: =IF(G16=0,"-",IF(L16=0,"-",(L16-G16)/G16)) -> -
B17: Castilla y León | C17: 1 | D17: 0 | E17: 1 | F17: 0 | G17: 0 | H17: 7 | I17: 4 | J17: 2 | K17: 1 | L17: 0 | M17: =IF(C17=0,"-",IF(H17=0,"-",(H17-C17)/C17)) -> 6 | N17: =IF(D17=0,"-",IF(I17=0,"-",(I17-D17)/D17)) -> - | O17: =IF(E17=0,"-",IF(J17=0,"-",(J17-E17)/E17)) -> 1 | P17: =IF(F17=0,"-",IF(K17=0,"-",(K17-F17)/F17)) -> - | Q17: =IF(G17=0,"-",IF(L17=0,"-",(L17-G17)/G17)) -> -
B18: Castilla-La Mancha | C18: 1 | D18: 0 | E18: 0 | F18: 1 | G18: 0 | H18: 5 | I18: 3 | J18: 1 | K18: 1 | L18: 0 | M18: =IF(C18=0,"-",IF(H18=0,"-",(H18-C18)/C18)) -> 4 | N18: =IF(D18=0,"-",IF(I18=0,"-",(I18-D18)/D18)) -> - | O18: =IF(E18=0,"-",IF(J18=0,"-",(J18-E18)/E18)) -> - | P18: =IF(F18=0,"-",IF(K18=0,"-",(K18-F18)/F18)) -> 0 | Q18: =IF(G18=0,"-",IF(L18=0,"-",(L18-G18)/G18)) -> -
B19: Cataluña | C19: 25 | D19: 9 | E19: 14 | F19: 1 | G19: 1 | H19: 47 | I19: 18 | J19: 16 | K19: 5 | L19: 8 | M19: =IF(C19=0,"-",IF(H19=0,"-",(H19-C19)/C19)) -> 0.88 | N19: =IF(D19=0,"-",IF(I19=0,"-",(I19-D19)/D19)) -> 1 | O19: =IF(E19=0,"-",IF(J19=0,"-",(J19-E19)/E19)) -> 0.14285714 | P19: =IF(F19=0,"-",IF(K19=0,"-",(K19-F19)/F19)) -> 4 | Q19: =IF(G19=0,"-",IF(L19=0,"-",(L19-G19)/G19)) -> 7
B20: Comunitat Valenciana | C20: 19 | D20: 12 | E20: 3 | F20: 4 | G20: 0 | H20: 25 | I20: 6 | J20: 8 | K20: 6 | L20: 5 | M20: =IF(C20=0,"-",IF(H20=0,"-",(H20-C20)/C20)) -> 0.31578947 | N20: =IF(D20=0,"-",IF(I20=0,"-",(I20-D20)/D20)) -> -0.5 | O20: =IF(E20=0,"-",IF(J20=0,"-",(J20-E20)/E20)) -> 1.6666667 | P20: =IF(F20=0,"-",IF(K20=0,"-",(K20-F20)/F20)) -> 0.5 | Q20: =IF(G20=0,"-",IF(L20=0,"-",(L20-G20)/G20)) -> -
B21: Extremadura | C21: 2 | D21: 1 | E21: 1 | F21: 0 | G21: 0 | H21: 2 | I21: 2 | J21: 0 | K21: 0 | L21: 0 | M21: =IF(C21=0,"-",IF(H21=0,"-",(H21-C21)/C21)) -> 0 | N21: =IF(D21=0,"-",IF(I21=0,"-",(I21-D21)/D21)) -> 1 | O21: =IF(E21=0,"-",IF(J21=0,"-",(J21-E21)/E21)) -> - | P21: =IF(F21=0,"-",IF(K21=0,"-",(K21-F21)/F21)) -> - | Q21: =IF(G21=0,"-",IF(L21=0,"-",(L21-G21)/G21)) -> -
B22: Galicia | C22: 8 | D22: 4 | E22: 4 | F22: 0 | G22: 0 | H22: 7 | I22: 4 | J22: 2 | K22: 1 | L22: 0 | M22: =IF(C22=0,"-",IF(H22=0,"-",(H22-C22)/C22)) -> -0.125 | N22: =IF(D22=0,"-",IF(I22=0,"-",(I22-D22)/D22)) -> 0 | O22: =IF(E22=0,"-",IF(J22=0,"-",(J22-E22)/E22)) -> -0.5 | P22: =IF(F22=0,"-",IF(K22=0,"-",(K22-F22)/F22)) -> - | Q22: =IF(G22=0,"-",IF(L22=0,"-",(L22-G22)/G22)) -> -
... B27: La Rioja | C27: 0 | D27: 0 | E27: 0 | F27: 0 | G27: 0 | H27: 4 | I27: 2 | J27: 2 | K27: 0 | L27: 0 | M27: =IF(C27=0,"-",IF(H27=0,"-",(H27-C27)/C27)) -> - | N27: =IF(D27=0,"-",IF(I27=0,"-",(I27-D27)/D27)) -> - | O27: =IF(E27=0,"-",IF(J27=0,"-",(J27-E27)/E27)) -> - | P27: =IF(F27=0,"-",IF(K27=0,"-",(K27-F27)/F27)) -> - | Q27: =IF(G27=0,"-",IF(L27=0,"-",(L27-G27)/G27)) -> -
B28: España | C28: =SUM(C11:C27) -> 135 | D28: =SUM(D11:D27) -> 64 | E28: =SUM(E11:E27) -> 48 | F28: =SUM(F11:F27) -> 17 | G28: =SUM(G11:G27) -> 6 | H28: =SUM(H11:H27) -> 197 | I28: =SUM(I11:I27) -> 97 | J28: =SUM(J11:J27) -> 55 | ... L28: =SUM(L11:L27) -> 20 | M28: =IF(C28=0,"-",IF(H28=0,"-",(H28-C28)/C28)) -> 0.45925926 | N28: =IF(D28=0,"-",IF(I28=0,"-",(I28-D28)/D28)) -> 0.515625 | O28: =IF(E28=0,"-",IF(J28=0,"-",(J28-E28)/E28)) -> 0.14583333 | P28: =IF(F28=0,"-",IF(K28=0,"-",(K28-F28)/F28)) -> 0.47058824 | Q28: =IF(G28=0,"-",IF(L28=0,"-",(L28-G28)/G28)) -> 2.3333333

Sheet Audiencias_Sentencias
C9: 2º trimestre 2025 | K9: 2º trimestre 2026 | S9: 2º trimestre 2025 | W9: 2º trimestre 2026
C10: Sentencias Condenatorias | G10: Sentencias Absolutorias | K10: Sentencias Condenatorias | O10: Sentencias Absolutorias | S10: Total Sentencias
C11: Total | D11: Sumarios | E11: Procd. Abreviados | F11: Procd. Jurado | G11: Total | H11: Sumarios | I11: Procd. Abreviados | J11: Procd. Jurado | K11: Total | L11: Sumarios | M11: Procd. Abreviados | N11: Procd. Jurado | O11: Total | P11: Sumarios | Q11: Procd. Abreviados | R11: Procd. Jurado | S11: Total | T11: Sumarios | U11: Procd. Abreviados | V11: Procd. Jurado | W11: Total | X11: Sumarios | Y11: Procd. Abreviados | Z11: Procd. Jurado
B12: Andalucía | C12: 24 | D12: 14 | E12: 8 | F12: 2 | G12: 3 | H12: 3 | I12: 0 | J12: 0 | K12: 29 | L12: 21 | M12: 6 | N12: 2 | O12: 4 | P12: 4 | Q12: 0 | R12: 0 | S12: =SUM(T12:V12) -> 27 | T12: =SUM(D12,H12) -> 17 | U12: =SUM(E12,I12) -> 8 | V12: =SUM(F12,J12) -> 2 | W12: =SUM(X12:Z12) -> 33 | X12: =SUM(L12,P12) -> 25 | Y12: =SUM(M12,Q12) -> 6 | Z12: =SUM(N12,R12) -> 2
B13: Aragón | C13: 6 | D13: 3 | E13: 2 | F13: 1 | G13: 1 | H13: 1 | I13: 0 | J13: 0 | K13: 8 | L13: 6 | M13: 2 | N13: 0 | O13: 2 | P13: 2 | Q13: 0 | R13: 0 | S13: =SUM(T13:V13) -> 7 | T13: =SUM(D13,H13) -> 4 | U13: =SUM(E13,I13) -> 2 | V13: =SUM(F13,J13) -> 1 | W13: =SUM(X13:Z13) -> 10 | X13: =SUM(L13,P13) -> 8 | Y13: =SUM(M13,Q13) -> 2 | Z13: =SUM(N13,R13) -> 0
B14: Asturias | C14: 3 | D14: 2 | E14: 1 | F14: 0 | G14: 1 | H14: 1 | I14: 0 | J14: 0 | K14: 6 | L14: 3 | M14: 3 | N14: 0 | O14: 1 | P14: 1 | Q14: 0 | R14: 0 | S14: =SUM(T14:V14) -> 4 | T14: =SUM(D14,H14) -> 3 | U14: =SUM(E14,I14) -> 1 | V14: =SUM(F14,J14) -> 0 | W14: =SUM(X14:Z14) -> 7 | X14: =SUM(L14,P14) -> 4 | Y14: =SUM(M14,Q14) -> 3 | Z14: =SUM(N14,R14) -> 0
B15: Illes Balears | C15: 1 | D15: 1 | E15: 0 | F15: 0 | G15: 0 | H15: 0 | I15: 0 | J15: 0 | K15: 4 | L15: 2 | M15: 2 | N15: 0 | O15: 0 | P15: 0 | Q15: 0 | R15: 0 | S15: =SUM(T15:V15) -> 1 | T15: =SUM(D15,H15) -> 1 | U15: =SUM(E15,I15) -> 0 | V15: =SUM(F15,J15) -> 0 | W15: =SUM(X15:Z15) -> 4 | X15: =SUM(L15,P15) -> 2 | Y15: =SUM(M15,Q15) -> 2 | Z15: =SUM(N15,R15) -> 0
B16: Canarias | C16: 3 | D16: 1 | E16: 2 | F16: 0 | G16: 3 | H16: 3 | I16: 0 | J16: 0 | K16: 2 | L16: 2 | M16: 0 | N16: 0 | O16: 1 | P16: 1 | Q16: 0 | R16: 0 | S16: =SUM(T16:V16) -> 6 | T16: =SUM(D16,H16) -> 4 | U16: =SUM(E16,I16) -> 2 | V16: =SUM(F16,J16) -> 0 | W16: =SUM(X16:Z16) -> 3 | X16: =SUM(L16,P16) -> 3 | Y16: =SUM(M16,Q16) -> 0 | Z16: =SUM(N16,R16) -> 0
B17: Cantabria | C17: 0 | D17: 0 | E17: 0 | F17: 0 | G17: 0 | H17: 0 | I17: 0 | J17: 0 | K17: 0 | L17: 0 | M17: 0 | N17: 0 | O17: 1 | P17: 0 | Q17: 1 | R17: 0 | S17: =SUM(T17:V17) -> 0 | T17: =SUM(D17,H17) -> 0 | U17: =SUM(E17,I17) -> 0 | V17: =SUM(F17,J17) -> 0 | W17: =SUM(X17:Z17) -> 1 | X17: =SUM(L17,P17) -> 0 | Y17: =SUM(M17,Q17) -> 1 | Z17: =SUM(N17,R17) -> 0
B18: Castilla y León | C18: 1 | D18: 1 | E18: 0 | F18: 0 | G18: 0 | H18: 0 | I18: 0 | J18: 0 | K18: 6 | L18: 6 | M18: 0 | N18: 0 | O18: 1 | P18: 1 | Q18: 0 | R18: 0 | S18: =SUM(T18:V18) -> 1 | T18: =SUM(D18,H18) -> 1 | U18: =SUM(E18,I18) -> 0 | V18: =SUM(F18,J18) -> 0 | W18: =SUM(X18:Z18) -> 7 | X18: =SUM(L18,P18) -> 7 | Y18: =SUM(M18,Q18) -> 0 | Z18: =SUM(N18,R18) -> 0
B19: Castilla-La Mancha | C19: 0 | D19: 0 | E19: 0 | F19: 0 | G19: 1 | H19: 1 | I19: 0 | J19: 0 | K19: 4 | L19: 2 | M19: 0 | N19: 2 | O19: 1 | P19: 1 | Q19: 0 | R19: 0 | S19: =SUM(T19:V19) -> 1 | T19: =SUM(D19,H19) -> 1 | U19: =SUM(E19,I19) -> 0 | V19: =SUM(F19,J19) -> 0 | W19: =SUM(X19:Z19) -> 5 | X19: =SUM(L19,P19) -> 3 | Y19: =SUM(M19,Q19) -> 0 | Z19: =SUM(N19,R19) -> 2
B20: Cataluña | C20: 23 | D20: 13 | E20: 3 | F20: 7 | G20: 2 | H20: 1 | I20: 1 | J20: 0 | K20: 34 | L20: 17 | M20: 7 | N20: 10 | O20: 13 | P20: 8 | Q20: 5 | R20: 0 | S20: =SUM(T20:V20) -> 25 | T20: =SUM(D20,H20) -> 14 | U20: =SUM(E20,I20) -> 4 | V20: =SUM(F20,J20) -> 7 | W20: =SUM(X20:Z20) -> 47 | X20: =SUM(L20,P20) -> 25 | Y20: =SUM(M20,Q20) -> 12 | Z20: =SUM(N20,R20) -> 10
B21: Comunitat Valenciana | C21: 15 | D21: 9 | E21: 4 | F21: 2 | G21: 4 | H21: 4 | I21: 0 | J21: 0 | K21: 14 | L21: 9 | M21: 4 | N21: 1 | O21: 11 | P21: 8 | Q21: 3 | R21: 0 | S21: =SUM(T21:V21) -> 19 | T21: =SUM(D21,H21) -> 13 | U21: =SUM(E21,I21) -> 4 | V21: =SUM(F21,J21) -> 2 | W21: =SUM(X21:Z21) -> 25 | X21: =SUM(L21,P21) -> 17 | Y21: =SUM(M21,Q21) -> 7 | Z21: =SUM(N21,R21) -> 1
B22: Extremadura | C22: 2 | D22: 1 | E22: 1 | F22: 0 | G22: 0 | H22: 0 | I22: 0 | J22: 0 | K22: 2 | L22: 1 | M22: 0 | N22: 1 | O22: 0 | P22: 0 | Q22: 0 | R22: 0 | S22: =SUM(T22:V22) -> 2 | T22: =SUM(D22,H22) -> 1 | U22: =SUM(E22,I22) -> 1 | V22: =SUM(F22,J22) -> 0 | W22: =SUM(X22:Z22) -> 2 | X22: =SUM(L22,P22) -> 1 | Y22: =SUM(M22,Q22) -> 0 | Z22: =SUM(N22,R22) -> 1
B23: Galicia | C23: 8 | D23: 3 | E23: 4 | F23: 1 | G23: 0 | H23: 0 | I23: 0 | J23: 0 | K23: 6 | L23: 5 | M23: 0 | N23: 1 | O23: 1 | P23: 1 | Q23: 0 | R23: 0 | S23: =SUM(T23:V23) -> 8 | T23: =SUM(D23,H23) -> 3 | U23: =SUM(E23,I23) -> 4 | V23: =SUM(F23,J23) -> 1 | W23: =SUM(X23:Z23) -> 7 | X23: =SUM(L23,P23) -> 6 | Y23: =SUM(M23,Q23) -> 0 | Z23: =SUM(N23,R23) -> 1
... B28: La Rioja | C28: 0 | D28: 0 | E28: 0 | F28: 0 | G28: 0 | H28: 0 | I28: 0 | J28: 0 | K28: 4 | L28: 1 | M28: 3 | N28: 0 | O28: 0 | P28: 0 | Q28: 0 | R28: 0 | S28: =SUM(T28:V28) -> 0 | T28: =SUM(D28,H28) -> 0 | U28: =SUM(E28,I28) -> 0 | V28: =SUM(F28,J28) -> 0 | W28: =SUM(X28:Z28) -> 4 | X28: =SUM(L28,P28) -> 1 | Y28: =SUM(M28,Q28) -> 3 | Z28: =SUM(N28,R28) -> 0
B29: Total | C29: =SUM(C12:C28) -> 112 | D29: =SUM(D12:D28) -> 69 | E29: =SUM(E12:E28) -> 30 | F29: =SUM(F12:F28) -> 13 | G29: =SUM(G12:G28) -> 23 | H29: =SUM(H12:H28) -> 19 | I29: =SUM(I12:I28) -> 3 | J29: =SUM(J12:J28) -> 1 | ... Z29: =SUM(Z12:Z28) -> 22
C33: Evolución 2º trimestre 2026/2º trimestre 2025 | G33: Evolución 2º trimestre 2026/2º trimestre 2025 | K33: Evolución 2º trimestre 2026/2º trimestre 2025
C34: Setencias Condenatorias | G34: Setencias Absolutorias | K34: Total Setencias
C35: Total | D35: Sumarios | E35: Procd. Abreviados | F35: Procd. Jurado | G35: Total | H35: Sumarios | I35: Procd. Abreviados | J35: Procd. Jurado | K35: Total | L35: Sumarios | M35: Procd. Abreviados | N35: Procd. Jurado
B36: Andalucía | C36: =IF(C12=0,"-",IF(K12=0,"-",(K12-C12)/C12)) -> 0.20833333 | D36: =IF(D12=0,"-",IF(L12=0,"-",(L12-D12)/D12)) -> 0.5 | E36: =IF(E12=0,"-",IF(M12=0,"-",(M12-E12)/E12)) -> -0.25 | F36: =IF(F12=0,"-",IF(N12=0,"-",(N12-F12)/F12)) -> 0 | G36: =IF(G12=0,"-",IF(O12=0,"-",(O12-G12)/G12)) -> 0.33333333 | H36: =IF(H12=0,"-",IF(P12=0,"-",(P12-H12)/H12)) -> 0.33333333 | I36: =IF(I12=0,"-",IF(Q12=0,"-",(Q12-I12)/I12)) -> - | J36: =IF(J12=0,"-",IF(R12=0,"-",(R12-J12)/J12)) -> - | K36: =IF(S12=0,"-",IF(W12=0,"-",(W12-S12)/S12)) -> 0.22222222 | L36: =IF(T12=0,"-",IF(X12=0,"-",(X12-T12)/T12)) -> 0.47058824 | M36: =IF(U12=0,"-",IF(Y12=0,"-",(Y12-U12)/U12)) -> -0.25 | N36: =IF(V12=0,"-",IF(Z12=0,"-",(Z12-V12)/V12)) -> 0
B37: Aragón | C37: =IF(C13=0,"-",IF(K13=0,"-",(K13-C13)/C13)) -> 0.33333333 | D37: =IF(D13=0,"-",IF(L13=0,"-",(L13-D13)/D13)) -> 1 | E37: =IF(E13=0,"-",IF(M13=0,"-",(M13-E13)/E13)) -> 0 | F37: =IF(F13=0,"-",IF(N13=0,"-",(N13-F13)/F13)) -> - | G37: =IF(G13=0,"-",IF(O13=0,"-",(O13-G13)/G13)) -> 1 | H37: =IF(H13=0,"-",IF(P13=0,"-",(P13-H13)/H13)) -> 1 | I37: =IF(I13=0,"-",IF(Q13=0,"-",(Q13-I13)/I13)) -> - | J37: =IF(J13=0,"-",IF(R13=0,"-",(R13-J13)/J13)) -> - | K37: =IF(S13=0,"-",IF(W13=0,"-",(W13-S13)/S13)) -> 0.42857143 | L37: =IF(T13=0,"-",IF(X13=0,"-",(X13-T13)/T13)) -> 1 | M37: =IF(U13=0,"-",IF(Y13=0,"-",(Y13-U13)/U13)) -> 0 | N37: =IF(V13=0,"-",IF(Z13=0,"-",(Z13-V13)/V13)) -> -
B38: Asturias | C38: =IF(C14=0,"-",IF(K14=0,"-",(K14-C14)/C14)) -> 1 | D38: =IF(D14=0,"-",IF(L14=0,"-",(L14-D14)/D14)) -> 0.5 | E38: =IF(E14=0,"-",IF(M14=0,"-",(M14-E14)/E14)) -> 2 | F38: =IF(F14=0,"-",IF(N14=0,"-",(N14-F14)/F14)) -> - | G38: =IF(G14=0,"-",IF(O14=0,"-",(O14-G14)/G14)) -> 0 | H38: =IF(H14=0,"-",IF(P14=0,"-",(P14-H14)/H14)) -> 0 | I38: =IF(I14=0,"-",IF(Q14=0,"-",(Q14-I14)/I14)) -> - | J38: =IF(J14=0,"-",IF(R14=0,"-",(R14-J14)/J14)) -> - | K38: =IF(S14=0,"-",IF(W14=0,"-",(W14-S14)/S14)) -> 0.75 | L38: =IF(T14=0,"-",IF(X14=0,"-",(X14-T14)/T14)) -> 0.33333333 | M38: =IF(U14=0,"-",IF(Y14=0,"-",(Y14-U14)/U14)) -> 2 | N38: =IF(V14=0,"-",IF(Z14=0,"-",(Z14-V14)/V14)) -> -
B39: Illes Balears | C39: =IF(C15=0,"-",IF(K15=0,"-",(K15-C15)/C15)) -> 3 | D39: =IF(D15=0,"-",IF(L15=0,"-",(L15-D15)/D15)) -> 1 | E39: =IF(E15=0,"-",IF(M15=0,"-",(M15-E15)/E15)) -> - | F39: =IF(F15=0,"-",IF(N15=0,"-",(N15-F15)/F15)) -> - | G39: =IF(G15=0,"-",IF(O15=0,"-",(O15-G15)/G15)) -> - | H39: =IF(H15=0,"-",IF(P15=0,"-",(P15-H15)/H15)) -> - | I39: =IF(I15=0,"-",IF(Q15=0,"-",(Q15-I15)/I15)) -> - | J39: =IF(J15=0,"-",IF(R15=0,"-",(R15-J15)/J15)) -> - | K39: =IF(S15=0,"-",IF(W15=0,"-",(W15-S15)/S15)) -> 3 | L39: =IF(T15=0,"-",IF(X15=0,"-",(X15-T15)/T15)) -> 1 | M39: =IF(U15=0,"-",IF(Y15=0,"-",(Y15-U15)/U15)) -> - | N39: =IF(V15=0,"-",IF(Z15=0,"-",(Z15-V15)/V15)) -> -
B40: Canarias | C40: =IF(C16=0,"-",IF(K16=0,"-",(K16-C16)/C16)) -> -0.33333333 | D40: =IF(D16=0,"-",IF(L16=0,"-",(L16-D16)/D16)) -> 1 | E40: =IF(E16=0,"-",IF(M16=0,"-",(M16-E16)/E16)) -> - | F40: =IF(F16=0,"-",IF(N16=0,"-",(N16-F16)/F16)) -> - | G40: =IF(G16=0,"-",IF(O16=0,"-",(O16-G16)/G16)) -> -0.66666667 | H40: =IF(H16=0,"-",IF(P16=0,"-",(P16-H16)/H16)) -> -0.66666667 | I40: =IF(I16=0,"-",IF(Q16=0,"-",(Q16-I16)/I16)) -> - | J40: =IF(J16=0,"-",IF(R16=0,"-",(R16-J16)/J16)) -> - | K40: =IF(S16=0,"-",IF(W16=0,"-",(W16-S16)/S16)) -> -0.5 | L40: =IF(T16=0,"-",IF(X16=0,"-",(X16-T16)/T16)) -> -0.25 | M40: =IF(U16=0,"-",IF(Y16=0,"-",(Y16-U16)/U16)) -> - | N40: =IF(V16=0,"-",IF(Z16=0,"-",(Z16-V16)/V16)) -> -
B41: Cantabria | C41: =IF(C17=0,"-",IF(K17=0,"-",(K17-C17)/C17)) -> - | D41: =IF(D17=0,"-",IF(L17=0,"-",(L17-D17)/D17)) -> - | E41: =IF(E17=0,"-",IF(M17=0,"-",(M17-E17)/E17)) -> - | F41: =IF(F17=0,"-",IF(N17=0,"-",(N17-F17)/F17)) -> - | G41: =IF(G17=0,"-",IF(O17=0,"-",(O17-G17)/G17)) -> - | H41: =IF(H17=0,"-",IF(P17=0,"-",(P17-H17)/H17)) -> - | I41: =IF(I17=0,"-",IF(Q17=0,"-",(Q17-I17)/I17)) -> - | J41: =IF(J17=0,"-",IF(R17=0,"-",(R17-J17)/J17)) -> - | K41: =IF(S17=0,"-",IF(W17=0,"-",(W17-S17)/S17)) -> - | L41: =IF(T17=0,"-",IF(X17=0,"-",(X17-T17)/T17)) -> - | M41: =IF(U17=0,"-",IF(Y17=0,"-",(Y17-U17)/U17)) -> - | N41: =IF(V17=0,"-",IF(Z17=0,"-",(Z17-V17)/V17)) -> -
B42: Castilla y León | C42: =IF(C18=0,"-",IF(K18=0,"-",(K18-C18)/C18)) -> 5 | D42: =IF(D18=0,"-",IF(L18=0,"-",(L18-D18)/D18)) -> 5 | E42: =IF(E18=0,"-",IF(M18=0,"-",(M18-E18)/E18)) -> - | F42: =IF(F18=0,"-",IF(N18=0,"-",(N18-F18)/F18)) -> - | G42: =IF(G18=0,"-",IF(O18=0,"-",(O18-G18)/G18)) -> - | H42: =IF(H18=0,"-",IF(P18=0,"-",(P18-H18)/H18)) -> - | I42: =IF(I18=0,"-",IF(Q18=0,"-",(Q18-I18)/I18)) -> - | J42: =IF(J18=0,"-",IF(R18=0,"-",(R18-J18)/J18)) -> - | K42: =IF(S18=0,"-",IF(W18=0,"-",(W18-S18)/S18)) -> 6 | L42: =IF(T18=0,"-",IF(X18=0,"-",(X18-T18)/T18)) -> 6 | M42: =IF(U18=0,"-",IF(Y18=0,"-",(Y18-U18)/U18)) -> - | N42: =IF(V18=0,"-",IF(Z18=0,"-",(Z18-V18)/V18)) -> -
B43: Castilla-La Mancha | C43: =IF(C19=0,"-",IF(K19=0,"-",(K19-C19)/C19)) -> - | D43: =IF(D19=0,"-",IF(L19=0,"-",(L19-D19)/D19)) -> - | E43: =IF(E19=0,"-",IF(M19=0,"-",(M19-E19)/E19)) -> - | F43: =IF(F19=0,"-",IF(N19=0,"-",(N19-F19)/F19)) -> - | G43: =IF(G19=0,"-",IF(O19=0,"-",(O19-G19)/G19)) -> 0 | H43: =IF(H19=0,"-",IF(P19=0,"-",(P19-H19)/H19)) -> 0 | I43: =IF(I19=0,"-",IF(Q19=0,"-",(Q19-I19)/I19)) -> - | J43: =IF(J19=0,"-",IF(R19=0,"-",(R19-J19)/J19)) -> - | K43: =IF(S19=0,"-",IF(W19=0,"-",(W19-S19)/S19)) -> 4 | L43: =IF(T19=0,"-",IF(X19=0,"-",(X19-T19)/T19)) -> 2 | M43: =IF(U19=0,"-",IF(Y19=0,"-",(Y19-U19)/U19)) -> - | N43: =IF(V19=0,"-",IF(Z19=0,"-",(Z19-V19)/V19)) -> -
B44: Cataluña | C44: =IF(C20=0,"-",IF(K20=0,"-",(K20-C20)/C20)) -> 0.47826087 | D44: =IF(D20=0,"-",IF(L20=0,"-",(L20-D20)/D20)) -> 0.30769231 | E44: =IF(E20=0,"-",IF(M20=0,"-",(M20-E20)/E20)) -> 1.3333333 | F44: =IF(F20=0,"-",IF(N20=0,"-",(N20-F20)/F20)) -> 0.42857143 | G44: =IF(G20=0,"-",IF(O20=0,"-",(O20-G20)/G20)) -> 5.5 | H44: =IF(H20=0,"-",IF(P20=0,"-",(P20-H20)/H20)) -> 7 | I44: =IF(I20=0,"-",IF(Q20=0,"-",(Q20-I20)/I20)) -> 4 | J44: =IF(J20=0,"-",IF(R20=0,"-",(R20-J20)/J20)) -> - | K44: =IF(S20=0,"-",IF(W20=0,"-",(W20-S20)/S20)) -> 0.88 | L44: =IF(T20=0,"-",IF(X20=0,"-",(X20-T20)/T20)) -> 0.78571429 | M44: =IF(U20=0,"-",IF(Y20=0,"-",(Y20-U20)/U20)) -> 2 | N44: =IF(V20=0,"-",IF(Z20=0,"-",(Z20-V20)/V20)) -> 0.42857143
B45: Comunitat Valenciana | C45: =IF(C21=0,"-",IF(K21=0,"-",(K21-C21)/C21)) -> -0.066666667 | D45: =IF(D21=0,"-",IF(L21=0,"-",(L21-D21)/D21)) -> 0 | E45: =IF(E21=0,"-",IF(M21=0,"-",(M21-E21)/E21)) -> 0 | F45: =IF(F21=0,"-",IF(N21=0,"-",(N21-F21)/F21)) -> -0.5 | G45: =IF(G21=0,"-",IF(O21=0,"-",(O21-G21)/G21)) -> 1.75 | H45: =IF(H21=0,"-",IF(P21=0,"-",(P21-H21)/H21)) -> 1 | I45: =IF(I21=0,"-",IF(Q21=0,"-",(Q21-I21)/I21)) -> - | J45: =IF(J21=0,"-",IF(R21=0,"-",(R21-J21)/J21)) -> - | K45: =IF(S21=0,"-",IF(W21=0,"-",(W21-S21)/S21)) -> 0.31578947 | L45: =IF(T21=0,"-",IF(X21=0,"-",(X21-T21)/T21)) -> 0.30769231 | M45: =IF(U21=0,"-",IF(Y21=0,"-",(Y21-U21)/U21)) -> 0.75 | N45: =IF(V21=0,"-",IF(Z21=0,"-",(Z21-V21)/V21)) -> -0.5
B46: Extremadura | C46: =IF(C22=0,"-",IF(K22=0,"-",(K22-C22)/C22)) -> 0 | D46: =IF(D22=0,"-",IF(L22=0,"-",(L22-D22)/D22)) -> 0 | E46: =IF(E22=0,"-",IF(M22=0,"-",(M22-E22)/E22)) -> - | F46: =IF(F22=0,"-",IF(N22=0,"-",(N22-F22)/F22)) -> - | G46: =IF(G22=0,"-",IF(O22=0,"-",(O22-G22)/G22)) -> - | H46: =IF(H22=0,"-",IF(P22=0,"-",(P22-H22)/H22)) -> - | I46: =IF(I22=0,"-",IF(Q22=0,"-",(Q22-I22)/I22)) -> - | J46: =IF(J22=0,"-",IF(R22=0,"-",(R22-J22)/J22)) -> - | K46: =IF(S22=0,"-",IF(W22=0,"-",(W22-S22)/S22)) -> 0 | L46: =IF(T22=0,"-",IF(X22=0,"-",(X22-T22)/T22)) -> 0 | M46: =IF(U22=0,"-",IF(Y22=0,"-",(Y22-U22)/U22)) -> - | N46: =IF(V22=0,"-",IF(Z22=0,"-",(Z22-V22)/V22)) -> -
B47: Galicia | C47: =IF(C23=0,"-",IF(K23=0,"-",(K23-C23)/C23)) -> -0.25 | D47: =IF(D23=0,"-",IF(L23=0,"-",(L23-D23)/D23)) -> 0.66666667 | E47: =IF(E23=0,"-",IF(M23=0,"-",(M23-E23)/E23)) -> - | F47: =IF(F23=0,"-",IF(N23=0,"-",(N23-F23)/F23)) -> 0 | G47: =IF(G23=0,"-",IF(O23=0,"-",(O23-G23)/G23)) -> - | H47: =IF(H23=0,"-",IF(P23=0,"-",(P23-H23)/H23)) -> - | I47: =IF(I23=0,"-",IF(Q23=0,"-",(Q23-I23)/I23)) -> - | J47: =IF(J23=0,"-",IF(R23=0,"-",(R23-J23)/J23)) -> - | K47: =IF(S23=0,"-",IF(W23=0,"-",(W23-S23)/S23)) -> -0.125 | L47: =IF(T23=0,"-",IF(X23=0,"-",(X23-T23)/T23)) -> 1 | M47: =IF(U23=0,"-",IF(Y23=0,"-",(Y23-U23)/U23)) -> - | N47: =IF(V23=0,"-",IF(Z23=0,"-",(Z23-V23)/V23)) -> 0
... B53: Total | C53: =IF(C29=0,"-",IF(K29=0,"-",(K29-C29)/C29)) -> 0.34821429 | D53: =IF(D29=0,"-",IF(L29=0,"-",(L29-D29)/D29)) -> 0.39130435 | E53: =IF(E29=0,"-",IF(M29=0,"-",(M29-E29)/E29)) -> 0.1 | F53: =IF(F29=0,"-",IF(N29=0,"-",(N29-F29)/F29)) -> 0.69230769 | G53: =IF(G29=0,"-",IF(O29=0,"-",(O29-G29)/G29)) -> 0.95652174 | H53: =IF(H29=0,"-",IF(P29=0,"-",(P29-H29)/H29)) -> 0.89473684 | I53: =IF(I29=0,"-",IF(Q29=0,"-",(Q29-I29)/I29)) -> 2 | J53: =IF(J29=0,"-",IF(R29=0,"-",(R29-J29)/J29)) -> - | K53: =IF(S29=0,"-",IF(W29=0,"-",(W29-S29)/S29)) -> 0.45185185 | L53: =IF(T29=0,"-",IF(X29=0,"-",(X29-T29)/T29)) -> 0.5 | M53: =IF(U29=0,"-",IF(Y29=0,"-",(Y29-U29)/U29)) -> 0.27272727 | N53: =IF(V29=0,"-",IF(Z29=0,"-",(Z29-V29)/V29)) -> 0.57142857

Sheet Audiencias_Pers Enjuic por Sexo
C8: 2º trimestre 2025 | H8: 2º trimestre 2026 | M8: Evolución 2º trimestre 2026/2º trimestre 2025
C9: Varones | H9: Varones | M9: Varones
C10: Total | D10: Condenado Español | E10: Condenado Extranjero | F10: Absuelto Español | G10: Absuelto Extranjero | H10: Total | I10: Condenado Español | J10: Condenado Extranjero | K10: Absuelto Español | L10: Absuelto Extranjero | M10: Total | N10: Condenado Español | O10: Condenado Extranjero | P10: Absuelto Español | Q10: Absuelto Extranjero
B11: Andalucía | C11: 27 | D11: 16 | E11: 8 | F11: 2 | G11: 1 | H11: 33 | I11: 27 | J11: 2 | K11: 4 | L11: 0 | M11: =IF(C11=0,"-",IF(H11=0,"-",(H11-C11)/C11)) -> 0.22222222 | N11: =IF(D11=0,"-",IF(I11=0,"-",(I11-D11)/D11)) -> 0.6875 | O11: =IF(E11=0,"-",IF(J11=0,"-",(J11-E11)/E11)) -> -0.75 | P11: =IF(F11=0,"-",IF(K11=0,"-",(K11-F11)/F11)) -> 1 | Q11: =IF(G11=0,"-",IF(L11=0,"-",(L11-G11)/G11)) -> -
B12: Aragón | C12: 7 | D12: 4 | E12: 2 | F12: 1 | G12: 0 | H12: 9 | I12: 2 | J12: 5 | K12: 2 | L12: 0 | M12: =IF(C12=0,"-",IF(H12=0,"-",(H12-C12)/C12)) -> 0.28571429 | N12: =IF(D12=0,"-",IF(I12=0,"-",(I12-D12)/D12)) -> -0.5 | O12: =IF(E12=0,"-",IF(J12=0,"-",(J12-E12)/E12)) -> 1.5 | P12: =IF(F12=0,"-",IF(K12=0,"-",(K12-F12)/F12)) -> 1 | Q12: =IF(G12=0,"-",IF(L12=0,"-",(L12-G12)/G12)) -> -
B13: Asturias | C13: 4 | D13: 2 | E13: 1 | F13: 1 | G13: 0 | H13: 7 | I13: 3 | J13: 3 | K13: 0 | L13: 1 | M13: =IF(C13=0,"-",IF(H13=0,"-",(H13-C13)/C13)) -> 0.75 | N13: =IF(D13=0,"-",IF(I13=0,"-",(I13-D13)/D13)) -> 0.5 | O13: =IF(E13=0,"-",IF(J13=0,"-",(J13-E13)/E13)) -> 2 | P13: =IF(F13=0,"-",IF(K13=0,"-",(K13-F13)/F13)) -> - | Q13: =IF(G13=0,"-",IF(L13=0,"-",(L13-G13)/G13)) -> -
B14: Illes Balears | C14: 1 | D14: 1 | E14: 0 | F14: 0 | G14: 0 | H14: 4 | I14: 2 | J14: 2 | K14: 0 | L14: 0 | M14: =IF(C14=0,"-",IF(H14=0,"-",(H14-C14)/C14)) -> 3 | N14: =IF(D14=0,"-",IF(I14=0,"-",(I14-D14)/D14)) -> 1 | O14: =IF(E14=0,"-",IF(J14=0,"-",(J14-E14)/E14)) -> - | P14: =IF(F14=0,"-",IF(K14=0,"-",(K14-F14)/F14)) -> - | Q14: =IF(G14=0,"-",IF(L14=0,"-",(L14-G14)/G14)) -> -
B15: Canarias | C15: 6 | D15: 1 | E15: 2 | F15: 2 | G15: 1 | H15: 3 | I15: 2 | J15: 0 | K15: 0 | L15: 1 | M15: =IF(C15=0,"-",IF(H15=0,"-",(H15-C15)/C15)) -> -0.5 | N15: =IF(D15=0,"-",IF(I15=0,"-",(I15-D15)/D15)) -> 1 | O15: =IF(E15=0,"-",IF(J15=0,"-",(J15-E15)/E15)) -> - | P15: =IF(F15=0,"-",IF(K15=0,"-",(K15-F15)/F15)) -> - | Q15: =IF(G15=0,"-",IF(L15=0,"-",(L15-G15)/G15)) -> 0
B16: Cantabria | C16: 0 | D16: 0 | E16: 0 | F16: 0 | G16: 0 | H16: 1 | I16: 0 | J16: 0 | K16: 1 | L16: 0 | M16: =IF(C16=0,"-",IF(H16=0,"-",(H16-C16)/C16)) -> - | N16: =IF(D16=0,"-",IF(I16=0,"-",(I16-D16)/D16)) -> - | O16: =IF(E16=0,"-",IF(J16=0,"-",(J16-E16)/E16)) -> - | P16: =IF(F16=0,"-",IF(K16=0,"-",(K16-F16)/F16)) -> - | Q16: =IF(G16=0,"-",IF(L16=0,"-",(L16-G16)/G16)) -> -
B17: Castilla y León | C17: 1 | D17: 0 | E17: 1 | F17: 0 | G17: 0 | H17: 7 | I17: 4 | J17: 2 | K17: 1 | L17: 0 | M17: =IF(C17=0,"-",IF(H17=0,"-",(H17-C17)/C17)) -> 6 | N17: =IF(D17=0,"-",IF(I17=0,"-",(I17-D17)/D17)) -> - | O17: =IF(E17=0,"-",IF(J17=0,"-",(J17-E17)/E17)) -> 1 | P17: =IF(F17=0,"-",IF(K17=0,"-",(K17-F17)/F17)) -> - | Q17: =IF(G17=0,"-",IF(L17=0,"-",(L17-G17)/G17)) -> -
B18: Castilla-La Mancha | C18: 1 | D18: 0 | E18: 0 | F18: 1 | G18: 0 | H18: 5 | I18: 3 | J18: 1 | K18: 1 | L18: 0 | M18: =IF(C18=0,"-",IF(H18=0,"-",(H18-C18)/C18)) -> 4 | N18: =IF(D18=0,"-",IF(I18=0,"-",(I18-D18)/D18)) -> - | O18: =IF(E18=0,"-",IF(J18=0,"-",(J18-E18)/E18)) -> - | P18: =IF(F18=0,"-",IF(K18=0,"-",(K18-F18)/F18)) -> 0 | Q18: =IF(G18=0,"-",IF(L18=0,"-",(L18-G18)/G18)) -> -
B19: Cataluña | C19: 25 | D19: 9 | E19: 14 | F19: 1 | G19: 1 | H19: 47 | I19: 18 | J19: 16 | K19: 5 | L19: 8 | M19: =IF(C19=0,"-",IF(H19=0,"-",(H19-C19)/C19)) -> 0.88 | N19: =IF(D19=0,"-",IF(I19=0,"-",(I19-D19)/D19)) -> 1 | O19: =IF(E19=0,"-",IF(J19=0,"-",(J19-E19)/E19)) -> 0.14285714 | P19: =IF(F19=0,"-",IF(K19=0,"-",(K19-F19)/F19)) -> 4 | Q19: =IF(G19=0,"-",IF(L19=0,"-",(L19-G19)/G19)) -> 7
B20: Comunitat Valenciana | C20: 19 | D20: 12 | E20: 3 | F20: 4 | G20: 0 | H20: 24 | I20: 5 | J20: 8 | K20: 6 | L20: 5 | M20: =IF(C20=0,"-",IF(H20=0,"-",(H20-C20)/C20)) -> 0.26315789 | N20: =IF(D20=0,"-",IF(I20=0,"-",(I20-D20)/D20)) -> -0.58333333 | O20: =IF(E20=0,"-",IF(J20=0,"-",(J20-E20)/E20)) -> 1.6666667 | P20: =IF(F20=0,"-",IF(K20=0,"-",(K20-F20)/F20)) -> 0.5 | Q20: =IF(G20=0,"-",IF(L20=0,"-",(L20-G20)/G20)) -> -
B21: Extremadura | C21: 1 | D21: 1 | E21: 0 | F21: 0 | G21: 0 | H21: 2 | I21: 2 | J21: 0 | K21: 0 | L21: 0 | M21: =IF(C21=0,"-",IF(H21=0,"-",(H21-C21)/C21)) -> 1 | N21: =IF(D21=0,"-",IF(I21=0,"-",(I21-D21)/D21)) -> 1 | O21: =IF(E21=0,"-",IF(J21=0,"-",(J21-E21)/E21)) -> - | P21: =IF(F21=0,"-",IF(K21=0,"-",(K21-F21)/F21)) -> - | Q21: =IF(G21=0,"-",IF(L21=0,"-",(L21-G21)/G21)) -> -
B22: Galicia | C22: 8 | D22: 4 | E22: 4 | F22: 0 | G22: 0 | H22: 7 | I22: 4 | J22: 2 | K22: 1 | L22: 0 | M22: =IF(C22=0,"-",IF(H22=0,"-",(H22-C22)/C22)) -> -0.125 | N22: =IF(D22=0,"-",IF(I22=0,"-",(I22-D22)/D22)) -> 0 | O22: =IF(E22=0,"-",IF(J22=0,"-",(J22-E22)/E22)) -> -0.5 | P22: =IF(F22=0,"-",IF(K22=0,"-",(K22-F22)/F22)) -> - | Q22: =IF(G22=0,"-",IF(L22=0,"-",(L22-G22)/G22)) -> -
... B27: La Rioja | C27: 0 | D27: 0 | E27: 0 | F27: 0 | G27: 0 | H27: 4 | I27: 2 | J27: 2 | K27: 0 | L27: 0 | M27: =IF(C27=0,"-",IF(H27=0,"-",(H27-C27)/C27)) -> - | N27: =IF(D27=0,"-",IF(I27=0,"-",(I27-D27)/D27)) -> - | O27: =IF(E27=0,"-",IF(J27=0,"-",(J27-E27)/E27)) -> - | P27: =IF(F27=0,"-",IF(K27=0,"-",(K27-F27)/F27)) -> - | Q27: =IF(G27=0,"-",IF(L27=0,"-",(L27-G27)/G27)) -> -
B28: España | C28: =SUM(C11:C27) -> 134 | D28: =SUM(D11:D27) -> 64 | E28: =SUM(E11:E27) -> 47 | F28: =SUM(F11:F27) -> 17 | G28: =SUM(G11:G27) -> 6 | H28: =SUM(H11:H27) -> 194 | I28: =SUM(I11:I27) -> 95 | J28: =SUM(J11:J27) -> 54 | ... L28: =SUM(L11:L27) -> 20 | M28: =IF(C28=0,"-",IF(H28=0,"-",(H28-C28)/C28)) -> 0.44776119 | N28: =IF(D28=0,"-",IF(I28=0,"-",(I28-D28)/D28)) -> 0.484375 | O28: =IF(E28=0,"-",IF(J28=0,"-",(J28-E28)/E28)) -> 0.14893617 | P28: =IF(F28=0,"-",IF(K28=0,"-",(K28-F28)/F28)) -> 0.47058824 | Q28: =IF(G28=0,"-",IF(L28=0,"-",(L28-G28)/G28)) -> 2.3333333
C32: 2º trimestre 2025 | H32: 2º trimestre 2026 | M32: Evolución 2º trimestre 2026/2º trimestre 2025
C33: Mujeres | H33: Mujeres | M33: Mujeres
C34: Total | D34: Condenada Española | E34: Condenada Extranjera | F34: Absuelta Española | G34: Absuelta Extranjera | H34: Total | I34: Condenada Española | J34: Condenada Extranjera | K34: Absuelta Española | L34: Absuelta Extranjera | M34: Total | N34: Condenada Española | O34: Condenada Extranjera | P34: Absuelta Española | Q34: Absuelta Extranjera
B35: Andalucía | C35: 0 | D35: 0 | E35: 0 | F35: 0 | G35: 0 | H35: 0 | I35: 0 | J35: 0 | K35: 0 | L35: 0 | M35: =IF(C35=0,"-",IF(H35=0,"-",(H35-C35)/C35)) -> - | N35: =IF(D35=0,"-",IF(I35=0,"-",(I35-D35)/D35)) -> - | O35: =IF(E35=0,"-",IF(J35=0,"-",(J35-E35)/E35)) -> - | P35: =IF(F35=0,"-",IF(K35=0,"-",(K35-F35)/F35)) -> - | Q35: =IF(G35=0,"-",IF(L35=0,"-",(L35-G35)/G35)) -> -
B36: Aragón | C36: 0 | D36: 0 | E36: 0 | F36: 0 | G36: 0 | H36: 2 | I36: 1 | J36: 1 | K36: 0 | L36: 0 | M36: =IF(C36=0,"-",IF(H36=0,"-",(H36-C36)/C36)) -> - | N36: =IF(D36=0,"-",IF(I36=0,"-",(I36-D36)/D36)) -> - | O36: =IF(E36=0,"-",IF(J36=0,"-",(J36-E36)/E36)) -> - | P36: =IF(F36=0,"-",IF(K36=0,"-",(K36-F36)/F36)) -> - | Q36: =IF(G36=0,"-",IF(L36=0,"-",(L36-G36)/G36)) -> -
B37: Asturias | C37: 0 | D37: 0 | E37: 0 | F37: 0 | G37: 0 | H37: 0 | I37: 0 | J37: 0 | K37: 0 | L37: 0 | M37: =IF(C37=0,"-",IF(H37=0,"-",(H37-C37)/C37)) -> - | N37: =IF(D37=0,"-",IF(I37=0,"-",(I37-D37)/D37)) -> - | O37: =IF(E37=0,"-",IF(J37=0,"-",(J37-E37)/E37)) -> - | P37: =IF(F37=0,"-",IF(K37=0,"-",(K37-F37)/F37)) -> - | Q37: =IF(G37=0,"-",IF(L37=0,"-",(L37-G37)/G37)) -> -
B38: Illes Balears | C38: 0 | D38: 0 | E38: 0 | F38: 0 | G38: 0 | H38: 0 | I38: 0 | J38: 0 | K38: 0 | L38: 0 | M38: =IF(C38=0,"-",IF(H38=0,"-",(H38-C38)/C38)) -> - | N38: =IF(D38=0,"-",IF(I38=0,"-",(I38-D38)/D38)) -> - | O38: =IF(E38=0,"-",IF(J38=0,"-",(J38-E38)/E38)) -> - | P38: =IF(F38=0,"-",IF(K38=0,"-",(K38-F38)/F38)) -> - | Q38: =IF(G38=0,"-",IF(L38=0,"-",(L38-G38)/G38)) -> -
B39: Canarias | C39: 0 | D39: 0 | E39: 0 | F39: 0 | G39: 0 | H39: 0 | I39: 0 | J39: 0 | K39: 0 | L39: 0 | M39: =IF(C39=0,"-",IF(H39=0,"-",(H39-C39)/C39)) -> - | N39: =IF(D39=0,"-",IF(I39=0,"-",(I39-D39)/D39)) -> - | O39: =IF(E39=0,"-",IF(J39=0,"-",(J39-E39)/E39)) -> - | P39: =IF(F39=0,"-",IF(K39=0,"-",(K39-F39)/F39)) -> - | Q39: =IF(G39=0,"-",IF(L39=0,"-",(L39-G39)/G39)) -> -
B40: Cantabria | C40: 0 | D40: 0 | E40: 0 | F40: 0 | G40: 0 | H40: 0 | I40: 0 | J40: 0 | K40: 0 | L40: 0 | M40: =IF(C40=0,"-",IF(H40=0,"-",(H40-C40)/C40)) -> - | N40: =IF(D40=0,"-",IF(I40=0,"-",(I40-D40)/D40)) -> - | O40: =IF(E40=0,"-",IF(J40=0,"-",(J40-E40)/E40)) -> - | P40: =IF(F40=0,"-",IF(K40=0,"-",(K40-F40)/F40)) -> - | Q40: =IF(G40=0,"-",IF(L40=0,"-",(L40-G40)/G40)) -> -
B41: Castilla y León | C41: 0 | D41: 0 | E41: 0 | F41: 0 | G41: 0 | H41: 0 | I41: 0 | J41: 0 | K41: 0 | L41: 0 | M41: =IF(C41=0,"-",IF(H41=0,"-",(H41-C41)/C41)) -> - | N41: =IF(D41=0,"-",IF(I41=0,"-",(I41-D41)/D41)) -> - | O41: =IF(E41=0,"-",IF(J41=0,"-",(J41-E41)/E41)) -> - | P41: =IF(F41=0,"-",IF(K41=0,"-",(K41-F41)/F41)) -> - | Q41: =IF(G41=0,"-",IF(L41=0,"-",(L41-G41)/G41)) -> -
B42: Castilla-La Mancha | C42: 0 | D42: 0 | E42: 0 | F42: 0 | G42: 0 | H42: 0 | I42: 0 | J42: 0 | K42: 0 | L42: 0 | M42: =IF(C42=0,"-",IF(H42=0,"-",(H42-C42)/C42)) -> - | N42: =IF(D42=0,"-",IF(I42=0,"-",(I42-D42)/D42)) -> - | O42: =IF(E42=0,"-",IF(J42=0,"-",(J42-E42)/E42)) -> - | P42: =IF(F42=0,"-",IF(K42=0,"-",(K42-F42)/F42)) -> - | Q42: =IF(G42=0,"-",IF(L42=0,"-",(L42-G42)/G42)) -> -
B43: Cataluña | C43: 0 | D43: 0 | E43: 0 | F43: 0 | G43: 0 | H43: 0 | I43: 0 | J43: 0 | K43: 0 | L43: 0 | M43: =IF(C43=0,"-",IF(H43=0,"-",(H43-C43)/C43)) -> - | N43: =IF(D43=0,"-",IF(I43=0,"-",(I43-D43)/D43)) -> - | O43: =IF(E43=0,"-",IF(J43=0,"-",(J43-E43)/E43)) -> - | P43: =IF(F43=0,"-",IF(K43=0,"-",(K43-F43)/F43)) -> - | Q43: =IF(G43=0,"-",IF(L43=0,"-",(L43-G43)/G43)) -> -
B44: Comunitat Valenciana | C44: 0 | D44: 0 | E44: 0 | F44: 0 | G44: 0 | H44: 1 | I44: 1 | J44: 0 | K44: 0 | L44: 0 | M44: =IF(C44=0,"-",IF(H44=0,"-",(H44-C44)/C44)) -> - | N44: =IF(D44=0,"-",IF(I44=0,"-",(I44-D44)/D44)) -> - | O44: =IF(E44=0,"-",IF(J44=0,"-",(J44-E44)/E44)) -> - | P44: =IF(F44=0,"-",IF(K44=0,"-",(K44-F44)/F44)) -> - | Q44: =IF(G44=0,"-",IF(L44=0,"-",(L44-G44)/G44)) -> -
B45: Extremadura | C45: 1 | D45: 0 | E45: 1 | F45: 0 | G45: 0 | H45: 0 | I45: 0 | J45: 0 | K45: 0 | L45: 0 | M45: =IF(C45=0,"-",IF(H45=0,"-",(H45-C45)/C45)) -> - | N45: =IF(D45=0,"-",IF(I45=0,"-",(I45-D45)/D45)) -> - | O45: =IF(E45=0,"-",IF(J45=0,"-",(J45-E45)/E45)) -> - | P45: =IF(F45=0,"-",IF(K45=0,"-",(K45-F45)/F45)) -> - | Q45: =IF(G45=0,"-",IF(L45=0,"-",(L45-G45)/G45)) -> -
B46: Galicia | C46: 0 | D46: 0 | E46: 0 | F46: 0 | G46: 0 | H46: 0 | I46: 0 | J46: 0 | K46: 0 | L46: 0 | M46: =IF(C46=0,"-",IF(H46=0,"-",(H46-C46)/C46)) -> - | N46: =IF(D46=0,"-",IF(I46=0,"-",(I46-D46)/D46)) -> - | O46: =IF(E46=0,"-",IF(J46=0,"-",(J46-E46)/E46)) -> - | P46: =IF(F46=0,"-",IF(K46=0,"-",(K46-F46)/F46)) -> - | Q46: =IF(G46=0,"-",IF(L46=0,"-",(L46-G46)/G46)) -> -
... B51: La Rioja | C51: 0 | D51: 0 | E51: 0 | F51: 0 | G51: 0 | H51: 0 | I51: 0 | J51: 0 | K51: 0 | L51: 0 | M51: =IF(C51=0,"-",IF(H51=0,"-",(H51-C51)/C51)) -> - | N51: =IF(D51=0,"-",IF(I51=0,"-",(I51-D51)/D51)) -> - | O51: =IF(E51=0,"-",IF(J51=0,"-",(J51-E51)/E51)) -> - | P51: =IF(F51=0,"-",IF(K51=0,"-",(K51-F51)/F51)) -> - | Q51: =IF(G51=0,"-",IF(L51=0,"-",(L51-G51)/G51)) -> -
B52: España | C52: =SUM(C35:C51) -> 1 | D52: =SUM(D35:D51) -> 0 | E52: =SUM(E35:E51) -> 1 | F52: =SUM(F35:F51) -> 0 | G52: =SUM(G35:G51) -> 0 | H52: =SUM(H35:H51) -> 3 | I52: =SUM(I35:I51) -> 2 | J52: =SUM(J35:J51) -> 1 | ... L52: =SUM(L35:L51) -> 0 | M52: =IF(C52=0,"-",IF(H52=0,"-",(H52-C52)/C52)) -> 2 | N52: =IF(D52=0,"-",IF(I52=0,"-",(I52-D52)/D52)) -> - | O52: =IF(E52=0,"-",IF(J52=0,"-",(J52-E52)/E52)) -> 0 | P52: =IF(F52=0,"-",IF(K52=0,"-",(K52-F52)/F52)) -> - | Q52: =IF(G52=0,"-",IF(L52=0,"-",(L52-G52)/G52)) -> -
