Workbook

Sheet Inicio
B16: Secciones de Violencia sobre la Mujer del T.I.
B18: Denuncias
B19: Renuncias
B20: Víctimas
B21: Órdenes y Medidas
B22: Personas Enjuiciadas
B24: Secciones de lo Penal del T.I./Procesos de Violencia de Género/Personas Enjuiciadas
B25: Secciones de lo Penal del T.I./Procesos de Violencia de Género/Sentencias
B26: Secciones de Menores del T.I./Procesos de Violencia de Género/Personas Enjuiciadas
B27: Secciones de Menores del T.I./Procesos de Violencia de Género/Sentencias
B28: Secciones de Instrucción en funciones de Guardia/Procesos de Violencia de Género
B29: Secciones de Instrucción en funciones de Guardia/Procesos de Violencia de Género/Órdenes de Protección
... B34: Audiencia Provincial/Procesos de Violencia de Género/Sentencias

Sheet Evolución Denuncias
C8: 2º trimestre 2025 | K8: 2º trimestre 2026
C9: Denuncias recibidas | D9: Presentada directamente por victima en el juzgado | E9: Presentada directamente por familiares | F9: Atestados policiales | I9: Parte de lesiones recibido directamente en el juzgado | J9: Servicios asistencia-Terceros en general | K9: Denuncias recibidas | L9: Presentada directamente por victima en el juzgado | M9: Presentada directamente por familiares | N9: Atestados policiales | Q9: Parte de lesiones recibido directamente en el juzgado | R9: Servicios asistencia-Terceros en general
F10: con denuncia victima | G10: con denuncia familiar | H10: por intervención directa policial | N10: con denuncia victima | O10: con denuncia familiar | P10: por intervención directa policial
B11: Andalucía | C11: 10811 | D11: 91 | E11: 5 | F11: 7788 | G11: 184 | H11: 1285 | I11: 982 | J11: 476 | K11: 11607 | L11: 79 | M11: 6 | N11: 8802 | O11: 139 | P11: 1266 | Q11: 699 | R11: 616
B12: Aragón | C12: 1200 | D12: 20 | E12: 6 | F12: 721 | G12: 12 | H12: 305 | I12: 110 | J12: 26 | K12: 1254 | L12: 10 | M12: 0 | N12: 855 | O12: 10 | P12: 271 | Q12: 67 | R12: 41
B13: Asturias | C13: 885 | D13: 20 | E13: 1 | F13: 457 | G13: 7 | H13: 205 | I13: 152 | J13: 43 | K13: 1194 | L13: 19 | M13: 0 | N13: 696 | O13: 37 | P13: 287 | Q13: 116 | R13: 39
B14: Illes Balears | C14: 1878 | D14: 112 | E14: 9 | F14: 1023 | G14: 55 | H14: 437 | I14: 198 | J14: 44 | K14: 2098 | L14: 29 | M14: 8 | N14: 1358 | O14: 83 | P14: 258 | Q14: 310 | R14: 52
B15: Canarias | C15: 2841 | D15: 23 | E15: 1 | F15: 1747 | G15: 74 | H15: 558 | I15: 406 | J15: 32 | K15: 2995 | L15: 7 | M15: 7 | N15: 1908 | O15: 133 | P15: 420 | Q15: 434 | R15: 86
B16: Cantabria | C16: 545 | D16: 0 | E16: 0 | F16: 344 | G16: 6 | H16: 140 | I16: 30 | J16: 25 | K16: 487 | L16: 0 | M16: 0 | N16: 357 | O16: 0 | P16: 54 | Q16: 47 | R16: 29
B17: Castilla y León | C17: 1542 | D17: 4 | E17: 0 | F17: 1120 | G17: 44 | H17: 337 | I17: 32 | J17: 5 | K17: 1660 | L17: 7 | M17: 0 | N17: 1390 | O17: 22 | P17: 228 | Q17: 12 | R17: 1
B18: Castilla-La Mancha | C18: 1799 | D18: 17 | E18: 11 | F18: 1335 | G18: 31 | H18: 267 | I18: 90 | J18: 48 | K18: 2169 | L18: 10 | M18: 0 | N18: 1748 | O18: 54 | P18: 231 | Q18: 46 | R18: 80
B19: Cataluña | C19: 6382 | D19: 20 | E19: 2 | F19: 4839 | G19: 73 | H19: 965 | I19: 422 | J19: 61 | K19: 6765 | L19: 14 | M19: 0 | N19: 5366 | O19: 28 | P19: 874 | Q19: 441 | R19: 42
B20: Comunitat Valenciana | C20: 6982 | D20: 51 | E20: 27 | F20: 4617 | G20: 251 | H20: 917 | I20: 627 | J20: 492 | K20: 7284 | L20: 18 | M20: 5 | N20: 5319 | O20: 80 | P20: 1128 | Q20: 583 | R20: 151
B21: Extremadura | C21: 797 | D21: 0 | E21: 0 | F21: 582 | G21: 14 | H21: 145 | I21: 48 | J21: 8 | K21: 1019 | L21: 12 | M21: 0 | N21: 743 | O21: 5 | P21: 221 | Q21: 38 | R21: 0
B22: Galicia | C22: 2051 | D22: 17 | E22: 0 | F22: 1684 | G22: 21 | H22: 231 | I22: 62 | J22: 36 | K22: 2222 | L22: 22 | M22: 0 | N22: 1699 | O22: 31 | P22: 320 | Q22: 90 | R22: 60
... B27: La Rioja | C27: 282 | D27: 0 | E27: 0 | F27: 224 | G27: 0 | H27: 58 | I27: 0 | J27: 0 | K27: 243 | L27: 0 | M27: 0 | N27: 174 | O27: 0 | P27: 69 | Q27: 0 | R27: 0
B28: España | C28: =SUM(C11:C27) -> 50737 | D28: =SUM(D11:D27) -> 501 | E28: =SUM(E11:E27) -> 106 | F28: =SUM(F11:F27) -> 35511 | G28: =SUM(G11:G27) -> 908 | H28: =SUM(H11:H27) -> 8449 | I28: =SUM(I11:I27) -> 3676 | J28: =SUM(J11:J27) -> 1586 | ... R28: =SUM(R11:R27) -> 1465
C32: Evolución de las Denuncias Recibidas
C33: 2º trimestre 2026/2º trimestre 2025
C34: Denuncias recibidas | D34: Presentada directamente por victima en el juzgado | E34: Presentada directamente por familiares | F34: Atestados policiales | I34: Parte de lesiones recibido directamente en el juzgado | J34: Servicios asistencia-Terceros en general
F35: con denuncia victima | G35: con denuncia familiar | H35: por intervención directa policial
B36: Andalucía | C36: =IF(C11>0,(K11-C11)/C11,"-") -> 0.073628711 | D36: =IF(D11>0,(L11-D11)/D11,"-") -> -0.13186813 | E36: =IF(E11>0,(M11-E11)/E11,"-") -> 0.2 | F36: =IF(F11>0,(N11-F11)/F11,"-") -> 0.13020031 | G36: =IF(G11>0,(O11-G11)/G11,"-") -> -0.24456522 | H36: =IF(H11>0,(P11-H11)/H11,"-") -> -0.014785992 | I36: =IF(I11>0,(Q11-I11)/I11,"-") -> -0.28818737 | J36: =IF(J11>0,(R11-J11)/J11,"-") -> 0.29411765
B37: Aragón | C37: =IF(C12>0,(K12-C12)/C12,"-") -> 0.045 | D37: =IF(D12>0,(L12-D12)/D12,"-") -> -0.5 | E37: =IF(E12>0,(M12-E12)/E12,"-") -> -1 | F37: =IF(F12>0,(N12-F12)/F12,"-") -> 0.18585298 | G37: =IF(G12>0,(O12-G12)/G12,"-") -> -0.16666667 | H37: =IF(H12>0,(P12-H12)/H12,"-") -> -0.11147541 | I37: =IF(I12>0,(Q12-I12)/I12,"-") -> -0.39090909 | J37: =IF(J12>0,(R12-J12)/J12,"-") -> 0.57692308
B38: Asturias | C38: =IF(C13>0,(K13-C13)/C13,"-") -> 0.34915254 | D38: =IF(D13>0,(L13-D13)/D13,"-") -> -0.05 | E38: =IF(E13>0,(M13-E13)/E13,"-") -> -1 | F38: =IF(F13>0,(N13-F13)/F13,"-") -> 0.52297593 | G38: =IF(G13>0,(O13-G13)/G13,"-") -> 4.2857143 | H38: =IF(H13>0,(P13-H13)/H13,"-") -> 0.4 | I38: =IF(I13>0,(Q13-I13)/I13,"-") -> -0.23684211 | J38: =IF(J13>0,(R13-J13)/J13,"-") -> -0.093023256
B39: Illes Balears | C39: =IF(C14>0,(K14-C14)/C14,"-") -> 0.1171459 | D39: =IF(D14>0,(L14-D14)/D14,"-") -> -0.74107143 | E39: =IF(E14>0,(M14-E14)/E14,"-") -> -0.11111111 | F39: =IF(F14>0,(N14-F14)/F14,"-") -> 0.32746823 | G39: =IF(G14>0,(O14-G14)/G14,"-") -> 0.50909091 | H39: =IF(H14>0,(P14-H14)/H14,"-") -> -0.40961098 | I39: =IF(I14>0,(Q14-I14)/I14,"-") -> 0.56565657 | J39: =IF(J14>0,(R14-J14)/J14,"-") -> 0.18181818
B40: Canarias | C40: =IF(C15>0,(K15-C15)/C15,"-") -> 0.054206265 | D40: =IF(D15>0,(L15-D15)/D15,"-") -> -0.69565217 | E40: =IF(E15>0,(M15-E15)/E15,"-") -> 6 | F40: =IF(F15>0,(N15-F15)/F15,"-") -> 0.092157985 | G40: =IF(G15>0,(O15-G15)/G15,"-") -> 0.7972973 | H40: =IF(H15>0,(P15-H15)/H15,"-") -> -0.24731183 | I40: =IF(I15>0,(Q15-I15)/I15,"-") -> 0.068965517 | J40: =IF(J15>0,(R15-J15)/J15,"-") -> 1.6875
B41: Cantabria | C41: =IF(C16>0,(K16-C16)/C16,"-") -> -0.10642202 | D41: =IF(D16>0,(L16-D16)/D16,"-") -> - | E41: =IF(E16>0,(M16-E16)/E16,"-") -> - | F41: =IF(F16>0,(N16-F16)/F16,"-") -> 0.037790698 | G41: =IF(G16>0,(O16-G16)/G16,"-") -> -1 | H41: =IF(H16>0,(P16-H16)/H16,"-") -> -0.61428571 | I41: =IF(I16>0,(Q16-I16)/I16,"-") -> 0.56666667 | J41: =IF(J16>0,(R16-J16)/J16,"-") -> 0.16
B42: Castilla y León | C42: =IF(C17>0,(K17-C17)/C17,"-") -> 0.076523995 | D42: =IF(D17>0,(L17-D17)/D17,"-") -> 0.75 | E42: =IF(E17>0,(M17-E17)/E17,"-") -> - | F42: =IF(F17>0,(N17-F17)/F17,"-") -> 0.24107143 | G42: =IF(G17>0,(O17-G17)/G17,"-") -> -0.5 | H42: =IF(H17>0,(P17-H17)/H17,"-") -> -0.32344214 | I42: =IF(I17>0,(Q17-I17)/I17,"-") -> -0.625 | J42: =IF(J17>0,(R17-J17)/J17,"-") -> -0.8
B43: Castilla-La Mancha | C43: =IF(C18>0,(K18-C18)/C18,"-") -> 0.20566982 | D43: =IF(D18>0,(L18-D18)/D18,"-") -> -0.41176471 | E43: =IF(E18>0,(M18-E18)/E18,"-") -> -1 | F43: =IF(F18>0,(N18-F18)/F18,"-") -> 0.3093633 | G43: =IF(G18>0,(O18-G18)/G18,"-") -> 0.74193548 | H43: =IF(H18>0,(P18-H18)/H18,"-") -> -0.13483146 | I43: =IF(I18>0,(Q18-I18)/I18,"-") -> -0.48888889 | J43: =IF(J18>0,(R18-J18)/J18,"-") -> 0.66666667
B44: Cataluña | C44: =IF(C19>0,(K19-C19)/C19,"-") -> 0.060012535 | D44: =IF(D19>0,(L19-D19)/D19,"-") -> -0.3 | E44: =IF(E19>0,(M19-E19)/E19,"-") -> -1 | F44: =IF(F19>0,(N19-F19)/F19,"-") -> 0.1089068 | G44: =IF(G19>0,(O19-G19)/G19,"-") -> -0.61643836 | H44: =IF(H19>0,(P19-H19)/H19,"-") -> -0.094300518 | I44: =IF(I19>0,(Q19-I19)/I19,"-") -> 0.045023697 | J44: =IF(J19>0,(R19-J19)/J19,"-") -> -0.31147541
B45: Comunitat Valenciana | C45: =IF(C20>0,(K20-C20)/C20,"-") -> 0.043254082 | D45: =IF(D20>0,(L20-D20)/D20,"-") -> -0.64705882 | E45: =IF(E20>0,(M20-E20)/E20,"-") -> -0.81481481 | F45: =IF(F20>0,(N20-F20)/F20,"-") -> 0.15204678 | G45: =IF(G20>0,(O20-G20)/G20,"-") -> -0.6812749 | H45: =IF(H20>0,(P20-H20)/H20,"-") -> 0.23009815 | I45: =IF(I20>0,(Q20-I20)/I20,"-") -> -0.070175439 | J45: =IF(J20>0,(R20-J20)/J20,"-") -> -0.69308943
B46: Extremadura | C46: =IF(C21>0,(K21-C21)/C21,"-") -> 0.27854454 | D46: =IF(D21>0,(L21-D21)/D21,"-") -> - | E46: =IF(E21>0,(M21-E21)/E21,"-") -> - | F46: =IF(F21>0,(N21-F21)/F21,"-") -> 0.2766323 | G46: =IF(G21>0,(O21-G21)/G21,"-") -> -0.64285714 | H46: =IF(H21>0,(P21-H21)/H21,"-") -> 0.52413793 | I46: =IF(I21>0,(Q21-I21)/I21,"-") -> -0.20833333 | J46: =IF(J21>0,(R21-J21)/J21,"-") -> -1
B47: Galicia | C47: =IF(C22>0,(K22-C22)/C22,"-") -> 0.083373964 | D47: =IF(D22>0,(L22-D22)/D22,"-") -> 0.29411765 | E47: =IF(E22>0,(M22-E22)/E22,"-") -> - | F47: =IF(F22>0,(N22-F22)/F22,"-") -> 0.0089073634 | G47: =IF(G22>0,(O22-G22)/G22,"-") -> 0.47619048 | H47: =IF(H22>0,(P22-H22)/H22,"-") -> 0.38528139 | I47: =IF(I22>0,(Q22-I22)/I22,"-") -> 0.4516129 | J47: =IF(J22>0,(R22-J22)/J22,"-") -> 0.66666667
... B53: España | C53: =IF(C28>0,(K28-C28)/C28,"-") -> 0.098054674 | D53: =IF(D28>0,(L28-D28)/D28,"-") -> -0.23153693 | E53: =IF(E28>0,(M28-E28)/E28,"-") -> -0.66037736 | F53: =IF(F28>0,(N28-F28)/F28,"-") -> 0.16620202 | G53: =IF(G28>0,(O28-G28)/G28,"-") -> -0.10462555 | H53: =IF(H28>0,(P28-H28)/H28,"-") -> -0.048763167 | I53: =IF(I28>0,(Q28-I28)/I28,"-") -> -0.030739935 | J53: =IF(J28>0,(R28-J28)/J28,"-") -> -0.07629256

Sheet Evolución Renuncias
C8: 2º trimestre 2025 | G8: 2º trimestre 2026 | K8: Evolución 2º trimestre 2026/2º trimestre 2025
C9: Casos en los que la victima se acoge a la dispensa a la obligación de declarar como testigo | F9: Ratio Casos en los que la victima se acoge a la dispensa a la obligación de declarar como testigo sobre denuncias | G9: Casos en los que la victima se acoge a la dispensa a la obligación de declarar como testigo | H9: Renuncias por españolas | I9: Renuncias por extranjeras | J9: Ratio Casos en los que la victima se acoge a la dispensa a la obligación de declarar como testigo sobre denuncias | K9: Casos en los que la victima se acoge a la dispensa a la obligación de declarar como testigo | L9: Renuncias por españolas | M9: Renuncias por extranjeras | N9: Ratio Casos en los que la victima se acoge a la dispensa a la obligación de declarar como testigo sobre denuncias
C10: Total | D10: Por españolas | E10: Por extranjeras | G10: Total | H10: Por españolas | I10: Por extranjeras | K10: Total | L10: Por españolas | M10: Por extranjeras
B11: Andalucía | C11: 820 | D11: 541 | E11: 279 | F11: =C11/'Evolución Denuncias'!C11 -> 0.075848673 | G11: 829 | H11: 586 | I11: 243 | J11: =+G11/'Evolución Denuncias'!K11 -> 0.071422418 | K11: =IF(C11>0,(G11-C11)/C11,"-") -> 0.01097561 | L11: =IF(D11>0,(H11-D11)/D11,"-") -> 0.083179298 | M11: =IF(E11>0,(I11-E11)/E11,"-") -> -0.12903226 | N11: =+(J11-F11)/F11 -> -0.058356396
B12: Aragón | C12: 170 | D12: 93 | E12: 77 | F12: =C12/'Evolución Denuncias'!C12 -> 0.14166667 | G12: 254 | H12: 100 | I12: 154 | J12: =+G12/'Evolución Denuncias'!K12 -> 0.20255183 | K12: =IF(C12>0,(G12-C12)/C12,"-") -> 0.49411765 | L12: =IF(D12>0,(H12-D12)/D12,"-") -> 0.075268817 | M12: =IF(E12>0,(I12-E12)/E12,"-") -> 1 | N12: =+(J12-F12)/F12 -> 0.42977765
B13: Asturias | C13: 112 | D13: 76 | E13: 36 | F13: =C13/'Evolución Denuncias'!C13 -> 0.12655367 | G13: 203 | H13: 95 | I13: 108 | J13: =+G13/'Evolución Denuncias'!K13 -> 0.17001675 | K13: =IF(C13>0,(G13-C13)/C13,"-") -> 0.8125 | L13: =IF(D13>0,(H13-D13)/D13,"-") -> 0.25 | M13: =IF(E13>0,(I13-E13)/E13,"-") -> 2 | N13: =+(J13-F13)/F13 -> 0.34343593
B14: Illes Balears | C14: 333 | D14: 154 | E14: 179 | F14: =C14/'Evolución Denuncias'!C14 -> 0.17731629 | G14: 273 | H14: 161 | I14: 112 | J14: =+G14/'Evolución Denuncias'!K14 -> 0.13012393 | K14: =IF(C14>0,(G14-C14)/C14,"-") -> -0.18018018 | L14: =IF(D14>0,(H14-D14)/D14,"-") -> 0.045454545 | M14: =IF(E14>0,(I14-E14)/E14,"-") -> -0.37430168 | N14: =+(J14-F14)/F14 -> -0.26614794
B15: Canarias | C15: 412 | D15: 203 | E15: 209 | F15: =C15/'Evolución Denuncias'!C15 -> 0.14501936 | G15: 311 | H15: 181 | I15: 130 | J15: =+G15/'Evolución Denuncias'!K15 -> 0.10383973 | K15: =IF(C15>0,(G15-C15)/C15,"-") -> -0.24514563 | L15: =IF(D15>0,(H15-D15)/D15,"-") -> -0.10837438 | M15: =IF(E15>0,(I15-E15)/E15,"-") -> -0.37799043 | N15: =+(J15-F15)/F15 -> -0.28395951
B16: Cantabria | C16: 73 | D16: 44 | E16: 29 | F16: =C16/'Evolución Denuncias'!C16 -> 0.13394495 | G16: 118 | H16: 69 | I16: 49 | J16: =+G16/'Evolución Denuncias'!K16 -> 0.24229979 | K16: =IF(C16>0,(G16-C16)/C16,"-") -> 0.61643836 | L16: =IF(D16>0,(H16-D16)/D16,"-") -> 0.56818182 | M16: =IF(E16>0,(I16-E16)/E16,"-") -> 0.68965517 | N16: =+(J16-F16)/F16 -> 0.80895052
B17: Castilla y León | C17: 147 | D17: 74 | E17: 73 | F17: =C17/'Evolución Denuncias'!C17 -> 0.095330739 | G17: 183 | H17: 80 | I17: 103 | J17: =+G17/'Evolución Denuncias'!K17 -> 0.11024096 | K17: =IF(C17>0,(G17-C17)/C17,"-") -> 0.24489796 | L17: =IF(D17>0,(H17-D17)/D17,"-") -> 0.081081081 | M17: =IF(E17>0,(I17-E17)/E17,"-") -> 0.4109589 | N17: =+(J17-F17)/F17 -> 0.15640521
B18: Castilla-La Mancha | C18: 238 | D18: 145 | E18: 93 | F18: =C18/'Evolución Denuncias'!C18 -> 0.13229572 | G18: 185 | H18: 106 | I18: 79 | J18: =+G18/'Evolución Denuncias'!K18 -> 0.085292762 | K18: =IF(C18>0,(G18-C18)/C18,"-") -> -0.22268908 | L18: =IF(D18>0,(H18-D18)/D18,"-") -> -0.26896552 | M18: =IF(E18>0,(I18-E18)/E18,"-") -> -0.15053763 | N18: =+(J18-F18)/F18 -> -0.35528707
B19: Cataluña | C19: 753 | D19: 381 | E19: 372 | F19: =C19/'Evolución Denuncias'!C19 -> 0.11798809 | G19: 707 | H19: 370 | I19: 337 | J19: =+G19/'Evolución Denuncias'!K19 -> 0.1045085 | K19: =IF(C19>0,(G19-C19)/C19,"-") -> -0.061088977 | L19: =IF(D19>0,(H19-D19)/D19,"-") -> -0.028871391 | M19: =IF(E19>0,(I19-E19)/E19,"-") -> -0.094086022 | N19: =+(J19-F19)/F19 -> -0.11424536
B20: Comunitat Valenciana | C20: 1035 | D20: 543 | E20: 492 | F20: =C20/'Evolución Denuncias'!C20 -> 0.14823833 | G20: 888 | H20: 456 | I20: 432 | J20: =+G20/'Evolución Denuncias'!K20 -> 0.12191104 | K20: =IF(C20>0,(G20-C20)/C20,"-") -> -0.14202899 | L20: =IF(D20>0,(H20-D20)/D20,"-") -> -0.16022099 | M20: =IF(E20>0,(I20-E20)/E20,"-") -> -0.12195122 | N20: =+(J20-F20)/F20 -> -0.1776011
B21: Extremadura | C21: 21 | D21: 21 | E21: 0 | F21: =C21/'Evolución Denuncias'!C21 -> 0.026348808 | G21: 67 | H21: 58 | I21: 9 | J21: =+G21/'Evolución Denuncias'!K21 -> 0.065750736 | K21: =IF(C21>0,(G21-C21)/C21,"-") -> 2.1904762 | L21: =IF(D21>0,(H21-D21)/D21,"-") -> 1.7619048 | M21: =IF(E21>0,(I21-E21)/E21,"-") -> - | N21: =+(J21-F21)/F21 -> 1.495397
B22: Galicia | C22: 121 | D22: 94 | E22: 27 | F22: =C22/'Evolución Denuncias'!C22 -> 0.058995612 | G22: 117 | H22: 86 | I22: 31 | J22: =+G22/'Evolución Denuncias'!K22 -> 0.052655266 | K22: =IF(C22>0,(G22-C22)/C22,"-") -> -0.033057851 | L22: =IF(D22>0,(H22-D22)/D22,"-") -> -0.085106383 | M22: =IF(E22>0,(I22-E22)/E22,"-") -> 0.14814815 | N22: =+(J22-F22)/F22 -> -0.10747149
... B27: La Rioja | C27: 16 | D27: 6 | E27: 10 | F27: =C27/'Evolución Denuncias'!C27 -> 0.056737589 | G27: 38 | H27: 19 | I27: 19 | J27: =+G27/'Evolución Denuncias'!K27 -> 0.1563786 | K27: =IF(C27>0,(G27-C27)/C27,"-") -> 1.375 | L27: =IF(D27>0,(H27-D27)/D27,"-") -> 2.1666667 | M27: =IF(E27>0,(I27-E27)/E27,"-") -> 0.9 | N27: =+(J27-F27)/F27 -> 1.7561728
B28: España | C28: =SUM(C11:C27) -> 5549 | D28: =SUM(D11:D27) -> 3007 | E28: =SUM(E11:E27) -> 2542 | F28: =C28/'Evolución Denuncias'!C28 -> 0.10936792 | G28: =SUM(G11:G27) -> 5732 | H28: =SUM(H11:H27) -> 3173 | I28: =SUM(I11:I27) -> 2559 | J28: =+G28/'Evolución Denuncias'!K28 -> 0.10288627 | K28: =IF(C28>0,(G28-C28)/C28,"-") -> 0.032978915 | L28: =IF(D28>0,(H28-D28)/D28,"-") -> 0.055204523 | M28: =IF(E28>0,(I28-E28)/E28,"-") -> 0.0066876475 | N28: =+(J28-F28)/F28 -> -0.059264589

Sheet Evolución Víctimas
C9: 2º trimestre 2025 | I9: 2º trimestre 2026
C10: Mujeres víctimas de violencia de género | D10: Víctimas Españolas | E10: Víctimas Extranjeras | F10: Total* Menores Tutelados víctimas de violencia | G10: Total* Víctimas Menores Tuteladas Españolas | H10: Total* Víctimas Menores Tuteladas Extranjeras | I10: Mujeres víctimas de violencia de género | J10: Víctimas Españolas | K10: Víctimas Extranjeras | L10: Total* Menores Tutelados víctimas de violencia | M10: Total* Víctimas Menores Tuteladas Españolas | N10: Total* Víctimas Menores Tuteladas Extranjeras
B11: Andalucía | C11: 9753 | D11: 7071 | E11: 2682 | F11: 16 | G11: 16 | H11: 0 | I11: 10170 | J11: 7809 | K11: 2361 | L11: 10 | M11: 10 | N11: 0
B12: Aragón | C12: 1180 | D12: 599 | E12: 581 | F12: 3 | G12: 3 | H12: 0 | I12: 1146 | J12: 602 | K12: 544 | L12: 4 | M12: 2 | N12: 2
B13: Asturias | C13: 769 | D13: 525 | E13: 244 | F13: 16 | G13: 14 | H13: 2 | I13: 1066 | J13: 608 | K13: 458 | L13: 14 | M13: 10 | N13: 4
B14: Illes Balears | C14: 1707 | D14: 910 | E14: 797 | F14: 0 | G14: 0 | H14: 0 | I14: 1846 | J14: 951 | K14: 895 | L14: 4 | M14: 3 | N14: 1
B15: Canarias | C15: 2657 | D15: 1842 | E15: 815 | F15: 0 | G15: 0 | H15: 0 | I15: 2714 | J15: 2035 | K15: 679 | L15: 4 | M15: 4 | N15: 0
B16: Cantabria | C16: 488 | D16: 315 | E16: 173 | F16: 0 | G16: 0 | H16: 0 | I16: 449 | J16: 283 | K16: 166 | L16: 1 | M16: 0 | N16: 1
B17: Castilla y León | C17: 1444 | D17: 914 | E17: 530 | F17: 11 | G17: 11 | H17: 0 | I17: 1489 | J17: 913 | K17: 576 | L17: 6 | M17: 4 | N17: 2
B18: Castilla-La Mancha | C18: 1562 | D18: 974 | E18: 588 | F18: 9 | G18: 7 | H18: 2 | I18: 1922 | J18: 1207 | K18: 715 | L18: 4 | M18: 1 | N18: 3
B19: Cataluña | C19: 6245 | D19: 3396 | E19: 2849 | F19: 3 | G19: 3 | H19: 0 | I19: 6603 | J19: 3503 | K19: 3100 | L19: 13 | M19: 10 | N19: 3
B20: Comunitat Valenciana | C20: 6497 | D20: 3793 | E20: 2704 | F20: 11 | G20: 6 | H20: 5 | I20: 6576 | J20: 3632 | K20: 2944 | L20: 10 | M20: 9 | N20: 1
B21: Extremadura | C21: 749 | D21: 672 | E21: 77 | F21: 9 | G21: 9 | H21: 0 | I21: 834 | J21: 748 | K21: 86 | L21: 0 | M21: 0 | N21: 0
B22: Galicia | C22: 1862 | D22: 1493 | E22: 369 | F22: 3 | G22: 3 | H22: 0 | I22: 1946 | J22: 1425 | K22: 521 | L22: 9 | M22: 5 | N22: 4
... B27: La Rioja | C27: 229 | D27: 68 | E27: 161 | F27: 0 | G27: 0 | H27: 0 | I27: 185 | J27: 89 | K27: 96 | L27: 6 | M27: 5 | N27: 1
B28: España | C28: =SUM(C11:C27) -> 46550 | D28: =SUM(D11:D27) -> 28958 | E28: =SUM(E11:E27) -> 17592 | F28: =SUM(F11:F27) -> 105 | G28: =SUM(G11:G27) -> 91 | H28: =SUM(H11:H27) -> 14 | I28: =SUM(I11:I27) -> 50106 | J28: =SUM(J11:J27) -> 31110 | ... N28: =SUM(N11:N27) -> 35
C31: Evolución 2º trimestre 2026/2º trimestre 2025 | F31: Evolución 2º trimestre 2026/2º trimestre 2025
C32: Mujeres víctimas de violencia de género | D32: Víctimas Españolas | E32: Víctimas Extranjeras | F32: Víctimas menores de violencia de género | G32: Víctimas menores Españolas | H32: Víctimas menores Extranjeras
B33: Andalucía | C33: =IF(C11>0,(I11-C11)/C11,"-") -> 0.042756075 | D33: =IF(D11>0,(J11-D11)/D11,"-") -> 0.10436996 | E33: =IF(E11>0,(K11-E11)/E11,"-") -> -0.1196868 | F33: =IF(F11>0,(L11-F11)/F11,"-") -> -0.375 | G33: =IF(G11>0,(M11-G11)/G11,"-") -> -0.375 | H33: =IF(H11>0,(N11-H11)/H11,"-") -> -
B34: Aragón | C34: =IF(C12>0,(I12-C12)/C12,"-") -> -0.028813559 | D34: =IF(D12>0,(J12-D12)/D12,"-") -> 0.0050083472 | E34: =IF(E12>0,(K12-E12)/E12,"-") -> -0.063683305 | F34: =IF(F12>0,(L12-F12)/F12,"-") -> 0.33333333 | G34: =IF(G12>0,(M12-G12)/G12,"-") -> -0.33333333 | H34: =IF(H12>0,(N12-H12)/H12,"-") -> -
B35: Asturias | C35: =IF(C13>0,(I13-C13)/C13,"-") -> 0.38621586 | D35: =IF(D13>0,(J13-D13)/D13,"-") -> 0.15809524 | E35: =IF(E13>0,(K13-E13)/E13,"-") -> 0.87704918 | F35: =IF(F13>0,(L13-F13)/F13,"-") -> -0.125 | G35: =IF(G13>0,(M13-G13)/G13,"-") -> -0.28571429 | H35: =IF(H13>0,(N13-H13)/H13,"-") -> 1
B36: Illes Balears | C36: =IF(C14>0,(I14-C14)/C14,"-") -> 0.081429408 | D36: =IF(D14>0,(J14-D14)/D14,"-") -> 0.045054945 | E36: =IF(E14>0,(K14-E14)/E14,"-") -> 0.1229611 | F36: =IF(F14>0,(L14-F14)/F14,"-") -> - | G36: =IF(G14>0,(M14-G14)/G14,"-") -> - | H36: =IF(H14>0,(N14-H14)/H14,"-") -> -
B37: Canarias | C37: =IF(C15>0,(I15-C15)/C15,"-") -> 0.021452766 | D37: =IF(D15>0,(J15-D15)/D15,"-") -> 0.10477742 | E37: =IF(E15>0,(K15-E15)/E15,"-") -> -0.16687117 | F37: =IF(F15>0,(L15-F15)/F15,"-") -> - | G37: =IF(G15>0,(M15-G15)/G15,"-") -> - | H37: =IF(H15>0,(N15-H15)/H15,"-") -> -
B38: Cantabria | C38: =IF(C16>0,(I16-C16)/C16,"-") -> -0.079918033 | D38: =IF(D16>0,(J16-D16)/D16,"-") -> -0.1015873 | E38: =IF(E16>0,(K16-E16)/E16,"-") -> -0.040462428 | F38: =IF(F16>0,(L16-F16)/F16,"-") -> - | G38: =IF(G16>0,(M16-G16)/G16,"-") -> - | H38: =IF(H16>0,(N16-H16)/H16,"-") -> -
B39: Castilla y León | C39: =IF(C17>0,(I17-C17)/C17,"-") -> 0.031163435 | D39: =IF(D17>0,(J17-D17)/D17,"-") -> -0.0010940919 | E39: =IF(E17>0,(K17-E17)/E17,"-") -> 0.086792453 | F39: =IF(F17>0,(L17-F17)/F17,"-") -> -0.45454545 | G39: =IF(G17>0,(M17-G17)/G17,"-") -> -0.63636364 | H39: =IF(H17>0,(N17-H17)/H17,"-") -> -
B40: Castilla-La Mancha | C40: =IF(C18>0,(I18-C18)/C18,"-") -> 0.23047375 | D40: =IF(D18>0,(J18-D18)/D18,"-") -> 0.23921971 | E40: =IF(E18>0,(K18-E18)/E18,"-") -> 0.21598639 | F40: =IF(F18>0,(L18-F18)/F18,"-") -> -0.55555556 | G40: =IF(G18>0,(M18-G18)/G18,"-") -> -0.85714286 | H40: =IF(H18>0,(N18-H18)/H18,"-") -> 0.5
B41: Cataluña | C41: =IF(C19>0,(I19-C19)/C19,"-") -> 0.057325861 | D41: =IF(D19>0,(J19-D19)/D19,"-") -> 0.031507656 | E41: =IF(E19>0,(K19-E19)/E19,"-") -> 0.088101088 | F41: =IF(F19>0,(L19-F19)/F19,"-") -> 3.3333333 | G41: =IF(G19>0,(M19-G19)/G19,"-") -> 2.3333333 | H41: =IF(H19>0,(N19-H19)/H19,"-") -> -
B42: Comunitat Valenciana | C42: =IF(C20>0,(I20-C20)/C20,"-") -> 0.012159458 | D42: =IF(D20>0,(J20-D20)/D20,"-") -> -0.042446612 | E42: =IF(E20>0,(K20-E20)/E20,"-") -> 0.088757396 | F42: =IF(F20>0,(L20-F20)/F20,"-") -> -0.090909091 | G42: =IF(G20>0,(M20-G20)/G20,"-") -> 0.5 | H42: =IF(H20>0,(N20-H20)/H20,"-") -> -0.8
B43: Extremadura | C43: =IF(C21>0,(I21-C21)/C21,"-") -> 0.11348465 | D43: =IF(D21>0,(J21-D21)/D21,"-") -> 0.11309524 | E43: =IF(E21>0,(K21-E21)/E21,"-") -> 0.11688312 | F43: =IF(F21>0,(L21-F21)/F21,"-") -> -1 | G43: =IF(G21>0,(M21-G21)/G21,"-") -> -1 | H43: =IF(H21>0,(N21-H21)/H21,"-") -> -
B44: Galicia | C44: =IF(C22>0,(I22-C22)/C22,"-") -> 0.045112782 | D44: =IF(D22>0,(J22-D22)/D22,"-") -> -0.045545881 | E44: =IF(E22>0,(K22-E22)/E22,"-") -> 0.41192412 | F44: =IF(F22>0,(L22-F22)/F22,"-") -> 2 | G44: =IF(G22>0,(M22-G22)/G22,"-") -> 0.66666667 | H44: =IF(H22>0,(N22-H22)/H22,"-") -> -
... B50: España | C50: =IF(C28>0,(I28-C28)/C28,"-") -> 0.076390977 | D50: =IF(D28>0,(J28-D28)/D28,"-") -> 0.074314524 | E50: =IF(E28>0,(K28-E28)/E28,"-") -> 0.079809004 | F50: =IF(F28>0,(L28-F28)/F28,"-") -> 0.076190476 | G50: =IF(G28>0,(M28-G28)/G28,"-") -> -0.14285714 | H50: =IF(H28>0,(N28-H28)/H28,"-") -> 1.5
B53: * El nº Total de víctimas menores Tuteladas incluye tanto mujeres como hombres menores

Sheet Evolución Órdenes y Medidas
C9: 2º trimestre 2025 | G9: 2º trimestre 2026 | K9: Evolución 2º trimestre 2026/2º trimestre 2025
C10: Incoadas | D10: Inadmitidas | E10: Adoptadas | F10: Denegadas | G10: Incoadas | H10: Inadmitidas | I10: Adoptadas | J10: Denegadas | K10: Incoadas | L10: Inadmitidas | M10: Adoptadas | N10: Denegadas
B11: Andalucía | C11: 2298 | D11: 22 | E11: 1714 | F11: 562 | G11: 2218 | H11: 15 | I11: 1725 | J11: 478 | K11: =IF(C11=0,"-",(G11-C11)/C11) -> -0.034812881 | L11: =IF(D11=0,"-",(H11-D11)/D11) -> -0.31818182 | M11: =IF(E11=0,"-",(I11-E11)/E11) -> 0.0064177363 | N11: =IF(F11=0,"-",(J11-F11)/F11) -> -0.14946619
B12: Aragón | C12: 222 | D12: 0 | E12: 173 | F12: 49 | G12: 320 | H12: 1 | I12: 231 | J12: 88 | K12: =IF(C12=0,"-",(G12-C12)/C12) -> 0.44144144 | L12: =IF(D12=0,"-",(H12-D12)/D12) -> - | M12: =IF(E12=0,"-",(I12-E12)/E12) -> 0.33526012 | N12: =IF(F12=0,"-",(J12-F12)/F12) -> 0.79591837
B13: Asturias | C13: 214 | D13: 0 | E13: 179 | F13: 35 | G13: 142 | H13: 2 | I13: 91 | J13: 49 | K13: =IF(C13=0,"-",(G13-C13)/C13) -> -0.3364486 | L13: =IF(D13=0,"-",(H13-D13)/D13) -> - | M13: =IF(E13=0,"-",(I13-E13)/E13) -> -0.49162011 | N13: =IF(F13=0,"-",(J13-F13)/F13) -> 0.4
B14: Illes Balears | C14: 420 | D14: 1 | E14: 335 | F14: 84 | G14: 408 | H14: 0 | I14: 318 | J14: 90 | K14: =IF(C14=0,"-",(G14-C14)/C14) -> -0.028571429 | L14: =IF(D14=0,"-",(H14-D14)/D14) -> -1 | M14: =IF(E14=0,"-",(I14-E14)/E14) -> -0.050746269 | N14: =IF(F14=0,"-",(J14-F14)/F14) -> 0.071428571
B15: Canarias | C15: 567 | D15: 10 | E15: 408 | F15: 149 | G15: 440 | H15: 5 | I15: 297 | J15: 138 | K15: =IF(C15=0,"-",(G15-C15)/C15) -> -0.22398589 | L15: =IF(D15=0,"-",(H15-D15)/D15) -> -0.5 | M15: =IF(E15=0,"-",(I15-E15)/E15) -> -0.27205882 | N15: =IF(F15=0,"-",(J15-F15)/F15) -> -0.073825503
B16: Cantabria | C16: 114 | D16: 0 | E16: 76 | F16: 38 | G16: 120 | H16: 0 | I16: 71 | J16: 49 | K16: =IF(C16=0,"-",(G16-C16)/C16) -> 0.052631579 | L16: =IF(D16=0,"-",(H16-D16)/D16) -> - | M16: =IF(E16=0,"-",(I16-E16)/E16) -> -0.065789474 | N16: =IF(F16=0,"-",(J16-F16)/F16) -> 0.28947368
B17: Castilla y León | C17: 476 | D17: 1 | E17: 334 | F17: 141 | G17: 499 | H17: 1 | I17: 369 | J17: 129 | K17: =IF(C17=0,"-",(G17-C17)/C17) -> 0.048319328 | L17: =IF(D17=0,"-",(H17-D17)/D17) -> 0 | M17: =IF(E17=0,"-",(I17-E17)/E17) -> 0.10479042 | N17: =IF(F17=0,"-",(J17-F17)/F17) -> -0.085106383
B18: Castilla-La Mancha | C18: 445 | D18: 0 | E18: 303 | F18: 142 | G18: 493 | H18: 6 | I18: 361 | J18: 126 | K18: =IF(C18=0,"-",(G18-C18)/C18) -> 0.10786517 | L18: =IF(D18=0,"-",(H18-D18)/D18) -> - | M18: =IF(E18=0,"-",(I18-E18)/E18) -> 0.19141914 | N18: =IF(F18=0,"-",(J18-F18)/F18) -> -0.11267606
B19: Cataluña | C19: 1441 | D19: 43 | E19: 706 | F19: 692 | G19: 1165 | H19: 17 | I19: 595 | J19: 553 | K19: =IF(C19=0,"-",(G19-C19)/C19) -> -0.19153366 | L19: =IF(D19=0,"-",(H19-D19)/D19) -> -0.60465116 | M19: =IF(E19=0,"-",(I19-E19)/E19) -> -0.1572238 | N19: =IF(F19=0,"-",(J19-F19)/F19) -> -0.20086705
B20: Comunitat Valenciana | C20: 1250 | D20: 2 | E20: 928 | F20: 320 | G20: 1347 | H20: 8 | I20: 1072 | J20: 267 | K20: =IF(C20=0,"-",(G20-C20)/C20) -> 0.0776 | L20: =IF(D20=0,"-",(H20-D20)/D20) -> 3 | M20: =IF(E20=0,"-",(I20-E20)/E20) -> 0.15517241 | N20: =IF(F20=0,"-",(J20-F20)/F20) -> -0.165625
B21: Extremadura | C21: 222 | D21: 2 | E21: 154 | F21: 66 | G21: 164 | H21: 0 | I21: 106 | J21: 58 | K21: =IF(C21=0,"-",(G21-C21)/C21) -> -0.26126126 | L21: =IF(D21=0,"-",(H21-D21)/D21) -> -1 | M21: =IF(E21=0,"-",(I21-E21)/E21) -> -0.31168831 | N21: =IF(F21=0,"-",(J21-F21)/F21) -> -0.12121212
B22: Galicia | C22: 457 | D22: 3 | E22: 312 | F22: 142 | G22: 413 | H22: 0 | I22: 274 | J22: 139 | K22: =IF(C22=0,"-",(G22-C22)/C22) -> -0.096280088 | L22: =IF(D22=0,"-",(H22-D22)/D22) -> -1 | M22: =IF(E22=0,"-",(I22-E22)/E22) -> -0.12179487 | N22: =IF(F22=0,"-",(J22-F22)/F22) -> -0.021126761
... B27: La Rioja | C27: 65 | D27: 0 | E27: 58 | F27: 7 | G27: 112 | H27: 0 | I27: 89 | J27: 23 | K27: =IF(C27=0,"-",(G27-C27)/C27) -> 0.72307692 | L27: =IF(D27=0,"-",(H27-D27)/D27) -> - | M27: =IF(E27=0,"-",(I27-E27)/E27) -> 0.53448276 | N27: =IF(F27=0,"-",(J27-F27)/F27) -> 2.2857143
B28: España | C28: =SUM(C11:C27) -> 10588 | D28: =SUM(D11:D27) -> 98 | E28: =SUM(E11:E27) -> 7028 | F28: =SUM(F11:F27) -> 3462 | G28: =SUM(G11:G27) -> 10380 | H28: =SUM(H11:H27) -> 60 | I28: =SUM(I11:I27) -> 7041 | J28: =SUM(J11:J27) -> 3279 | K28: =IF(C28=0,"-",(G28-C28)/C28) -> -0.019644881 | L28: =IF(D28=0,"-",(H28-D28)/D28) -> -0.3877551 | M28: =IF(E28=0,"-",(I28-E28)/E28) -> 0.0018497439 | N28: =IF(F28=0,"-",(J28-F28)/F28) -> -0.052859619

Sheet Personas Enjuiciadas
C9: 2º trimestre 2025 | H9: 2º trimestre 2026 | M9: Evolución 2º trimestre 2026/2º trimestre 2025
C10: Número | D10: Condenado Español | E10: Condenado Extranjero | F10: Absuelto Español | G10: Absuelto Extranjero | H10: Numero | I10: Condenado Español | J10: Condenado Extranjero | K10: Absuelto Español | L10: Absuelto Extranjero | M10: Número | N10: Condenado Español | O10: Condenado Extranjero | P10: Absuelto Español | Q10: Absuelto Extranjero
B11: Andalucía | C11: 1750 | D11: 1193 | E11: 423 | F11: 107 | G11: 27 | H11: 1929 | I11: 1325 | J11: 440 | K11: 145 | L11: 19 | M11: =IF(C11=0,"-",(H11-C11)/C11) -> 0.10228571 | N11: =IF(D11=0,"-",(I11-D11)/D11) -> 0.11064543 | O11: =IF(E11=0,"-",(J11-E11)/E11) -> 0.040189125 | P11: =IF(F11=0,"-",(K11-F11)/F11) -> 0.35514019 | Q11: =IF(G11=0,"-",(L11-G11)/G11) -> -0.2962963
B12: Aragón | C12: 188 | D12: 91 | E12: 92 | F12: 2 | G12: 3 | H12: 217 | I12: 101 | J12: 109 | K12: 5 | L12: 2 | M12: =IF(C12=0,"-",(H12-C12)/C12) -> 0.15425532 | N12: =IF(D12=0,"-",(I12-D12)/D12) -> 0.10989011 | O12: =IF(E12=0,"-",(J12-E12)/E12) -> 0.18478261 | P12: =IF(F12=0,"-",(K12-F12)/F12) -> 1.5 | Q12: =IF(G12=0,"-",(L12-G12)/G12) -> -0.33333333
B13: Asturias | C13: 146 | D13: 104 | E13: 39 | F13: 3 | G13: 0 | H13: 182 | I13: 137 | J13: 37 | K13: 6 | L13: 2 | M13: =IF(C13=0,"-",(H13-C13)/C13) -> 0.24657534 | N13: =IF(D13=0,"-",(I13-D13)/D13) -> 0.31730769 | O13: =IF(E13=0,"-",(J13-E13)/E13) -> -0.051282051 | P13: =IF(F13=0,"-",(K13-F13)/F13) -> 1 | Q13: =IF(G13=0,"-",(L13-G13)/G13) -> -
B14: Illes Balears | C14: 299 | D14: 130 | E14: 151 | F14: 8 | G14: 10 | H14: 394 | I14: 216 | J14: 165 | K14: 9 | L14: 4 | M14: =IF(C14=0,"-",(H14-C14)/C14) -> 0.31772575 | N14: =IF(D14=0,"-",(I14-D14)/D14) -> 0.66153846 | O14: =IF(E14=0,"-",(J14-E14)/E14) -> 0.092715232 | P14: =IF(F14=0,"-",(K14-F14)/F14) -> 0.125 | Q14: =IF(G14=0,"-",(L14-G14)/G14) -> -0.6
B15: Canarias | C15: 754 | D15: 521 | E15: 195 | F15: 31 | G15: 7 | H15: 660 | I15: 469 | J15: 180 | K15: 10 | L15: 1 | M15: =IF(C15=0,"-",(H15-C15)/C15) -> -0.12466844 | N15: =IF(D15=0,"-",(I15-D15)/D15) -> -0.099808061 | O15: =IF(E15=0,"-",(J15-E15)/E15) -> -0.076923077 | P15: =IF(F15=0,"-",(K15-F15)/F15) -> -0.67741935 | Q15: =IF(G15=0,"-",(L15-G15)/G15) -> -0.85714286
B16: Cantabria | C16: 102 | D16: 64 | E16: 34 | F16: 3 | G16: 1 | H16: 96 | I16: 58 | J16: 30 | K16: 6 | L16: 2 | M16: =IF(C16=0,"-",(H16-C16)/C16) -> -0.058823529 | N16: =IF(D16=0,"-",(I16-D16)/D16) -> -0.09375 | O16: =IF(E16=0,"-",(J16-E16)/E16) -> -0.11764706 | P16: =IF(F16=0,"-",(K16-F16)/F16) -> 1 | Q16: =IF(G16=0,"-",(L16-G16)/G16) -> 1
B17: Castilla y León | C17: 289 | D17: 181 | E17: 86 | F17: 13 | G17: 9 | H17: 236 | I17: 129 | J17: 81 | K17: 23 | L17: 3 | M17: =IF(C17=0,"-",(H17-C17)/C17) -> -0.183391 | N17: =IF(D17=0,"-",(I17-D17)/D17) -> -0.28729282 | O17: =IF(E17=0,"-",(J17-E17)/E17) -> -0.058139535 | P17: =IF(F17=0,"-",(K17-F17)/F17) -> 0.76923077 | Q17: =IF(G17=0,"-",(L17-G17)/G17) -> -0.66666667
B18: Castilla-La Mancha | C18: 305 | D18: 193 | E18: 92 | F18: 14 | G18: 6 | H18: 309 | I18: 183 | J18: 100 | K18: 19 | L18: 7 | M18: =IF(C18=0,"-",(H18-C18)/C18) -> 0.013114754 | N18: =IF(D18=0,"-",(I18-D18)/D18) -> -0.051813472 | O18: =IF(E18=0,"-",(J18-E18)/E18) -> 0.086956522 | P18: =IF(F18=0,"-",(K18-F18)/F18) -> 0.35714286 | Q18: =IF(G18=0,"-",(L18-G18)/G18) -> 0.16666667
B19: Cataluña | C19: 694 | D19: 317 | E19: 313 | F19: 28 | G19: 36 | H19: 795 | I19: 360 | J19: 384 | K19: 30 | L19: 21 | M19: =IF(C19=0,"-",(H19-C19)/C19) -> 0.14553314 | N19: =IF(D19=0,"-",(I19-D19)/D19) -> 0.13564669 | O19: =IF(E19=0,"-",(J19-E19)/E19) -> 0.22683706 | P19: =IF(F19=0,"-",(K19-F19)/F19) -> 0.071428571 | Q19: =IF(G19=0,"-",(L19-G19)/G19) -> -0.41666667
B20: Comunitat Valenciana | C20: 1297 | D20: 728 | E20: 481 | F20: 50 | G20: 38 | H20: 1325 | I20: 683 | J20: 568 | K20: 51 | L20: 23 | M20: =IF(C20=0,"-",(H20-C20)/C20) -> 0.021588281 | N20: =IF(D20=0,"-",(I20-D20)/D20) -> -0.061813187 | O20: =IF(E20=0,"-",(J20-E20)/E20) -> 0.18087318 | P20: =IF(F20=0,"-",(K20-F20)/F20) -> 0.02 | Q20: =IF(G20=0,"-",(L20-G20)/G20) -> -0.39473684
B21: Extremadura | C21: 180 | D21: 150 | E21: 24 | F21: 6 | G21: 0 | H21: 231 | I21: 200 | J21: 20 | K21: 11 | L21: 0 | M21: =IF(C21=0,"-",(H21-C21)/C21) -> 0.28333333 | N21: =IF(D21=0,"-",(I21-D21)/D21) -> 0.33333333 | O21: =IF(E21=0,"-",(J21-E21)/E21) -> -0.16666667 | P21: =IF(F21=0,"-",(K21-F21)/F21) -> 0.83333333 | Q21: =IF(G21=0,"-",(L21-G21)/G21) -> -
B22: Galicia | C22: 356 | D22: 257 | E22: 77 | F22: 21 | G22: 1 | H22: 392 | I22: 273 | J22: 93 | K22: 24 | L22: 2 | M22: =IF(C22=0,"-",(H22-C22)/C22) -> 0.1011236 | N22: =IF(D22=0,"-",(I22-D22)/D22) -> 0.062256809 | O22: =IF(E22=0,"-",(J22-E22)/E22) -> 0.20779221 | P22: =IF(F22=0,"-",(K22-F22)/F22) -> 0.14285714 | Q22: =IF(G22=0,"-",(L22-G22)/G22) -> 1
... B27: La Rioja | C27: 65 | D27: 38 | E27: 27 | F27: 0 | G27: 0 | H27: 52 | I27: 27 | J27: 25 | K27: 0 | L27: 0 | M27: =IF(C27=0,"-",(H27-C27)/C27) -> -0.2 | N27: =IF(D27=0,"-",(I27-D27)/D27) -> -0.28947368 | O27: =IF(E27=0,"-",(J27-E27)/E27) -> -0.074074074 | P27: =IF(F27=0,"-",(K27-F27)/F27) -> - | Q27: =IF(G27=0,"-",(L27-G27)/G27) -> -
B28: España | C28: =SUM(C11:C27) -> 7851 | D28: =SUM(D11:D27) -> 4711 | E28: =SUM(E11:E27) -> 2616 | F28: =SUM(F11:F27) -> 354 | G28: =SUM(G11:G27) -> 170 | H28: =SUM(H11:H27) -> 8184 | I28: =SUM(I11:I27) -> 4860 | J28: =SUM(J11:J27) -> 2819 | ... L28: =SUM(L11:L27) -> 117 | M28: =IF(C28=0,"-",(H28-C28)/C28) -> 0.042414979 | N28: =IF(D28=0,"-",(I28-D28)/D28) -> 0.031628104 | O28: =IF(E28=0,"-",(J28-E28)/E28) -> 0.077599388 | P28: =IF(F28=0,"-",(K28-F28)/F28) -> 0.096045198 | Q28: =IF(G28=0,"-",(L28-G28)/G28) -> -0.31176471

Sheet Jdos Penal_Personas Enjuiciadas
C9: 2º trimestre 2025 | H9: 2º trimestre 2026 | M9: Evolución 2º trimestre 2026/2º trimestre 2025
C10: Total | D10: Condenado Español | E10: Condenado Extranjero | F10: Absuelto Español | G10: Absuelto Extranjero | H10: Total | I10: Condenado Español | J10: Condenado Extranjero | K10: Absuelto Español | L10: Absuelto Extranjero | M10: Total | N10: Condenado Español | O10: Condenado Extranjero | P10: Absuelto Español | Q10: Absuelto Extranjero
B11: Andalucía | C11: 1699 | D11: 904 | E11: 270 | F11: 427 | G11: 98 | H11: 1630 | I11: 775 | J11: 257 | K11: 495 | L11: 103 | M11: =IF(C11=0,"-",(H11-C11)/C11) -> -0.040612125 | N11: =IF(D11=0,"-",(I11-D11)/D11) -> -0.14269912 | O11: =IF(E11=0,"-",(J11-E11)/E11) -> -0.048148148 | P11: =IF(F11=0,"-",(K11-F11)/F11) -> 0.15925059 | Q11: =IF(G11=0,"-",(L11-G11)/G11) -> 0.051020408
B12: Aragón | C12: 239 | D12: 111 | E12: 78 | F12: 31 | G12: 19 | H12: 240 | I12: 112 | J12: 79 | K12: 36 | L12: 13 | M12: =IF(C12=0,"-",(H12-C12)/C12) -> 0.0041841004 | N12: =IF(D12=0,"-",(I12-D12)/D12) -> 0.009009009 | O12: =IF(E12=0,"-",(J12-E12)/E12) -> 0.012820513 | P12: =IF(F12=0,"-",(K12-F12)/F12) -> 0.16129032 | Q12: =IF(G12=0,"-",(L12-G12)/G12) -> -0.31578947
B13: Asturias | C13: 196 | D13: 126 | E13: 21 | F13: 38 | G13: 11 | H13: 225 | I13: 152 | J13: 27 | K13: 40 | L13: 6 | M13: =IF(C13=0,"-",(H13-C13)/C13) -> 0.14795918 | N13: =IF(D13=0,"-",(I13-D13)/D13) -> 0.20634921 | O13: =IF(E13=0,"-",(J13-E13)/E13) -> 0.28571429 | P13: =IF(F13=0,"-",(K13-F13)/F13) -> 0.052631579 | Q13: =IF(G13=0,"-",(L13-G13)/G13) -> -0.45454545
B14: Illes Balears | C14: 280 | D14: 125 | E14: 97 | F14: 39 | G14: 19 | H14: 215 | I14: 98 | J14: 70 | K14: 20 | L14: 27 | M14: =IF(C14=0,"-",(H14-C14)/C14) -> -0.23214286 | N14: =IF(D14=0,"-",(I14-D14)/D14) -> -0.216 | O14: =IF(E14=0,"-",(J14-E14)/E14) -> -0.27835052 | P14: =IF(F14=0,"-",(K14-F14)/F14) -> -0.48717949 | Q14: =IF(G14=0,"-",(L14-G14)/G14) -> 0.42105263
B15: Canarias | C15: 227 | D15: 106 | E15: 39 | F15: 65 | G15: 17 | H15: 220 | I15: 108 | J15: 45 | K15: 63 | L15: 4 | M15: =IF(C15=0,"-",(H15-C15)/C15) -> -0.030837004 | N15: =IF(D15=0,"-",(I15-D15)/D15) -> 0.018867925 | O15: =IF(E15=0,"-",(J15-E15)/E15) -> 0.15384615 | P15: =IF(F15=0,"-",(K15-F15)/F15) -> -0.030769231 | Q15: =IF(G15=0,"-",(L15-G15)/G15) -> -0.76470588
B16: Cantabria | C16: 107 | D16: 69 | E16: 17 | F16: 13 | G16: 8 | H16: 97 | I16: 56 | J16: 18 | K16: 23 | L16: 0 | M16: =IF(C16=0,"-",(H16-C16)/C16) -> -0.093457944 | N16: =IF(D16=0,"-",(I16-D16)/D16) -> -0.1884058 | O16: =IF(E16=0,"-",(J16-E16)/E16) -> 0.058823529 | P16: =IF(F16=0,"-",(K16-F16)/F16) -> 0.76923077 | Q16: =IF(G16=0,"-",(L16-G16)/G16) -> -1
B17: Castilla y León | C17: 324 | D17: 178 | E17: 66 | F17: 64 | G17: 16 | H17: 339 | I17: 172 | J17: 80 | K17: 60 | L17: 27 | M17: =IF(C17=0,"-",(H17-C17)/C17) -> 0.046296296 | N17: =IF(D17=0,"-",(I17-D17)/D17) -> -0.033707865 | O17: =IF(E17=0,"-",(J17-E17)/E17) -> 0.21212121 | P17: =IF(F17=0,"-",(K17-F17)/F17) -> -0.0625 | Q17: =IF(G17=0,"-",(L17-G17)/G17) -> 0.6875
B18: Castilla-La Mancha | C18: 328 | D18: 148 | E18: 64 | F18: 83 | G18: 33 | H18: 252 | I18: 109 | J18: 62 | K18: 57 | L18: 24 | M18: =IF(C18=0,"-",(H18-C18)/C18) -> -0.23170732 | N18: =IF(D18=0,"-",(I18-D18)/D18) -> -0.26351351 | O18: =IF(E18=0,"-",(J18-E18)/E18) -> -0.03125 | P18: =IF(F18=0,"-",(K18-F18)/F18) -> -0.31325301 | Q18: =IF(G18=0,"-",(L18-G18)/G18) -> -0.27272727
B19: Cataluña | C19: 1561 | D19: 507 | E19: 440 | F19: 405 | G19: 209 | H19: 1464 | I19: 482 | J19: 448 | K19: 285 | L19: 249 | M19: =IF(C19=0,"-",(H19-C19)/C19) -> -0.062139654 | N19: =IF(D19=0,"-",(I19-D19)/D19) -> -0.049309665 | O19: =IF(E19=0,"-",(J19-E19)/E19) -> 0.018181818 | P19: =IF(F19=0,"-",(K19-F19)/F19) -> -0.2962963 | Q19: =IF(G19=0,"-",(L19-G19)/G19) -> 0.19138756
B20: Comunitat Valenciana | C20: 1010 | D20: 485 | E20: 262 | F20: 180 | G20: 83 | H20: 1028 | I20: 486 | J20: 275 | K20: 167 | L20: 100 | M20: =IF(C20=0,"-",(H20-C20)/C20) -> 0.017821782 | N20: =IF(D20=0,"-",(I20-D20)/D20) -> 0.0020618557 | O20: =IF(E20=0,"-",(J20-E20)/E20) -> 0.049618321 | P20: =IF(F20=0,"-",(K20-F20)/F20) -> -0.072222222 | Q20: =IF(G20=0,"-",(L20-G20)/G20) -> 0.20481928
B21: Extremadura | C21: 117 | D21: 86 | E21: 19 | F21: 11 | G21: 1 | H21: 158 | I21: 107 | J21: 36 | K21: 15 | L21: 0 | M21: =IF(C21=0,"-",(H21-C21)/C21) -> 0.35042735 | N21: =IF(D21=0,"-",(I21-D21)/D21) -> 0.24418605 | O21: =IF(E21=0,"-",(J21-E21)/E21) -> 0.89473684 | P21: =IF(F21=0,"-",(K21-F21)/F21) -> 0.36363636 | Q21: =IF(G21=0,"-",(L21-G21)/G21) -> -1
B22: Galicia | C22: 360 | D22: 228 | E22: 43 | F22: 70 | G22: 19 | H22: 342 | I22: 223 | J22: 53 | K22: 58 | L22: 8 | M22: =IF(C22=0,"-",(H22-C22)/C22) -> -0.05 | N22: =IF(D22=0,"-",(I22-D22)/D22) -> -0.021929825 | O22: =IF(E22=0,"-",(J22-E22)/E22) -> 0.23255814 | P22: =IF(F22=0,"-",(K22-F22)/F22) -> -0.17142857 | Q22: =IF(G22=0,"-",(L22-G22)/G22) -> -0.57894737
... B27: La Rioja | C27: 76 | D27: 33 | E27: 20 | F27: 15 | G27: 8 | H27: 75 | I27: 48 | J27: 6 | K27: 16 | L27: 5 | M27: =IF(C27=0,"-",(H27-C27)/C27) -> -0.013157895 | N27: =IF(D27=0,"-",(I27-D27)/D27) -> 0.45454545 | O27: =IF(E27=0,"-",(J27-E27)/E27) -> -0.7 | P27: =IF(F27=0,"-",(K27-F27)/F27) -> 0.066666667 | Q27: =IF(G27=0,"-",(L27-G27)/G27) -> -0.375
B28: España | C28: =SUM(C11:C27) -> 8490 | D28: =SUM(D11:D27) -> 3888 | E28: =SUM(E11:E27) -> 2148 | F28: =SUM(F11:F27) -> 1706 | G28: =SUM(G11:G27) -> 748 | H28: =SUM(H11:H27) -> 8363 | I28: =SUM(I11:I27) -> 3730 | J28: =SUM(J11:J27) -> 2248 | ... L28: =SUM(L11:L27) -> 811 | M28: =IF(C28=0,"-",(H28-C28)/C28) -> -0.014958775 | N28: =IF(D28=0,"-",(I28-D28)/D28) -> -0.04063786 | O28: =IF(E28=0,"-",(J28-E28)/E28) -> 0.046554935 | P28: =IF(F28=0,"-",(K28-F28)/F28) -> -0.077373974 | Q28: =IF(G28=0,"-",(L28-G28)/G28) -> 0.084224599

Sheet Jdos Penal_Sentencias
C9: 2º trimestre 2025 | G9: 2º trimestre 2026 | K9: Evolución 2º trimestre 2026/2º trimestre 2025
C10: Total Condenatorias | D10: Previa Conformidad | E10: Restantes Condenatorias | F10: Absolutorias | G10: Total Condenatorias | H10: Previa Conformidad | I10: Restantes Condenatorias | J10: Absolutorias | K10: Total Condenatorias | L10: Previa Conformidad | M10: Restantes Condenatorias | N10: Absolutorias
B11: Andalucía | C11: =SUM(D11:E11) -> 1174 | D11: 809 | E11: 365 | F11: 524 | G11: =SUM(H11:I11) -> 1032 | H11: 685 | I11: 347 | J11: 596 | K11: =IF(C11=0,"-",(G11-C11)/C11) -> -0.120954 | L11: =IF(D11=0,"-",(H11-D11)/D11) -> -0.15327565 | M11: =IF(E11=0,"-",(I11-E11)/E11) -> -0.049315068 | N11: =IF(F11=0,"-",(J11-F11)/F11) -> 0.13740458
B12: Aragón | C12: =SUM(D12:E12) -> 189 | D12: 123 | E12: 66 | F12: 50 | G12: =SUM(H12:I12) -> 191 | H12: 143 | I12: 48 | J12: 49 | K12: =IF(C12=0,"-",(G12-C12)/C12) -> 0.010582011 | L12: =IF(D12=0,"-",(H12-D12)/D12) -> 0.16260163 | M12: =IF(E12=0,"-",(I12-E12)/E12) -> -0.27272727 | N12: =IF(F12=0,"-",(J12-F12)/F12) -> -0.02
B13: Asturias | C13: =SUM(D13:E13) -> 147 | D13: 89 | E13: 58 | F13: 48 | G13: =SUM(H13:I13) -> 178 | H13: 109 | I13: 69 | J13: 46 | K13: =IF(C13=0,"-",(G13-C13)/C13) -> 0.21088435 | L13: =IF(D13=0,"-",(H13-D13)/D13) -> 0.2247191 | M13: =IF(E13=0,"-",(I13-E13)/E13) -> 0.18965517 | N13: =IF(F13=0,"-",(J13-F13)/F13) -> -0.041666667
B14: Illes Balears | C14: =SUM(D14:E14) -> 222 | D14: 178 | E14: 44 | F14: 57 | G14: =SUM(H14:I14) -> 167 | H14: 127 | I14: 40 | J14: 47 | K14: =IF(C14=0,"-",(G14-C14)/C14) -> -0.24774775 | L14: =IF(D14=0,"-",(H14-D14)/D14) -> -0.28651685 | M14: =IF(E14=0,"-",(I14-E14)/E14) -> -0.090909091 | N14: =IF(F14=0,"-",(J14-F14)/F14) -> -0.1754386
B15: Canarias | C15: =SUM(D15:E15) -> 145 | D15: 87 | E15: 58 | F15: 82 | G15: =SUM(H15:I15) -> 153 | H15: 71 | I15: 82 | J15: 67 | K15: =IF(C15=0,"-",(G15-C15)/C15) -> 0.055172414 | L15: =IF(D15=0,"-",(H15-D15)/D15) -> -0.18390805 | M15: =IF(E15=0,"-",(I15-E15)/E15) -> 0.4137931 | N15: =IF(F15=0,"-",(J15-F15)/F15) -> -0.18292683
B16: Cantabria | C16: =SUM(D16:E16) -> 86 | D16: 64 | E16: 22 | F16: 21 | G16: =SUM(H16:I16) -> 74 | H16: 61 | I16: 13 | J16: 23 | K16: =IF(C16=0,"-",(G16-C16)/C16) -> -0.13953488 | L16: =IF(D16=0,"-",(H16-D16)/D16) -> -0.046875 | M16: =IF(E16=0,"-",(I16-E16)/E16) -> -0.40909091 | N16: =IF(F16=0,"-",(J16-F16)/F16) -> 0.095238095
B17: Castilla y León | C17: =SUM(D17:E17) -> 243 | D17: 177 | E17: 66 | F17: 80 | G17: =SUM(H17:I17) -> 252 | H17: 192 | I17: 60 | J17: 83 | K17: =IF(C17=0,"-",(G17-C17)/C17) -> 0.037037037 | L17: =IF(D17=0,"-",(H17-D17)/D17) -> 0.084745763 | M17: =IF(E17=0,"-",(I17-E17)/E17) -> -0.090909091 | N17: =IF(F17=0,"-",(J17-F17)/F17) -> 0.0375
B18: Castilla-La Mancha | C18: =SUM(D18:E18) -> 212 | D18: 143 | E18: 69 | F18: 112 | G18: =SUM(H18:I18) -> 165 | H18: 95 | I18: 70 | J18: 81 | K18: =IF(C18=0,"-",(G18-C18)/C18) -> -0.22169811 | L18: =IF(D18=0,"-",(H18-D18)/D18) -> -0.33566434 | M18: =IF(E18=0,"-",(I18-E18)/E18) -> 0.014492754 | N18: =IF(F18=0,"-",(J18-F18)/F18) -> -0.27678571
B19: Cataluña | C19: =SUM(D19:E19) -> 943 | D19: 614 | E19: 329 | F19: 477 | G19: =SUM(H19:I19) -> 927 | H19: 506 | I19: 421 | J19: 526 | K19: =IF(C19=0,"-",(G19-C19)/C19) -> -0.016967126 | L19: =IF(D19=0,"-",(H19-D19)/D19) -> -0.17589577 | M19: =IF(E19=0,"-",(I19-E19)/E19) -> 0.27963526 | N19: =IF(F19=0,"-",(J19-F19)/F19) -> 0.10272537
B20: Comunitat Valenciana | C20: =SUM(D20:E20) -> 747 | D20: 486 | E20: 261 | F20: 263 | G20: =SUM(H20:I20) -> 761 | H20: 462 | I20: 299 | J20: 263 | K20: =IF(C20=0,"-",(G20-C20)/C20) -> 0.018741633 | L20: =IF(D20=0,"-",(H20-D20)/D20) -> -0.049382716 | M20: =IF(E20=0,"-",(I20-E20)/E20) -> 0.14559387 | N20: =IF(F20=0,"-",(J20-F20)/F20) -> 0
B21: Extremadura | C21: =SUM(D21:E21) -> 103 | D21: 78 | E21: 25 | F21: 12 | G21: =SUM(H21:I21) -> 143 | H21: 117 | I21: 26 | J21: 15 | K21: =IF(C21=0,"-",(G21-C21)/C21) -> 0.38834951 | L21: =IF(D21=0,"-",(H21-D21)/D21) -> 0.5 | M21: =IF(E21=0,"-",(I21-E21)/E21) -> 0.04 | N21: =IF(F21=0,"-",(J21-F21)/F21) -> 0.25
B22: Galicia | C22: =SUM(D22:E22) -> 271 | D22: 153 | E22: 118 | F22: 89 | G22: =SUM(H22:I22) -> 274 | H22: 200 | I22: 74 | J22: 61 | K22: =IF(C22=0,"-",(G22-C22)/C22) -> 0.011070111 | L22: =IF(D22=0,"-",(H22-D22)/D22) -> 0.30718954 | M22: =IF(E22=0,"-",(I22-E22)/E22) -> -0.37288136 | N22: =IF(F22=0,"-",(J22-F22)/F22) -> -0.31460674
... B27: La Rioja | C27: =SUM(D27:E27) -> 53 | D27: 51 | E27: 2 | F27: 23 | G27: =SUM(H27:I27) -> 54 | H27: 52 | I27: 2 | J27: 21 | K27: =IF(C27=0,"-",(G27-C27)/C27) -> 0.018867925 | L27: =IF(D27=0,"-",(H27-D27)/D27) -> 0.019607843 | M27: =IF(E27=0,"-",(I27-E27)/E27) -> 0 | N27: =IF(F27=0,"-",(J27-F27)/F27) -> -0.086956522
B28: España | C28: =SUM(C11:C27) -> 5971 | D28: =SUM(D11:D27) -> 4060 | E28: =SUM(E11:E27) -> 1911 | F28: =SUM(F11:F27) -> 2277 | G28: =SUM(G11:G27) -> 5931 | H28: =SUM(H11:H27) -> 3948 | I28: =SUM(I11:I27) -> 1983 | J28: =SUM(J11:J27) -> 2328 | K28: =IF(C28=0,"-",(G28-C28)/C28) -> -0.0066990454 | L28: =IF(D28=0,"-",(H28-D28)/D28) -> -0.027586207 | M28: =IF(E28=0,"-",(I28-E28)/E28) -> 0.037676609 | N28: =IF(F28=0,"-",(J28-F28)/F28) -> 0.022397892

Sheet Jdos Menores_Personas Enjuiciad
C9: 2º trimestre 2025 Con Imposición de medidas | F9: 2º trimestre 2025 Sin Imposicion de Medidas | I9: 2º trimestre 2026 Con Imposición de medidas | L9: 2º trimestre 2026 Sin Imposicion de Medidas
C10: Total Menores Enjuiciados | D10: Españoles | E10: Extranjeros | F10: Total Menores Enjuiciados | G10: Españoles | H10: Extranjeros | I10: Total Menores Enjuiciados | J10: Españoles | K10: Extranjeros | L10: Total Menores Enjuiciados | M10: Españoles | N10: Extranjeros
B11: Andalucía | C11: 30 | D11: 28 | E11: 2 | F11: 6 | G11: 5 | H11: 1 | I11: 31 | J11: 26 | K11: 5 | L11: 1 | M11: 0 | N11: 1
B12: Aragón | C12: 2 | D12: 2 | E12: 0 | F12: 0 | G12: 0 | H12: 0 | I12: 4 | J12: 3 | K12: 1 | L12: 0 | M12: 0 | N12: 0
B13: Asturias | C13: 0 | D13: 0 | E13: 0 | F13: 0 | G13: 0 | H13: 0 | I13: 2 | J13: 1 | K13: 1 | L13: 0 | M13: 0 | N13: 0
B14: Illes Balears | C14: 3 | D14: 3 | E14: 0 | F14: 0 | G14: 0 | H14: 0 | I14: 7 | J14: 4 | K14: 3 | L14: 0 | M14: 0 | N14: 0
B15: Canarias | C15: 11 | D15: 8 | E15: 3 | F15: 0 | G15: 0 | H15: 0 | I15: 10 | J15: 10 | K15: 0 | L15: 0 | M15: 0 | N15: 0
B16: Cantabria | C16: 0 | D16: 0 | E16: 0 | F16: 0 | G16: 0 | H16: 0 | I16: 1 | J16: 1 | K16: 0 | L16: 1 | M16: 1 | N16: 0
B17: Castilla y León | C17: 3 | D17: 3 | E17: 0 | F17: 1 | G17: 1 | H17: 0 | I17: 7 | J17: 6 | K17: 1 | L17: 0 | M17: 0 | N17: 0
B18: Castilla-La Mancha | C18: 3 | D18: 2 | E18: 1 | F18: 0 | G18: 0 | H18: 0 | I18: 7 | J18: 7 | K18: 0 | L18: 1 | M18: 1 | N18: 0
B19: Cataluña | C19: 10 | D19: 8 | E19: 2 | F19: 0 | G19: 0 | H19: 0 | I19: 8 | J19: 4 | K19: 4 | L19: 1 | M19: 1 | N19: 0
B20: Comunitat Valenciana | C20: 20 | D20: 20 | E20: 0 | F20: 0 | G20: 0 | H20: 0 | I20: 15 | J20: 13 | K20: 2 | L20: 1 | M20: 1 | N20: 0
B21: Extremadura | C21: 8 | D21: 8 | E21: 0 | F21: 0 | G21: 0 | H21: 0 | I21: 1 | J21: 0 | K21: 1 | L21: 0 | M21: 0 | N21: 0
B22: Galicia | C22: 6 | D22: 4 | E22: 2 | F22: 1 | G22: 1 | H22: 0 | I22: 4 | J22: 4 | K22: 0 | L22: 2 | M22: 2 | N22: 0
... B27: La Rioja | C27: 0 | D27: 0 | E27: 0 | F27: 0 | G27: 0 | H27: 0 | I27: 2 | J27: 2 | K27: 0 | L27: 0 | M27: 0 | N27: 0
B28: España | C28: =SUM(C11:C27) -> 117 | D28: =SUM(D11:D27) -> 103 | E28: =SUM(E11:E27) -> 14 | F28: =SUM(F11:F27) -> 10 | G28: =SUM(G11:G27) -> 8 | H28: =SUM(H11:H27) -> 2 | I28: =SUM(I11:I27) -> 114 | J28: =SUM(J11:J27) -> 93 | ... N28: =SUM(N11:N27) -> 2
C32: Evolución 2º trimestre 2026/2º trimestre 2025 Con Imposición de medidas | F32: Evolución 2º trimestre 2026/2º trimestre 2025 Sin Imposición de medidas
C33: Total Menores Enjuiciados | D33: Españoles | E33: Extranjeros | F33: Total Menores Enjuiciados | G33: Españoles | H33: Extranjeros
B34: Andalucía | C34: =IF(C11=0,"-",IF(I11=0,"-",(I11-C11)/C11)) -> 0.033333333 | D34: =IF(D11=0,"-",IF(J11=0,"-",(J11-D11)/D11)) -> -0.071428571 | E34: =IF(E11=0,"-",IF(K11=0,"-",(K11-E11)/E11)) -> 1.5 | F34: =IF(F11=0,"-",IF(L11=0,"-",(L11-F11)/F11)) -> -0.83333333 | G34: =IF(G11=0,"-",IF(M11=0,"-",(M11-G11)/G11)) -> - | H34: =IF(H11=0,"-",IF(N11=0,"-",(N11-H11)/H11)) -> 0
B35: Aragón | C35: =IF(C12=0,"-",IF(I12=0,"-",(I12-C12)/C12)) -> 1 | D35: =IF(D12=0,"-",IF(J12=0,"-",(J12-D12)/D12)) -> 0.5 | E35: =IF(E12=0,"-",IF(K12=0,"-",(K12-E12)/E12)) -> - | F35: =IF(F12=0,"-",IF(L12=0,"-",(L12-F12)/F12)) -> - | G35: =IF(G12=0,"-",IF(M12=0,"-",(M12-G12)/G12)) -> - | H35: =IF(H12=0,"-",IF(N12=0,"-",(N12-H12)/H12)) -> -
B36: Asturias | C36: =IF(C13=0,"-",IF(I13=0,"-",(I13-C13)/C13)) -> - | D36: =IF(D13=0,"-",IF(J13=0,"-",(J13-D13)/D13)) -> - | E36: =IF(E13=0,"-",IF(K13=0,"-",(K13-E13)/E13)) -> - | F36: =IF(F13=0,"-",IF(L13=0,"-",(L13-F13)/F13)) -> - | G36: =IF(G13=0,"-",IF(M13=0,"-",(M13-G13)/G13)) -> - | H36: =IF(H13=0,"-",IF(N13=0,"-",(N13-H13)/H13)) -> -
B37: Illes Balears | C37: =IF(C14=0,"-",IF(I14=0,"-",(I14-C14)/C14)) -> 1.3333333 | D37: =IF(D14=0,"-",IF(J14=0,"-",(J14-D14)/D14)) -> 0.33333333 | E37: =IF(E14=0,"-",IF(K14=0,"-",(K14-E14)/E14)) -> - | F37: =IF(F14=0,"-",IF(L14=0,"-",(L14-F14)/F14)) -> - | G37: =IF(G14=0,"-",IF(M14=0,"-",(M14-G14)/G14)) -> - | H37: =IF(H14=0,"-",IF(N14=0,"-",(N14-H14)/H14)) -> -
B38: Canarias | C38: =IF(C15=0,"-",IF(I15=0,"-",(I15-C15)/C15)) -> -0.090909091 | D38: =IF(D15=0,"-",IF(J15=0,"-",(J15-D15)/D15)) -> 0.25 | E38: =IF(E15=0,"-",IF(K15=0,"-",(K15-E15)/E15)) -> - | F38: =IF(F15=0,"-",IF(L15=0,"-",(L15-F15)/F15)) -> - | G38: =IF(G15=0,"-",IF(M15=0,"-",(M15-G15)/G15)) -> - | H38: =IF(H15=0,"-",IF(N15=0,"-",(N15-H15)/H15)) -> -
B39: Cantabria | C39: =IF(C16=0,"-",IF(I16=0,"-",(I16-C16)/C16)) -> - | D39: =IF(D16=0,"-",IF(J16=0,"-",(J16-D16)/D16)) -> - | E39: =IF(E16=0,"-",IF(K16=0,"-",(K16-E16)/E16)) -> - | F39: =IF(F16=0,"-",IF(L16=0,"-",(L16-F16)/F16)) -> - | G39: =IF(G16=0,"-",IF(M16=0,"-",(M16-G16)/G16)) -> - | H39: =IF(H16=0,"-",IF(N16=0,"-",(N16-H16)/H16)) -> -
B40: Castilla y León | C40: =IF(C17=0,"-",IF(I17=0,"-",(I17-C17)/C17)) -> 1.3333333 | D40: =IF(D17=0,"-",IF(J17=0,"-",(J17-D17)/D17)) -> 1 | E40: =IF(E17=0,"-",IF(K17=0,"-",(K17-E17)/E17)) -> - | F40: =IF(F17=0,"-",IF(L17=0,"-",(L17-F17)/F17)) -> - | G40: =IF(G17=0,"-",IF(M17=0,"-",(M17-G17)/G17)) -> - | H40: =IF(H17=0,"-",IF(N17=0,"-",(N17-H17)/H17)) -> -
B41: Castilla-La Mancha | C41: =IF(C18=0,"-",IF(I18=0,"-",(I18-C18)/C18)) -> 1.3333333 | D41: =IF(D18=0,"-",IF(J18=0,"-",(J18-D18)/D18)) -> 2.5 | E41: =IF(E18=0,"-",IF(K18=0,"-",(K18-E18)/E18)) -> - | F41: =IF(F18=0,"-",IF(L18=0,"-",(L18-F18)/F18)) -> - | G41: =IF(G18=0,"-",IF(M18=0,"-",(M18-G18)/G18)) -> - | H41: =IF(H18=0,"-",IF(N18=0,"-",(N18-H18)/H18)) -> -
B42: Cataluña | C42: =IF(C19=0,"-",IF(I19=0,"-",(I19-C19)/C19)) -> -0.2 | D42: =IF(D19=0,"-",IF(J19=0,"-",(J19-D19)/D19)) -> -0.5 | E42: =IF(E19=0,"-",IF(K19=0,"-",(K19-E19)/E19)) -> 1 | F42: =IF(F19=0,"-",IF(L19=0,"-",(L19-F19)/F19)) -> - | G42: =IF(G19=0,"-",IF(M19=0,"-",(M19-G19)/G19)) -> - | H42: =IF(H19=0,"-",IF(N19=0,"-",(N19-H19)/H19)) -> -
B43: Comunitat Valenciana | C43: =IF(C20=0,"-",IF(I20=0,"-",(I20-C20)/C20)) -> -0.25 | D43: =IF(D20=0,"-",IF(J20=0,"-",(J20-D20)/D20)) -> -0.35 | E43: =IF(E20=0,"-",IF(K20=0,"-",(K20-E20)/E20)) -> - | F43: =IF(F20=0,"-",IF(L20=0,"-",(L20-F20)/F20)) -> - | G43: =IF(G20=0,"-",IF(M20=0,"-",(M20-G20)/G20)) -> - | H43: =IF(H20=0,"-",IF(N20=0,"-",(N20-H20)/H20)) -> -
B44: Extremadura | C44: =IF(C21=0,"-",IF(I21=0,"-",(I21-C21)/C21)) -> -0.875 | D44: =IF(D21=0,"-",IF(J21=0,"-",(J21-D21)/D21)) -> - | E44: =IF(E21=0,"-",IF(K21=0,"-",(K21-E21)/E21)) -> - | F44: =IF(F21=0,"-",IF(L21=0,"-",(L21-F21)/F21)) -> - | G44: =IF(G21=0,"-",IF(M21=0,"-",(M21-G21)/G21)) -> - | H44: =IF(H21=0,"-",IF(N21=0,"-",(N21-H21)/H21)) -> -
B45: Galicia | C45: =IF(C22=0,"-",IF(I22=0,"-",(I22-C22)/C22)) -> -0.33333333 | D45: =IF(D22=0,"-",IF(J22=0,"-",(J22-D22)/D22)) -> 0 | E45: =IF(E22=0,"-",IF(K22=0,"-",(K22-E22)/E22)) -> - | F45: =IF(F22=0,"-",IF(L22=0,"-",(L22-F22)/F22)) -> 1 | G45: =IF(G22=0,"-",IF(M22=0,"-",(M22-G22)/G22)) -> 1 | H45: =IF(H22=0,"-",IF(N22=0,"-",(N22-H22)/H22)) -> -
... B51: España | C51: =IF(C28=0,"-",IF(I28=0,"-",(I28-C28)/C28)) -> -0.025641026 | D51: =IF(D28=0,"-",IF(J28=0,"-",(J28-D28)/D28)) -> -0.097087379 | E51: =IF(E28=0,"-",IF(K28=0,"-",(K28-E28)/E28)) -> 0.5 | F51: =IF(F28=0,"-",IF(L28=0,"-",(L28-F28)/F28)) -> 0.1 | G51: =IF(G28=0,"-",IF(M28=0,"-",(M28-G28)/G28)) -> 0.125 | H51: =IF(H28=0,"-",IF(N28=0,"-",(N28-H28)/H28)) -> 0

Sheet Jdos Menores_Sentencias
C9: 2º trimestre 2025 | G9: 2º trimestre 2026
C10: TOTAL Sentencias Por delitos | D10: Sentencias Con imposicion de medidas | E10: Sentencias Sin imposicion de medidas | F10: Sentencias previa conformidad | G10: TOTAL Sentencias Por delitos | H10: Sentencias Con imposicion de medidas | I10: Sentencias Sin imposicion de medidas | J10: Sentencias previa conformidad
B11: Andalucía | C11: =SUM(D11:E11) -> 36 | D11: 29 | E11: 7 | F11: 20 | G11: =SUM(H11:I11) -> 31 | H11: 31 | I11: 0 | J11: 21
B12: Aragón | C12: =SUM(D12:E12) -> 2 | D12: 2 | E12: 0 | F12: 2 | G12: =SUM(H12:I12) -> 4 | H12: 4 | I12: 0 | J12: 1
B13: Asturias | C13: =SUM(D13:E13) -> 0 | D13: 0 | E13: 0 | F13: 0 | G13: =SUM(H13:I13) -> 1 | H13: 1 | I13: 0 | J13: 0
B14: Illes Balears | C14: =SUM(D14:E14) -> 3 | D14: 3 | E14: 0 | F14: 1 | G14: =SUM(H14:I14) -> 7 | H14: 6 | I14: 1 | J14: 4
B15: Canarias | C15: =SUM(D15:E15) -> 11 | D15: 11 | E15: 0 | F15: 11 | G15: =SUM(H15:I15) -> 9 | H15: 9 | I15: 0 | J15: 8
B16: Cantabria | C16: =SUM(D16:E16) -> 0 | D16: 0 | E16: 0 | F16: 0 | G16: =SUM(H16:I16) -> 2 | H16: 1 | I16: 1 | J16: 1
B17: Castilla y León | C17: =SUM(D17:E17) -> 4 | D17: 3 | E17: 1 | F17: 1 | G17: =SUM(H17:I17) -> 7 | H17: 7 | I17: 0 | J17: 3
B18: Castilla-La Mancha | C18: =SUM(D18:E18) -> 3 | D18: 3 | E18: 0 | F18: 3 | G18: =SUM(H18:I18) -> 8 | H18: 7 | I18: 1 | J18: 7
B19: Cataluña | C19: =SUM(D19:E19) -> 10 | D19: 10 | E19: 0 | F19: 8 | G19: =SUM(H19:I19) -> 9 | H19: 8 | I19: 1 | J19: 8
B20: Comunitat Valenciana | C20: =SUM(D20:E20) -> 20 | D20: 20 | E20: 0 | F20: 16 | G20: =SUM(H20:I20) -> 16 | H20: 15 | I20: 1 | J20: 13
B21: Extremadura | C21: =SUM(D21:E21) -> 8 | D21: 7 | E21: 1 | F21: 5 | G21: =SUM(H21:I21) -> 1 | H21: 1 | I21: 0 | J21: 1
B22: Galicia | C22: =SUM(D22:E22) -> 7 | D22: 6 | E22: 1 | F22: 5 | G22: =SUM(H22:I22) -> 6 | H22: 4 | I22: 2 | J22: 3
... B27: La Rioja | C27: =SUM(D27:E27) -> 0 | D27: 0 | E27: 0 | F27: 0 | G27: =SUM(H27:I27) -> 2 | H27: 1 | I27: 1 | J27: 1
B28: España | C28: =SUM(C11:C27) -> 127 | D28: =SUM(D11:D27) -> 115 | E28: =SUM(E11:E27) -> 12 | F28: =SUM(F11:F27) -> 92 | G28: =SUM(G11:G27) -> 122 | H28: =SUM(H11:H27) -> 110 | I28: =SUM(I11:I27) -> 12 | J28: =SUM(J11:J27) -> 83
C32: Evolución 2º trimestre 2026/2º trimestre 2025
C33: Total Sentencias por Delitos | D33: Sentencias con Imposición de Medidas | E33: Sentencias sin Imposición de Medidas | F33: Sentencias previa conformidad
B34: Andalucía | C34: =IF(C11=0,"-",IF(G11=0,"-",(G11-C11)/C11)) -> -0.13888889 | D34: =IF(D11=0,"-",IF(H11=0,"-",(H11-D11)/D11)) -> 0.068965517 | E34: =IF(E11=0,"-",IF(I11=0,"-",(I11-E11)/E11)) -> - | F34: =IF(F11=0,"-",IF(J11=0,"-",(J11-F11)/F11)) -> 0.05
B35: Aragón | C35: =IF(C12=0,"-",IF(G12=0,"-",(G12-C12)/C12)) -> 1 | D35: =IF(D12=0,"-",IF(H12=0,"-",(H12-D12)/D12)) -> 1 | E35: =IF(E12=0,"-",IF(I12=0,"-",(I12-E12)/E12)) -> - | F35: =IF(F12=0,"-",IF(J12=0,"-",(J12-F12)/F12)) -> -0.5
B36: Asturias | C36: =IF(C13=0,"-",IF(G13=0,"-",(G13-C13)/C13)) -> - | D36: =IF(D13=0,"-",IF(H13=0,"-",(H13-D13)/D13)) -> - | E36: =IF(E13=0,"-",IF(I13=0,"-",(I13-E13)/E13)) -> - | F36: =IF(F13=0,"-",IF(J13=0,"-",(J13-F13)/F13)) -> -
B37: Illes Balears | C37: =IF(C14=0,"-",IF(G14=0,"-",(G14-C14)/C14)) -> 1.3333333 | D37: =IF(D14=0,"-",IF(H14=0,"-",(H14-D14)/D14)) -> 1 | E37: =IF(E14=0,"-",IF(I14=0,"-",(I14-E14)/E14)) -> - | F37: =IF(F14=0,"-",IF(J14=0,"-",(J14-F14)/F14)) -> 3
B38: Canarias | C38: =IF(C15=0,"-",IF(G15=0,"-",(G15-C15)/C15)) -> -0.18181818 | D38: =IF(D15=0,"-",IF(H15=0,"-",(H15-D15)/D15)) -> -0.18181818 | E38: =IF(E15=0,"-",IF(I15=0,"-",(I15-E15)/E15)) -> - | F38: =IF(F15=0,"-",IF(J15=0,"-",(J15-F15)/F15)) -> -0.27272727
B39: Cantabria | C39: =IF(C16=0,"-",IF(G16=0,"-",(G16-C16)/C16)) -> - | D39: =IF(D16=0,"-",IF(H16=0,"-",(H16-D16)/D16)) -> - | E39: =IF(E16=0,"-",IF(I16=0,"-",(I16-E16)/E16)) -> - | F39: =IF(F16=0,"-",IF(J16=0,"-",(J16-F16)/F16)) -> -
B40: Castilla y León | C40: =IF(C17=0,"-",IF(G17=0,"-",(G17-C17)/C17)) -> 0.75 | D40: =IF(D17=0,"-",IF(H17=0,"-",(H17-D17)/D17)) -> 1.3333333 | E40: =IF(E17=0,"-",IF(I17=0,"-",(I17-E17)/E17)) -> - | F40: =IF(F17=0,"-",IF(J17=0,"-",(J17-F17)/F17)) -> 2
B41: Castilla-La Mancha | C41: =IF(C18=0,"-",IF(G18=0,"-",(G18-C18)/C18)) -> 1.6666667 | D41: =IF(D18=0,"-",IF(H18=0,"-",(H18-D18)/D18)) -> 1.3333333 | E41: =IF(E18=0,"-",IF(I18=0,"-",(I18-E18)/E18)) -> - | F41: =IF(F18=0,"-",IF(J18=0,"-",(J18-F18)/F18)) -> 1.3333333
B42: Cataluña | C42: =IF(C19=0,"-",IF(G19=0,"-",(G19-C19)/C19)) -> -0.1 | D42: =IF(D19=0,"-",IF(H19=0,"-",(H19-D19)/D19)) -> -0.2 | E42: =IF(E19=0,"-",IF(I19=0,"-",(I19-E19)/E19)) -> - | F42: =IF(F19=0,"-",IF(J19=0,"-",(J19-F19)/F19)) -> 0
B43: Comunitat Valenciana | C43: =IF(C20=0,"-",IF(G20=0,"-",(G20-C20)/C20)) -> -0.2 | D43: =IF(D20=0,"-",IF(H20=0,"-",(H20-D20)/D20)) -> -0.25 | E43: =IF(E20=0,"-",IF(I20=0,"-",(I20-E20)/E20)) -> - | F43: =IF(F20=0,"-",IF(J20=0,"-",(J20-F20)/F20)) -> -0.1875
B44: Extremadura | C44: =IF(C21=0,"-",IF(G21=0,"-",(G21-C21)/C21)) -> -0.875 | D44: =IF(D21=0,"-",IF(H21=0,"-",(H21-D21)/D21)) -> -0.85714286 | E44: =IF(E21=0,"-",IF(I21=0,"-",(I21-E21)/E21)) -> - | F44: =IF(F21=0,"-",IF(J21=0,"-",(J21-F21)/F21)) -> -0.8
B45: Galicia | C45: =IF(C22=0,"-",IF(G22=0,"-",(G22-C22)/C22)) -> -0.14285714 | D45: =IF(D22=0,"-",IF(H22=0,"-",(H22-D22)/D22)) -> -0.33333333 | E45: =IF(E22=0,"-",IF(I22=0,"-",(I22-E22)/E22)) -> 1 | F45: =IF(F22=0,"-",IF(J22=0,"-",(J22-F22)/F22)) -> -0.4
... B51: España | C51: =IF(C28=0,"-",IF(G28=0,"-",(G28-C28)/C28)) -> -0.039370079 | D51: =IF(D28=0,"-",IF(H28=0,"-",(H28-D28)/D28)) -> -0.043478261 | E51: =IF(E28=0,"-",IF(I28=0,"-",(I28-E28)/E28)) -> 0 | F51: =IF(F28=0,"-",IF(J28=0,"-",(J28-F28)/F28)) -> -0.097826087

Sheet Jdos Guardia_Asuntos
C13: 2º trimestre 2025 | I13: 2º trimestre 2026 | O13: Evolución 2º trimestre 2026/2º trimestre 2025
C14: Asuntos ingresados | D14: Con medidas | F14: Sin medidas | G14: Remitidas al J.V.S.M | H14: Pendientes final trimestre | I14: Asuntos ingresados | J14: Con medidas | L14: Sin medidas | M14: Remitidas al J.V.S.M | N14: Pendientes final trimestre | O14: Asuntos ingresados | P14: Con medidas | R14: Sin medidas | S14: Remitidas al J.V.S.M | T14: Pendientes final trimestre
D15: De O.P. | E15: De Resto | J15: De O.P. | K15: De Resto | P15: De O.P. | Q15: De Resto
B16: Andalucía | C16: 607 | D16: 267 | E16: 110 | F16: 230 | G16: 606 | H16: 1 | I16: 663 | J16: 234 | K16: 156 | L16: 273 | M16: 663 | N16: 0 | O16: =IF(C16=0,"-",(I16-C16)/C16) -> 0.092257002 | P16: =IF(D16=0,"-",(J16-D16)/D16) -> -0.12359551 | Q16: =IF(E16=0,"-",(K16-E16)/E16) -> 0.41818182 | R16: =IF(F16=0,"-",(L16-F16)/F16) -> 0.18695652 | S16: =IF(G16=0,"-",(M16-G16)/G16) -> 0.094059406 | T16: =IF(H16=0,"-",(N16-H16)/H16) -> -1
B17: Aragón | C17: 304 | D17: 92 | E17: 31 | F17: 181 | G17: 304 | H17: 0 | I17: 86 | J17: 4 | K17: 18 | L17: 64 | M17: 86 | N17: 0 | O17: =IF(C17=0,"-",(I17-C17)/C17) -> -0.71710526 | P17: =IF(D17=0,"-",(J17-D17)/D17) -> -0.95652174 | Q17: =IF(E17=0,"-",(K17-E17)/E17) -> -0.41935484 | R17: =IF(F17=0,"-",(L17-F17)/F17) -> -0.64640884 | S17: =IF(G17=0,"-",(M17-G17)/G17) -> -0.71710526 | T17: =IF(H17=0,"-",(N17-H17)/H17) -> -
B18: Asturias | C18: 137 | D18: 45 | E18: 49 | F18: 43 | G18: 137 | H18: 0 | I18: 202 | J18: 55 | K18: 12 | L18: 135 | M18: 202 | N18: 0 | O18: =IF(C18=0,"-",(I18-C18)/C18) -> 0.47445255 | P18: =IF(D18=0,"-",(J18-D18)/D18) -> 0.22222222 | Q18: =IF(E18=0,"-",(K18-E18)/E18) -> -0.75510204 | R18: =IF(F18=0,"-",(L18-F18)/F18) -> 2.1395349 | S18: =IF(G18=0,"-",(M18-G18)/G18) -> 0.47445255 | T18: =IF(H18=0,"-",(N18-H18)/H18) -> -
